BEGIN:VCALENDAR
VERSION:2.0
PRODID:-//Lemontree  - ECPv6.0.5//NONSGML v1.0//EN
CALSCALE:GREGORIAN
METHOD:PUBLISH
X-ORIGINAL-URL:https://research.reading.ac.uk/lemontree
X-WR-CALDESC:Events for Lemontree 
REFRESH-INTERVAL;VALUE=DURATION:PT1H
X-Robots-Tag:noindex
X-PUBLISHED-TTL:PT1H
BEGIN:VTIMEZONE
TZID:Europe/London
BEGIN:DAYLIGHT
TZOFFSETFROM:+0000
TZOFFSETTO:+0100
TZNAME:BST
DTSTART:20250330T010000
END:DAYLIGHT
BEGIN:STANDARD
TZOFFSETFROM:+0100
TZOFFSETTO:+0000
TZNAME:GMT
DTSTART:20251026T010000
END:STANDARD
END:VTIMEZONE
BEGIN:VEVENT
DTSTART;VALUE=DATE:20250610
DTEND;VALUE=DATE:20250613
DTSTAMP:20260422T002530
CREATED:20250520T110242Z
LAST-MODIFIED:20250520T110242Z
UID:2475-1749513600-1749772799@research.reading.ac.uk
SUMMARY:Fire-Vegetation Interactions Working Group Meeting
DESCRIPTION:
URL:https://research.reading.ac.uk/lemontree/event/fire-vegetation-interactions-working-group-meeting-5/
END:VEVENT
BEGIN:VEVENT
DTSTART;TZID=Europe/London:20250612T130000
DTEND;TZID=Europe/London:20250612T140000
DTSTAMP:20260422T002530
CREATED:20250520T110310Z
LAST-MODIFIED:20250520T110310Z
UID:2477-1749733200-1749736800@research.reading.ac.uk
SUMMARY:PI Meeting
DESCRIPTION:
URL:https://research.reading.ac.uk/lemontree/event/pi-meeting/
END:VEVENT
BEGIN:VEVENT
DTSTART;TZID=Europe/London:20250619T130000
DTEND;TZID=Europe/London:20250619T140000
DTSTAMP:20260422T002530
CREATED:20250520T110340Z
LAST-MODIFIED:20250520T110340Z
UID:2479-1750338000-1750341600@research.reading.ac.uk
SUMMARY:Implementation Working Group Meeting
DESCRIPTION:
URL:https://research.reading.ac.uk/lemontree/event/implementation-working-group-meeting-2/
END:VEVENT
BEGIN:VEVENT
DTSTART;VALUE=DATE:20250825
DTEND;VALUE=DATE:20250829
DTSTAMP:20260422T002530
CREATED:20250228T163341Z
LAST-MODIFIED:20250228T163341Z
UID:2320-1756080000-1756425599@research.reading.ac.uk
SUMMARY:LEMONTREE Annual Meeting
DESCRIPTION:The LEMONTREE Annual Meeting will this year be held in Seoul\, South Korea\, hosted by our partner institution\, SNU. The meeting brings together PIs and students alike for discussions on research progress\, overlapping tasks and brainstorming for the future.
URL:https://research.reading.ac.uk/lemontree/event/lemontree-annual-meeting/
END:VEVENT
BEGIN:VEVENT
DTSTART;VALUE=DATE:20250828
DTEND;VALUE=DATE:20250830
DTSTAMP:20260422T002530
CREATED:20250228T163500Z
LAST-MODIFIED:20250228T163500Z
UID:2322-1756339200-1756511999@research.reading.ac.uk
SUMMARY:LEMONTREE Summer School
DESCRIPTION:The LEMONTREE summer school is a training program designed for the LEMONTREE ECRs. It is designed by the ECRs for the ECRs. This year will be the second year the summer school has run and we are delighted that our partner SNU\, in South Korea\, will be hosting it alongside the 2025 annual meeting.
URL:https://research.reading.ac.uk/lemontree/event/lemontree-summer-school/
END:VEVENT
BEGIN:VEVENT
DTSTART;VALUE=DATE:20250917
DTEND;VALUE=DATE:20250920
DTSTAMP:20260422T002530
CREATED:20250228T163112Z
LAST-MODIFIED:20250228T163112Z
UID:2318-1758067200-1758326399@research.reading.ac.uk
SUMMARY:IMFIREDUP 2025
DESCRIPTION:The Fire-Vegetation Working Group will be leading the IMFIREDUP meeting once again this year\, with the collective planning to meet for the second time. The meeting aims to bring together a number of fire modellers working in a vast array of topics\, from plant traits to machine learning\, to discuss the next generation of fire-vegetation models.
URL:https://research.reading.ac.uk/lemontree/event/imfiredup-2025/
END:VEVENT
BEGIN:VEVENT
DTSTART;VALUE=DATE:20250922
DTEND;VALUE=DATE:20250926
DTSTAMP:20260422T002530
CREATED:20250228T163829Z
LAST-MODIFIED:20250228T163829Z
UID:2324-1758499200-1758844799@research.reading.ac.uk
SUMMARY:Energy Partitioning Workshop
DESCRIPTION:LEMONTREE will be hosting the second Energy Partitioning Workshop this year\, after the success of the inaugural workshop last year. Once again\, the group will have the opportunity to dive into the importance of understanding primary productivity through leaf pigments and their role in photosynthesis.
URL:https://research.reading.ac.uk/lemontree/event/energy-partitioning-workshop/
END:VEVENT
END:VCALENDAR