BEGIN:VCALENDAR
VERSION:2.0
PRODID:-//Lemontree  - ECPv6.0.5//NONSGML v1.0//EN
CALSCALE:GREGORIAN
METHOD:PUBLISH
X-WR-CALNAME:Lemontree 
X-ORIGINAL-URL:https://research.reading.ac.uk/lemontree
X-WR-CALDESC:Events for Lemontree 
REFRESH-INTERVAL;VALUE=DURATION:PT1H
X-Robots-Tag:noindex
X-PUBLISHED-TTL:PT1H
BEGIN:VTIMEZONE
TZID:Europe/London
BEGIN:DAYLIGHT
TZOFFSETFROM:+0000
TZOFFSETTO:+0100
TZNAME:BST
DTSTART:20210328T010000
END:DAYLIGHT
BEGIN:STANDARD
TZOFFSETFROM:+0100
TZOFFSETTO:+0000
TZNAME:GMT
DTSTART:20211031T010000
END:STANDARD
BEGIN:DAYLIGHT
TZOFFSETFROM:+0000
TZOFFSETTO:+0100
TZNAME:BST
DTSTART:20220327T010000
END:DAYLIGHT
BEGIN:STANDARD
TZOFFSETFROM:+0100
TZOFFSETTO:+0000
TZNAME:GMT
DTSTART:20221030T010000
END:STANDARD
END:VTIMEZONE
BEGIN:VEVENT
DTSTART;TZID=Europe/London:20220908T140000
DTEND;TZID=Europe/London:20220908T150000
DTSTAMP:20260419T171201
CREATED:20220908T135120Z
LAST-MODIFIED:20220908T135120Z
UID:1329-1662645600-1662649200@research.reading.ac.uk
SUMMARY:Nitrogen Working Group
DESCRIPTION:Nitrogen Working Group meeting convened by Beni Stocker and Sandy Harrison.
URL:https://research.reading.ac.uk/lemontree/event/nitrogen-working-group/
END:VEVENT
BEGIN:VEVENT
DTSTART;TZID=Europe/London:20220824T160000
DTEND;TZID=Europe/London:20220824T170000
DTSTAMP:20260419T171201
CREATED:20220815T123609Z
LAST-MODIFIED:20220815T123609Z
UID:1241-1661356800-1661360400@research.reading.ac.uk
SUMMARY:Update on Flux data preparation - Beni Stocker and Koen Hufkens
DESCRIPTION:
URL:https://research.reading.ac.uk/lemontree/event/update-on-flux-data-preparation-beni-stocker-and-koen-hufkens/
CATEGORIES:Technical Update
END:VEVENT
BEGIN:VEVENT
DTSTART;TZID=Europe/London:20220818T140000
DTEND;TZID=Europe/London:20220818T150000
DTSTAMP:20260419T171201
CREATED:20220307T183700Z
LAST-MODIFIED:20220307T183700Z
UID:801-1660831200-1660834800@research.reading.ac.uk
SUMMARY:Science Meeting - Nitrogen Cycle
DESCRIPTION:
URL:https://research.reading.ac.uk/lemontree/event/science-meeting-nitrogen-cycle/
CATEGORIES:Science Meeting
END:VEVENT
BEGIN:VEVENT
DTSTART;VALUE=DATE:20220721
DTEND;VALUE=DATE:20220723
DTSTAMP:20260419T171201
CREATED:20220310T150132Z
LAST-MODIFIED:20220310T150132Z
UID:834-1658361600-1658534399@research.reading.ac.uk
SUMMARY:LEMONTREE project meeting
DESCRIPTION:LEMONTREE project meeting  – in person and virtual
URL:https://research.reading.ac.uk/lemontree/event/lemontree-project-meeting/
END:VEVENT
BEGIN:VEVENT
DTSTART;VALUE=DATE:20220718
DTEND;VALUE=DATE:20220721
DTSTAMP:20260419T171201
CREATED:20210614T081207Z
LAST-MODIFIED:20210614T081207Z
UID:338-1658102400-1658361599@research.reading.ac.uk
SUMMARY:Mathematical Models in Evolution and Ecology conference
DESCRIPTION:The Mathematical Models in Evolution and Ecology conference will be held in Reading\, Monday 18th to Wednesday 20th July 2022.
URL:https://research.reading.ac.uk/lemontree/event/mathematical-models-in-evolution-and-ecology-conference/
LOCATION:Reading
END:VEVENT
BEGIN:VEVENT
DTSTART;TZID=Europe/London:20220714T140000
DTEND;TZID=Europe/London:20220714T150000
DTSTAMP:20260419T171201
CREATED:20220310T144847Z
LAST-MODIFIED:20220310T144847Z
UID:812-1657807200-1657810800@research.reading.ac.uk
SUMMARY:LEMONTREE PI Meeting - July 2022
DESCRIPTION:Regular meeting for all LEMONTREE Principle Investigators
URL:https://research.reading.ac.uk/lemontree/event/lemontree-pi-meeting-july-2022/
END:VEVENT
BEGIN:VEVENT
DTSTART;TZID=Europe/London:20220623T140000
DTEND;TZID=Europe/London:20220623T150000
DTSTAMP:20260419T171201
CREATED:20220307T183607Z
LAST-MODIFIED:20220613T093605Z
UID:799-1655992800-1655996400@research.reading.ac.uk
SUMMARY:Science Meeting - Phenology and phenological strategies
DESCRIPTION:
URL:https://research.reading.ac.uk/lemontree/event/science-meeting-phenology-and-phenological-strategies/
CATEGORIES:Science Meeting
END:VEVENT
BEGIN:VEVENT
DTSTART;TZID=Europe/London:20220617T140000
DTEND;TZID=Europe/London:20220617T150000
DTSTAMP:20260419T171201
CREATED:20220310T145433Z
LAST-MODIFIED:20220615T154101Z
UID:826-1655474400-1655478000@research.reading.ac.uk
SUMMARY:Working Group - Nitrogen
DESCRIPTION:
URL:https://research.reading.ac.uk/lemontree/event/working-group-nitrogen-5/
END:VEVENT
BEGIN:VEVENT
DTSTART;TZID=Europe/London:20220602T140000
DTEND;TZID=Europe/London:20220602T150000
DTSTAMP:20260419T171201
CREATED:20220310T145403Z
LAST-MODIFIED:20220310T145403Z
UID:824-1654178400-1654182000@research.reading.ac.uk
SUMMARY:Working Group - Nitrogen
DESCRIPTION:
URL:https://research.reading.ac.uk/lemontree/event/working-group-nitrogen-4/
END:VEVENT
BEGIN:VEVENT
DTSTART;TZID=Europe/London:20220525T132000
DTEND;TZID=Europe/London:20220525T164000
DTSTAMP:20260419T171201
CREATED:20220307T181955Z
LAST-MODIFIED:20220307T182201Z
UID:783-1653484800-1653496800@research.reading.ac.uk
SUMMARY:Eco-evolutionary Optimality session at EGU  - Wednesday 25th May
DESCRIPTION:LEMONTREE PI’s are convening an EGU session dedicated to exploring the use of optimality approaches in vegetation and land-surface models. \nThe session\, under BG3 Terrestrial Biosciences will be convened by Sandy Harrison\, along with co-conveners: Han Wang\, Hugo de Boer\, Anna Agusti-Panareda. \nThis session is designed to bring together scientists applying EEO approaches to modelling plant behaviour from cellular to community scales\, experimentalists and observationalists developing data sets that can be used to evaluate EEO hypotheses\, and vegetation and land-surface modellers implementing EEO approaches in existing model frameworks.  \nThe session will explore the current state-of-the-art\, as well as ways to move EEO-based approaches forward. The key objective is to bring together researchers from different communities working on EEO principles\, promoting scientific exchanges that are much needed to develop robust\, reliable and realistic next-generation Earth System Models. \nWe look forward to seeing you there! \n 
URL:https://research.reading.ac.uk/lemontree/event/eco-optimality-session-at-egu-wednesday-25th-may/
LOCATION:https://egu22.eu/register_and_venue/venue.html\, Austria
END:VEVENT
BEGIN:VEVENT
DTSTART;TZID=Europe/London:20220519T140000
DTEND;TZID=Europe/London:20220519T150000
DTSTAMP:20260419T171201
CREATED:20220310T144800Z
LAST-MODIFIED:20220310T144800Z
UID:810-1652968800-1652972400@research.reading.ac.uk
SUMMARY:LEMONTREE PI Meeting - May 2022
DESCRIPTION:Regular meeting for all LEMONTREE Principle Investigators
URL:https://research.reading.ac.uk/lemontree/event/lemontree-pi-meeting-may-2022/
END:VEVENT
BEGIN:VEVENT
DTSTART;TZID=Europe/London:20220512T140000
DTEND;TZID=Europe/London:20220512T150000
DTSTAMP:20260419T171201
CREATED:20220307T183508Z
LAST-MODIFIED:20220307T183508Z
UID:797-1652364000-1652367600@research.reading.ac.uk
SUMMARY:Science Meeting - Experiments and data analysis of field observations (2)
DESCRIPTION:
URL:https://research.reading.ac.uk/lemontree/event/science-meeting-experiments-and-data-analysis-of-field-observations-2/
CATEGORIES:Science Meeting
END:VEVENT
BEGIN:VEVENT
DTSTART;TZID=Europe/London:20220505T140000
DTEND;TZID=Europe/London:20220505T150000
DTSTAMP:20260419T171201
CREATED:20220310T145320Z
LAST-MODIFIED:20220310T145320Z
UID:822-1651759200-1651762800@research.reading.ac.uk
SUMMARY:Working Group - Nitrogen
DESCRIPTION:
URL:https://research.reading.ac.uk/lemontree/event/working-group-nitrogen-3/
END:VEVENT
BEGIN:VEVENT
DTSTART;TZID=Europe/London:20220428T090000
DTEND;TZID=Europe/London:20220428T100000
DTSTAMP:20260419T171201
CREATED:20220307T183427Z
LAST-MODIFIED:20220307T183427Z
UID:795-1651136400-1651140000@research.reading.ac.uk
SUMMARY:Science Meeting - Experiments and data analysis of field observations (1)
DESCRIPTION:
URL:https://research.reading.ac.uk/lemontree/event/science-meeting-experiments-and-data-analysis-of-field-observations-1/
CATEGORIES:Science Meeting
END:VEVENT
BEGIN:VEVENT
DTSTART;TZID=Europe/London:20220421T140000
DTEND;TZID=Europe/London:20220421T150000
DTSTAMP:20260419T171201
CREATED:20220310T145246Z
LAST-MODIFIED:20220310T145246Z
UID:820-1650549600-1650553200@research.reading.ac.uk
SUMMARY:Working Group - Nitrogen
DESCRIPTION:
URL:https://research.reading.ac.uk/lemontree/event/working-group-nitrogen-2/
END:VEVENT
BEGIN:VEVENT
DTSTART;TZID=Europe/London:20220414T090000
DTEND;TZID=Europe/London:20220414T100000
DTSTAMP:20260419T171201
CREATED:20220310T145914Z
LAST-MODIFIED:20220310T145914Z
UID:832-1649926800-1649930400@research.reading.ac.uk
SUMMARY:LEMONTREE - Seminar
DESCRIPTION:Intro to Google Earth Engine from Youngryel Ryu and team at SNU
URL:https://research.reading.ac.uk/lemontree/event/lemontree-seminar-3/
END:VEVENT
BEGIN:VEVENT
DTSTART;TZID=Europe/London:20220407T140000
DTEND;TZID=Europe/London:20220407T140000
DTSTAMP:20260419T171201
CREATED:20220310T145201Z
LAST-MODIFIED:20220310T145201Z
UID:818-1649340000-1649340000@research.reading.ac.uk
SUMMARY:Working Group - Nitrogen
DESCRIPTION:
URL:https://research.reading.ac.uk/lemontree/event/working-group-nitrogen/
END:VEVENT
BEGIN:VEVENT
DTSTART;TZID=Europe/London:20220407T090000
DTEND;TZID=Europe/London:20220407T100000
DTSTAMP:20260419T171201
CREATED:20220310T145809Z
LAST-MODIFIED:20220310T145809Z
UID:830-1649322000-1649325600@research.reading.ac.uk
SUMMARY:LEMONTREE - Seminar
DESCRIPTION:Intro to ingestr from Beni Stocker (ETH)
URL:https://research.reading.ac.uk/lemontree/event/lemontree-seminar-2/
END:VEVENT
BEGIN:VEVENT
DTSTART;TZID=Europe/London:20220331T140000
DTEND;TZID=Europe/London:20220331T150000
DTSTAMP:20260419T171201
CREATED:20220310T145659Z
LAST-MODIFIED:20220310T145659Z
UID:828-1648735200-1648738800@research.reading.ac.uk
SUMMARY:LEMONTREE - Seminar
DESCRIPTION:Intro to Pangeo from Pierre Gentine (Columbia)
URL:https://research.reading.ac.uk/lemontree/event/lemontree-seminar/
END:VEVENT
BEGIN:VEVENT
DTSTART;TZID=Europe/London:20220324T140000
DTEND;TZID=Europe/London:20220324T150000
DTSTAMP:20260419T171201
CREATED:20220307T183200Z
LAST-MODIFIED:20220307T183255Z
UID:792-1648130400-1648134000@research.reading.ac.uk
SUMMARY:Science meeting - progress on remote sensing and flux tower data kits (2)
DESCRIPTION:
URL:https://research.reading.ac.uk/lemontree/event/science-meeting-progress-on-remote-sensing-and-flux-tower-data-kits-2/
CATEGORIES:Science Meeting
END:VEVENT
BEGIN:VEVENT
DTSTART;TZID=Europe/London:20220317T140000
DTEND;TZID=Europe/London:20220317T150000
DTSTAMP:20260419T171201
CREATED:20220310T144634Z
LAST-MODIFIED:20220310T144634Z
UID:807-1647525600-1647529200@research.reading.ac.uk
SUMMARY:LEMONTREE PI meeting - March 2022
DESCRIPTION:Regular meeting for all the LEMONTREE Principle Investigators
URL:https://research.reading.ac.uk/lemontree/event/lemontree-pi-meeting-march-2022/
CATEGORIES:PI Meeting
END:VEVENT
BEGIN:VEVENT
DTSTART;TZID=Europe/London:20220217T140000
DTEND;TZID=Europe/London:20220217T150000
DTSTAMP:20260419T171201
CREATED:20220307T183018Z
LAST-MODIFIED:20220307T183018Z
UID:790-1645106400-1645110000@research.reading.ac.uk
SUMMARY:Science Meeting - Progress on remote sensing and flux tower data kits
DESCRIPTION:
URL:https://research.reading.ac.uk/lemontree/event/science-meeting-progress-on-remote-sensing-and-flux-tower-data-kits/
END:VEVENT
BEGIN:VEVENT
DTSTART;TZID=Europe/London:20211216T090000
DTEND;TZID=Europe/London:20211216T100000
DTSTAMP:20260419T171201
CREATED:20210617T100022Z
LAST-MODIFIED:20210617T100022Z
UID:399-1639645200-1639648800@research.reading.ac.uk
SUMMARY:Science Meeting - Optimality in a modelling context
DESCRIPTION:
URL:https://research.reading.ac.uk/lemontree/event/science-meeting-optimality-in-a-modelling-context/
END:VEVENT
BEGIN:VEVENT
DTSTART;TZID=Europe/London:20211118T160000
DTEND;TZID=Europe/London:20211118T170000
DTSTAMP:20260419T171201
CREATED:20210617T095918Z
LAST-MODIFIED:20210617T095918Z
UID:397-1637251200-1637254800@research.reading.ac.uk
SUMMARY:Science Meeting - Flux data and acclimation
DESCRIPTION:
URL:https://research.reading.ac.uk/lemontree/event/science-meeting-flux-data-and-acclimation/
END:VEVENT
BEGIN:VEVENT
DTSTART;TZID=Europe/London:20211104T140000
DTEND;TZID=Europe/London:20211104T150000
DTSTAMP:20260419T171201
CREATED:20210617T095108Z
LAST-MODIFIED:20210617T095108Z
UID:385-1636034400-1636038000@research.reading.ac.uk
SUMMARY:LEMONTREE PI meeting (internal)
DESCRIPTION:
URL:https://research.reading.ac.uk/lemontree/event/lemontree-pi-meeting-internal-3/
END:VEVENT
BEGIN:VEVENT
DTSTART;TZID=Europe/London:20211021T090000
DTEND;TZID=Europe/London:20211021T100000
DTSTAMP:20260419T171201
CREATED:20210617T095838Z
LAST-MODIFIED:20210617T095838Z
UID:395-1634806800-1634810400@research.reading.ac.uk
SUMMARY:Science Meeting - Controls on Traits
DESCRIPTION:
URL:https://research.reading.ac.uk/lemontree/event/science-meeting-controls-on-traits/
END:VEVENT
BEGIN:VEVENT
DTSTART;TZID=Europe/London:20210916T160000
DTEND;TZID=Europe/London:20210916T170000
DTSTAMP:20260419T171201
CREATED:20210617T095741Z
LAST-MODIFIED:20210617T095741Z
UID:393-1631808000-1631811600@research.reading.ac.uk
SUMMARY:Science Meeting - Towards implementing P in LSM/hydrology models
DESCRIPTION:
URL:https://research.reading.ac.uk/lemontree/event/science-meeting-towards-implementing-p-in-lsm-hydrology-models/
END:VEVENT
BEGIN:VEVENT
DTSTART;TZID=Europe/London:20210729T140000
DTEND;TZID=Europe/London:20210729T150000
DTSTAMP:20260419T171201
CREATED:20210617T095043Z
LAST-MODIFIED:20210617T095043Z
UID:383-1627567200-1627570800@research.reading.ac.uk
SUMMARY:LEMONTREE PI meeting (internal)
DESCRIPTION:
URL:https://research.reading.ac.uk/lemontree/event/lemontree-pi-meeting-internal-2/
END:VEVENT
BEGIN:VEVENT
DTSTART;TZID=Europe/London:20210715T090000
DTEND;TZID=Europe/London:20210715T100000
DTSTAMP:20260419T171201
CREATED:20210617T095656Z
LAST-MODIFIED:20210617T095656Z
UID:391-1626339600-1626343200@research.reading.ac.uk
SUMMARY:Science Meeting - Hydraulic Strategies
DESCRIPTION:
URL:https://research.reading.ac.uk/lemontree/event/science-meeting-hydraulic-strategies/
END:VEVENT
BEGIN:VEVENT
DTSTART;TZID=Europe/London:20210617T160000
DTEND;TZID=Europe/London:20210617T170000
DTSTAMP:20260419T171201
CREATED:20210617T095527Z
LAST-MODIFIED:20210617T095527Z
UID:389-1623945600-1623949200@research.reading.ac.uk
SUMMARY:Science meeting - Experiments and Observations
DESCRIPTION:
URL:https://research.reading.ac.uk/lemontree/event/science-meeting-experiments-and-observations/
END:VEVENT
END:VCALENDAR