BEGIN:VCALENDAR
VERSION:2.0
PRODID:-//Lemontree  - ECPv6.0.5//NONSGML v1.0//EN
CALSCALE:GREGORIAN
METHOD:PUBLISH
X-WR-CALNAME:Lemontree 
X-ORIGINAL-URL:https://research.reading.ac.uk/lemontree
X-WR-CALDESC:Events for Lemontree 
REFRESH-INTERVAL;VALUE=DURATION:PT1H
X-Robots-Tag:noindex
X-PUBLISHED-TTL:PT1H
BEGIN:VTIMEZONE
TZID:Europe/London
BEGIN:DAYLIGHT
TZOFFSETFROM:+0000
TZOFFSETTO:+0100
TZNAME:BST
DTSTART:20210328T010000
END:DAYLIGHT
BEGIN:STANDARD
TZOFFSETFROM:+0100
TZOFFSETTO:+0000
TZNAME:GMT
DTSTART:20211031T010000
END:STANDARD
END:VTIMEZONE
BEGIN:VEVENT
DTSTART;TZID=Europe/London:20210506T140000
DTEND;TZID=Europe/London:20210506T150000
DTSTAMP:20260423T171646
CREATED:20210617T094936Z
LAST-MODIFIED:20210617T095017Z
UID:381-1620309600-1620313200@research.reading.ac.uk
SUMMARY:LEMONTREE PI meeting (internal)
DESCRIPTION:
URL:https://research.reading.ac.uk/lemontree/event/lemontree-pi-meeting-internal/
END:VEVENT
BEGIN:VEVENT
DTSTART;TZID=Europe/London:20210513T083000
DTEND;TZID=Europe/London:20210513T223000
DTSTAMP:20260423T171646
CREATED:20210527T171516Z
LAST-MODIFIED:20210527T171626Z
UID:320-1620894600-1620945000@research.reading.ac.uk
SUMMARY:Joint science meeting and Tsinghua University Anniversary seminar
DESCRIPTION:The LEMONTREE team in collaboration with Tsinghua University hold a joint science meeting to discuss Land System Models; their known deficiencies and how the LEMONTREE project will be bringing new scientific theory to create the next generation models. \nBlogs and articles – Lemontree (reading.ac.uk)
URL:https://research.reading.ac.uk/lemontree/event/joint-science-meeting-and-tsinghua-university-anniversary-seminar/
END:VEVENT
END:VCALENDAR