BEGIN:VCALENDAR
VERSION:2.0
PRODID:-//Lemontree  - ECPv6.0.5//NONSGML v1.0//EN
CALSCALE:GREGORIAN
METHOD:PUBLISH
X-ORIGINAL-URL:https://research.reading.ac.uk/lemontree
X-WR-CALDESC:Events for Lemontree 
REFRESH-INTERVAL;VALUE=DURATION:PT1H
X-Robots-Tag:noindex
X-PUBLISHED-TTL:PT1H
BEGIN:VTIMEZONE
TZID:Europe/London
BEGIN:DAYLIGHT
TZOFFSETFROM:+0000
TZOFFSETTO:+0100
TZNAME:BST
DTSTART:20230326T010000
END:DAYLIGHT
BEGIN:STANDARD
TZOFFSETFROM:+0100
TZOFFSETTO:+0000
TZNAME:GMT
DTSTART:20231029T010000
END:STANDARD
END:VTIMEZONE
BEGIN:VEVENT
DTSTART;TZID=Europe/London:20230202T140000
DTEND;TZID=Europe/London:20230202T150000
DTSTAMP:20260420T055903
CREATED:20230123T145404Z
LAST-MODIFIED:20230123T145404Z
UID:1664-1675346400-1675350000@research.reading.ac.uk
SUMMARY:Nitrogen Working Group meeting
DESCRIPTION:
URL:https://research.reading.ac.uk/lemontree/event/nitrogen-working-group-meeting-2/
CATEGORIES:Working Group meeting
END:VEVENT
BEGIN:VEVENT
DTSTART;TZID=Europe/London:20230216T090000
DTEND;TZID=Europe/London:20230216T100000
DTSTAMP:20260420T055903
CREATED:20221201T142349Z
LAST-MODIFIED:20221215T142511Z
UID:1564-1676538000-1676541600@research.reading.ac.uk
SUMMARY:LEMONTREE Science Meeting - Phenology Update
DESCRIPTION:Phenology update meeting led by Colin Prentice
URL:https://research.reading.ac.uk/lemontree/event/lemontree-science-meeting-phenology-update/
CATEGORIES:Science Meeting
END:VEVENT
END:VCALENDAR