BEGIN:VCALENDAR
VERSION:2.0
PRODID:-//Lemontree  - ECPv6.0.5//NONSGML v1.0//EN
CALSCALE:GREGORIAN
METHOD:PUBLISH
X-ORIGINAL-URL:https://research.reading.ac.uk/lemontree
X-WR-CALDESC:Events for Lemontree 
REFRESH-INTERVAL;VALUE=DURATION:PT1H
X-Robots-Tag:noindex
X-PUBLISHED-TTL:PT1H
BEGIN:VTIMEZONE
TZID:Europe/London
BEGIN:DAYLIGHT
TZOFFSETFROM:+0000
TZOFFSETTO:+0100
TZNAME:BST
DTSTART:20240331T010000
END:DAYLIGHT
BEGIN:STANDARD
TZOFFSETFROM:+0100
TZOFFSETTO:+0000
TZNAME:GMT
DTSTART:20241027T010000
END:STANDARD
END:VTIMEZONE
BEGIN:VEVENT
DTSTART;TZID=Europe/London:20241004T130000
DTEND;TZID=Europe/London:20241004T143000
DTSTAMP:20260420T224358
CREATED:20241002T120026Z
LAST-MODIFIED:20241002T120026Z
UID:2027-1728046800-1728052200@research.reading.ac.uk
SUMMARY:Canopy Temperature Working Group Meeting
DESCRIPTION:
URL:https://research.reading.ac.uk/lemontree/event/canopy-temperature-working-group-meeting/
END:VEVENT
BEGIN:VEVENT
DTSTART;VALUE=DATE:20241015
DTEND;VALUE=DATE:20241018
DTSTAMP:20260420T224358
CREATED:20240913T103738Z
LAST-MODIFIED:20240913T103738Z
UID:1966-1728950400-1729209599@research.reading.ac.uk
SUMMARY:Fire-Vegetation Interactions Working Group Meeting
DESCRIPTION:
URL:https://research.reading.ac.uk/lemontree/event/fire-vegetation-interactions-working-group-meeting-2/
END:VEVENT
BEGIN:VEVENT
DTSTART;TZID=Europe/London:20241017T143000
DTEND;TZID=Europe/London:20241017T153000
DTSTAMP:20260420T224358
CREATED:20241014T082139Z
LAST-MODIFIED:20241014T082139Z
UID:2039-1729175400-1729179000@research.reading.ac.uk
SUMMARY:Functional Diversity Working Group Meeting
DESCRIPTION:
URL:https://research.reading.ac.uk/lemontree/event/functional-diversity-working-group-meeting/
END:VEVENT
BEGIN:VEVENT
DTSTART;TZID=Europe/London:20241018T140000
DTEND;TZID=Europe/London:20241018T150000
DTSTAMP:20260420T224358
CREATED:20240913T103813Z
LAST-MODIFIED:20240913T103813Z
UID:1968-1729260000-1729263600@research.reading.ac.uk
SUMMARY:CNP Working Group Meeting
DESCRIPTION:
URL:https://research.reading.ac.uk/lemontree/event/cnp-working-group-meeting-2/
END:VEVENT
BEGIN:VEVENT
DTSTART;TZID=Europe/London:20241024T090000
DTEND;TZID=Europe/London:20241024T100000
DTSTAMP:20260420T224358
CREATED:20240913T103853Z
LAST-MODIFIED:20240913T103853Z
UID:1970-1729760400-1729764000@research.reading.ac.uk
SUMMARY:Carbon Allocation Working Group Meeting
DESCRIPTION:
URL:https://research.reading.ac.uk/lemontree/event/carbon-allocation-working-group-meeting/
END:VEVENT
BEGIN:VEVENT
DTSTART;TZID=Europe/London:20241024T150000
DTEND;TZID=Europe/London:20241024T160000
DTSTAMP:20260420T224358
CREATED:20240913T103927Z
LAST-MODIFIED:20240913T103927Z
UID:1972-1729782000-1729785600@research.reading.ac.uk
SUMMARY:Ecohydrology Working Group Meeting
DESCRIPTION:
URL:https://research.reading.ac.uk/lemontree/event/ecohydrology-working-group-meeting-2/
END:VEVENT
END:VCALENDAR