BEGIN:VCALENDAR
VERSION:2.0
PRODID:-//Lemontree  - ECPv6.0.5//NONSGML v1.0//EN
CALSCALE:GREGORIAN
METHOD:PUBLISH
X-ORIGINAL-URL:https://research.reading.ac.uk/lemontree
X-WR-CALDESC:Events for Lemontree 
REFRESH-INTERVAL;VALUE=DURATION:PT1H
X-Robots-Tag:noindex
X-PUBLISHED-TTL:PT1H
BEGIN:VTIMEZONE
TZID:Europe/London
BEGIN:DAYLIGHT
TZOFFSETFROM:+0000
TZOFFSETTO:+0100
TZNAME:BST
DTSTART:20240331T010000
END:DAYLIGHT
BEGIN:STANDARD
TZOFFSETFROM:+0100
TZOFFSETTO:+0000
TZNAME:GMT
DTSTART:20241027T010000
END:STANDARD
END:VTIMEZONE
BEGIN:VEVENT
DTSTART;TZID=Europe/London:20241107T140000
DTEND;TZID=Europe/London:20241107T150000
DTSTAMP:20260420T224352
CREATED:20241106T165712Z
LAST-MODIFIED:20241106T165910Z
UID:2140-1730988000-1730991600@research.reading.ac.uk
SUMMARY:LEMONTREE Wide Science Meeting
DESCRIPTION:
URL:https://research.reading.ac.uk/lemontree/event/lemontree-wide-science-meeting/
END:VEVENT
BEGIN:VEVENT
DTSTART;TZID=Europe/London:20241107T150000
DTEND;TZID=Europe/London:20241107T160000
DTSTAMP:20260420T224352
CREATED:20241106T165646Z
LAST-MODIFIED:20241106T165855Z
UID:2138-1730991600-1730995200@research.reading.ac.uk
SUMMARY:Functional Diversity Working Group Meeting
DESCRIPTION:
URL:https://research.reading.ac.uk/lemontree/event/functional-diversity-working-group-meeting-2/
END:VEVENT
BEGIN:VEVENT
DTSTART;TZID=Europe/London:20241112T080000
DTEND;TZID=Europe/London:20241114T170000
DTSTAMP:20260420T224352
CREATED:20241004T152318Z
LAST-MODIFIED:20241004T152318Z
UID:2030-1731398400-1731603600@research.reading.ac.uk
SUMMARY:Fire-Vegetation Interactions Working Group Meeting
DESCRIPTION:
URL:https://research.reading.ac.uk/lemontree/event/fire-vegetation-interactions-working-group-meeting-3/
END:VEVENT
BEGIN:VEVENT
DTSTART;TZID=Europe/London:20241115T140000
DTEND;TZID=Europe/London:20241115T150000
DTSTAMP:20260420T224352
CREATED:20241004T152440Z
LAST-MODIFIED:20241004T152440Z
UID:2032-1731679200-1731682800@research.reading.ac.uk
SUMMARY:CNP Working Group Meeting
DESCRIPTION:
URL:https://research.reading.ac.uk/lemontree/event/cnp-working-group-meeting-3/
END:VEVENT
BEGIN:VEVENT
DTSTART;TZID=Europe/London:20241121T090000
DTEND;TZID=Europe/London:20241121T100000
DTSTAMP:20260420T224352
CREATED:20241004T152523Z
LAST-MODIFIED:20241004T152523Z
UID:2034-1732179600-1732183200@research.reading.ac.uk
SUMMARY:Carbon Allocation Working Group Meeting
DESCRIPTION:
URL:https://research.reading.ac.uk/lemontree/event/carbon-allocation-working-group-meeting-2/
END:VEVENT
BEGIN:VEVENT
DTSTART;TZID=Europe/London:20241121T150000
DTEND;TZID=Europe/London:20241121T160000
DTSTAMP:20260420T224352
CREATED:20241004T152556Z
LAST-MODIFIED:20241004T152556Z
UID:2036-1732201200-1732204800@research.reading.ac.uk
SUMMARY:Ecohydrology Working Group Meeting
DESCRIPTION:
URL:https://research.reading.ac.uk/lemontree/event/ecohydrology-working-group-meeting-3/
END:VEVENT
END:VCALENDAR