BEGIN:VCALENDAR
VERSION:2.0
PRODID:-//Mediation of Medical Treatment Disputes - ECPv6.0.5//NONSGML v1.0//EN
CALSCALE:GREGORIAN
METHOD:PUBLISH
X-WR-CALNAME:Mediation of Medical Treatment Disputes
X-ORIGINAL-URL:https://research.reading.ac.uk/mediation-medical-disputes
X-WR-CALDESC:Events for Mediation of Medical Treatment Disputes
REFRESH-INTERVAL;VALUE=DURATION:PT1H
X-Robots-Tag:noindex
X-PUBLISHED-TTL:PT1H
BEGIN:VTIMEZONE
TZID:Europe/London
BEGIN:DAYLIGHT
TZOFFSETFROM:+0000
TZOFFSETTO:+0100
TZNAME:BST
DTSTART:20230326T010000
END:DAYLIGHT
BEGIN:STANDARD
TZOFFSETFROM:+0100
TZOFFSETTO:+0000
TZNAME:GMT
DTSTART:20231029T010000
END:STANDARD
END:VTIMEZONE
BEGIN:VEVENT
DTSTART;TZID=Europe/London:20231206T100000
DTEND;TZID=Europe/London:20231206T233000
DTSTAMP:20260423T192252
CREATED:20231024T084620Z
LAST-MODIFIED:20231024T084620Z
UID:429-1701856800-1701905400@research.reading.ac.uk
SUMMARY:TJUK: Online Seminar Series
DESCRIPTION:In this seminar\, we will be joined by two academics working on intersecting areas of TJ research. \nFirst\, we are joined by Dr Nina Hudson\, University of Tasmania\, who will speak about her work on therapeutic jurisprudence in the context of intimate partner violence and sentencing in Australia – “‘Straight-Talking\, but from the Heart’: Key Features of a Therapeutic Jurisprudence Framework for Exploring Judicial Court-Craft in Sentencing Offenders for Intimate Partner Violence”. \nWe will also be joined by Dr Jaime Lindsey\, University of Reading\, who will talk about her research on TJ and medical treatment disputes mediation – “Achieving TJ Through Mediation: The Challenge of Medical Treatment Disputes”. \nThis will be followed by a Q&A/discussion with audience members. The event is free to attend but registration in advance is required. Any problems with registering or if you have any further queries about the event\, please contact Dr Jaime Lindsey at j.lindsey@reading.ac.uk \nPlease follow this link to reserve a place.
URL:https://research.reading.ac.uk/mediation-medical-disputes/event/tjuk-online-seminar-series/
LOCATION:Online
END:VEVENT
END:VCALENDAR