BEGIN:VCALENDAR
VERSION:2.0
PRODID:-//Connecting Research - ECPv6.0.5//NONSGML v1.0//EN
CALSCALE:GREGORIAN
METHOD:PUBLISH
X-ORIGINAL-URL:https://research.reading.ac.uk/research-blog
X-WR-CALDESC:Events for Connecting Research
REFRESH-INTERVAL;VALUE=DURATION:PT1H
X-Robots-Tag:noindex
X-PUBLISHED-TTL:PT1H
BEGIN:VTIMEZONE
TZID:Europe/London
BEGIN:DAYLIGHT
TZOFFSETFROM:+0000
TZOFFSETTO:+0100
TZNAME:BST
DTSTART:20240331T010000
END:DAYLIGHT
BEGIN:STANDARD
TZOFFSETFROM:+0100
TZOFFSETTO:+0000
TZNAME:GMT
DTSTART:20241027T010000
END:STANDARD
END:VTIMEZONE
BEGIN:VEVENT
DTSTART;TZID=Europe/London:20240605T140000
DTEND;TZID=Europe/London:20240605T180000
DTSTAMP:20260426T002927
CREATED:20240523T205827Z
LAST-MODIFIED:20240529T095233Z
UID:29535-1717596000-1717610400@research.reading.ac.uk
SUMMARY:Pop Up Geology Museum
DESCRIPTION:g[vc_row][vc_column][vc_column_text]Mineral resources are used in many aspects of modern life and may also hold the key to a more sustainable future. This event showcases some of our amazing collections \, their geology\, uses and impacts. \nFor further information\, contact Dr Hazel J. McGoff 0118 378 6743 h.j.mcgoff@reading.ac.uk \nAll welcome on: \nWednesday 5th June 14.00 – 18.00 \nThursday 6th June 09.30 – 13.00 \nRussell Building\, Whiteknights Campus\, RG6 6UR (Building 70 on campus maps)[/vc_column_text][/vc_column][/vc_row]
URL:https://research.reading.ac.uk/research-blog/event/pop-up-geology-museum/
LOCATION:Russell Building
CATEGORIES:Environment
ATTACH;FMTTYPE=image/jpeg:https://research.reading.ac.uk/research-blog/wp-content/uploads/sites/72/2024/05/AdobeStock_283323011-scaled.jpeg
END:VEVENT
END:VCALENDAR