BEGIN:VCALENDAR
VERSION:2.0
PRODID:-//Connecting Research - ECPv6.0.5//NONSGML v1.0//EN
CALSCALE:GREGORIAN
METHOD:PUBLISH
X-ORIGINAL-URL:https://research.reading.ac.uk/research-blog
X-WR-CALDESC:Events for Connecting Research
REFRESH-INTERVAL;VALUE=DURATION:PT1H
X-Robots-Tag:noindex
X-PUBLISHED-TTL:PT1H
BEGIN:VTIMEZONE
TZID:Europe/London
BEGIN:DAYLIGHT
TZOFFSETFROM:+0000
TZOFFSETTO:+0100
TZNAME:BST
DTSTART:20240331T010000
END:DAYLIGHT
BEGIN:STANDARD
TZOFFSETFROM:+0100
TZOFFSETTO:+0000
TZNAME:GMT
DTSTART:20241027T010000
END:STANDARD
END:VTIMEZONE
BEGIN:VEVENT
DTSTART;TZID=Europe/London:20240627T080000
DTEND;TZID=Europe/London:20240628T170000
DTSTAMP:20260426T002926
CREATED:20240620T125529Z
LAST-MODIFIED:20240620T130854Z
UID:29603-1719475200-1719594000@research.reading.ac.uk
SUMMARY:The Future of National Poetry Archives | 2-day workshop
DESCRIPTION:[vc_row][vc_column][vc_column_text] \n\nThe University of Reading will be hosting a two-day workshop on the theme of “The Future of National Poetry Archives” from 27th-28th June 2024. The workshop will be held at the Museum of English Rural Life\, Redlands Road\, Reading RG1 5EX. It is free to attend. \n\n\nView the programme for the event. It seeks to cover the various ‘constituencies’ involved with our poetry archives: the archivists themselves; academic researchers; those involved in creative responses to archives; those charged with raising public awareness and creating public events with the archives. The ambition is to begin a conversation which will evolve through future events and links that will foreground the archival presence within our understanding of recent poetries across the UK. \n\n\nIf you would like to register for the event\, please email Prof Steven Matthews (s.matthews@reading.ac.uk). \n\n\nPlease note that there will be no parking spaces available at the venue during the event. \n\n[/vc_column_text][/vc_column][/vc_row]
URL:https://research.reading.ac.uk/research-blog/event/the-future-of-national-poetry-archives-2-day-workshop/
LOCATION:Museum of English Rural Life (The MERL)\, Redlands Road\, Reading\, RG1 5EX\, United Kingdom
CATEGORIES:Heritage & Creativity
ATTACH;FMTTYPE=image/png:https://research.reading.ac.uk/research-blog/wp-content/uploads/sites/72/2024/06/MERL.png
END:VEVENT
END:VCALENDAR