BEGIN:VCALENDAR
VERSION:2.0
PRODID:-//Connecting Research - ECPv6.0.5//NONSGML v1.0//EN
CALSCALE:GREGORIAN
METHOD:PUBLISH
X-ORIGINAL-URL:https://research.reading.ac.uk/research-blog
X-WR-CALDESC:Events for Connecting Research
REFRESH-INTERVAL;VALUE=DURATION:PT1H
X-Robots-Tag:noindex
X-PUBLISHED-TTL:PT1H
BEGIN:VTIMEZONE
TZID:Europe/London
BEGIN:DAYLIGHT
TZOFFSETFROM:+0000
TZOFFSETTO:+0100
TZNAME:BST
DTSTART:20240331T010000
END:DAYLIGHT
BEGIN:STANDARD
TZOFFSETFROM:+0100
TZOFFSETTO:+0000
TZNAME:GMT
DTSTART:20241027T010000
END:STANDARD
END:VTIMEZONE
BEGIN:VEVENT
DTSTART;TZID=Europe/London:20241210T170000
DTEND;TZID=Europe/London:20241210T190000
DTSTAMP:20260424T233258
CREATED:20241127T152159Z
LAST-MODIFIED:20241127T152159Z
UID:30527-1733850000-1733857200@research.reading.ac.uk
SUMMARY:H&C Showcase: Creative Entrepreneur
DESCRIPTION:[vc_row][vc_column][vc_column_text]To share findings from the innovative and exciting work in arts and humanities at the University of Reading\, the Heritage & Creativity research theme is launching a series of Showcase events\, one each semester. We are delighted to welcome you to the first H&C Showcase on 10th December\, 5-7pm\, Bulmershe Theatre\, Minghella Studios. \nThe Showcase will feature presentations and discussions around the projects developed by H&C Creative Entrepreneurs with external partners during the Creative Entrepreneur in Residence Programme led by Tim Powell. \nProjects include VR experiences\, digital exhibitions\, immersive performances\, interactive experiences and novel approaches to translation and language learning. Presentations from the H&C Creative Entrepreneurs cohort will include: \n\nForget What You Know: Dr Ellen Pilsworth (Languages and Cultures) and Prof. David Brauner (English Literature)\nThe Polish Nissen Hut: Prof. Teresa Murjas (Film\, Theatre & Television)\nThe Digital Dig – Building a Subscription Model for the Cookham Excavations: Dr. Gabor Thomas (Archaeology)\nA virtual ‘World of Stonehenge’: Prof. Duncan Garrow (Archaeology)\nStories on the Move – Playing with Translation: Dr. Sophie Heywood (Languages and Cultures)\n\nAlongside Tim Powell (Creative Entrepreneur in Residence) and Prof. John Gibbs and Prof. Roberta Gilchrist (H&C Associate Pro-Vice-Chancellors for Research)\, the cohort will also reflect on perspectives gained across the three years of the CEiR programme and consider next steps. \nProf. Lisa Purse will introduce ImmerseLab\, a new production\, testing and research training facility to enable colleagues across UoR’s interdisciplinary Digital Humanities (DH) community to investigate the latest developments in virtual reality\, augmented reality\, mixed reality and their real-world applications.[/vc_column_text][/vc_column][/vc_row]
URL:https://research.reading.ac.uk/research-blog/event/hc-showcase-creative-entrepreneur/
LOCATION:Bulmershe Theatre\, Minghella Studios\, Bulmershe Theatre\, Minghella Studios\, University of Reading\, Shinfield Road\, Reading\, RG6 6BT\, United Kingdom
CATEGORIES:Heritage & Creativity
END:VEVENT
END:VCALENDAR