BEGIN:VCALENDAR
VERSION:2.0
PRODID:-//Connecting Research - ECPv6.0.5//NONSGML v1.0//EN
CALSCALE:GREGORIAN
METHOD:PUBLISH
X-ORIGINAL-URL:https://research.reading.ac.uk/research-blog
X-WR-CALDESC:Events for Connecting Research
REFRESH-INTERVAL;VALUE=DURATION:PT1H
X-Robots-Tag:noindex
X-PUBLISHED-TTL:PT1H
BEGIN:VTIMEZONE
TZID:Europe/London
BEGIN:DAYLIGHT
TZOFFSETFROM:+0000
TZOFFSETTO:+0100
TZNAME:BST
DTSTART:20250330T010000
END:DAYLIGHT
BEGIN:STANDARD
TZOFFSETFROM:+0100
TZOFFSETTO:+0000
TZNAME:GMT
DTSTART:20251026T010000
END:STANDARD
END:VTIMEZONE
BEGIN:VEVENT
DTSTART;VALUE=DATE:20250108
DTEND;VALUE=DATE:20250109
DTSTAMP:20260425T044421
CREATED:20241217T154643Z
LAST-MODIFIED:20241217T154643Z
UID:30638-1736294400-1736380799@research.reading.ac.uk
SUMMARY:Agrifood - Systems and Futures College of Experts - Seminar
DESCRIPTION:[vc_row][vc_column][vc_column_text]if you are interested to hear about the broad aims for the College of Experts and some case studies of application of systems and futures approaches\, there will be a seminar on Wed 8th Jan. Sign up here for an Outlook invitation. \nAgenda \nWed 8th Jan 2025\, 1-2:30pm\, Room TBC in calendar appointment \nPart 1. What are systems and futures approaches? \n\nSystems approaches to inform environmental policy- case studies from an academic perspective  (Tom Oliver\, aPVC Research – Environment\, UoR)\nFutures approaches in Government 1- perspectives from Defra (Phil Tovey\, Head of Futures\, Defra)\nFutures approaches in Government 2- perspectives from GCHQ (Matthew Pritchard\, Former Head of Strategy and Futures\, GCHQ; Former Director of Sustainability\, Baringa)\n\nPart 2. Agrifood Systems and Futures College of Experts \n\nThe Agrifood Futures Strategy and opportunities for staff across the University\n\n[/vc_column_text][/vc_column][/vc_row]
URL:https://research.reading.ac.uk/research-blog/event/agrifood-systems-and-futures-college-of-experts-seminar/
CATEGORIES:Agriculture, Food & Health
END:VEVENT
END:VCALENDAR