BEGIN:VCALENDAR
VERSION:2.0
PRODID:-//Connecting Research - ECPv6.0.5//NONSGML v1.0//EN
CALSCALE:GREGORIAN
METHOD:PUBLISH
X-ORIGINAL-URL:https://research.reading.ac.uk/research-blog
X-WR-CALDESC:Events for Connecting Research
REFRESH-INTERVAL;VALUE=DURATION:PT1H
X-Robots-Tag:noindex
X-PUBLISHED-TTL:PT1H
BEGIN:VTIMEZONE
TZID:Europe/London
BEGIN:DAYLIGHT
TZOFFSETFROM:+0000
TZOFFSETTO:+0100
TZNAME:BST
DTSTART:20250330T010000
END:DAYLIGHT
BEGIN:STANDARD
TZOFFSETFROM:+0100
TZOFFSETTO:+0000
TZNAME:GMT
DTSTART:20251026T010000
END:STANDARD
END:VTIMEZONE
BEGIN:VEVENT
DTSTART;TZID=Europe/London:20250217T130000
DTEND;TZID=Europe/London:20250217T140000
DTSTAMP:20260424T133119
CREATED:20250211T115151Z
LAST-MODIFIED:20250211T115151Z
UID:30892-1739797200-1739800800@research.reading.ac.uk
SUMMARY:Digital Humanities Reading Group
DESCRIPTION:[vc_row][vc_column][vc_column_text] \nFor this session\, we invite you to read and bring your thoughts on one or both of ‘Bias in Big Data\, Machine Learning and AI: What Lessons for the Digital Humanities?’ (a journal article by Andrew Prescott) and Klara and the Sun (a novel by Kazuo Ishiguro). You are very welcome to join us for a chat\, even if you haven’t yet had the chance to read/finish the material. We would love to hear your thoughts on the theme of Artificial Intelligence\, to hear about what you have been reading recently\, and to know what you would like to read next or to see from the group in future. Please feel free to also bring your lunch! \n[/vc_column_text][/vc_column][/vc_row]
URL:https://research.reading.ac.uk/research-blog/event/digital-humanities-reading-group/
LOCATION:Edith Morley\, 181
CATEGORIES:Heritage & Creativity
END:VEVENT
END:VCALENDAR