BEGIN:VCALENDAR
VERSION:2.0
PRODID:-//Connecting Research - ECPv6.0.5//NONSGML v1.0//EN
CALSCALE:GREGORIAN
METHOD:PUBLISH
X-WR-CALNAME:Connecting Research
X-ORIGINAL-URL:https://research.reading.ac.uk/research-blog
X-WR-CALDESC:Events for Connecting Research
REFRESH-INTERVAL;VALUE=DURATION:PT1H
X-Robots-Tag:noindex
X-PUBLISHED-TTL:PT1H
BEGIN:VTIMEZONE
TZID:Europe/London
BEGIN:DAYLIGHT
TZOFFSETFROM:+0000
TZOFFSETTO:+0100
TZNAME:BST
DTSTART:20250330T010000
END:DAYLIGHT
BEGIN:STANDARD
TZOFFSETFROM:+0100
TZOFFSETTO:+0000
TZNAME:GMT
DTSTART:20251026T010000
END:STANDARD
END:VTIMEZONE
BEGIN:VEVENT
DTSTART;TZID=Europe/London:20250226T110000
DTEND;TZID=Europe/London:20250226T140000
DTSTAMP:20260424T132944
CREATED:20250115T120155Z
LAST-MODIFIED:20250115T120155Z
UID:30736-1740567600-1740578400@research.reading.ac.uk
SUMMARY:DIGITAL SPACE WORKSHOP - Digital Humanities Community of Practice
DESCRIPTION:[vc_row][vc_column][vc_column_text] \nDIGITAL SPACE WORKSHOP – Wednesday 26 February 2025  \nExploring Digital Space – Fostering Interdisciplinary Collaborations and Grant Preparation \nThe Digital Humanities CoP and Hub are hosting an upcoming event centred around the theme of Digital Space which aims to serve as a platform for developing strategic partnerships\, encourage innovative ideas\, and lay the groundwork for future grant applications. We invite interested colleagues from all disciplines to attend the event to discuss their work\, to foster interdisciplinary collaborations and cultivate synergies between academics and our museum partners. \nWhat is Digital Space?   \nDigital spaces may represent\, interact with\, or perform similar functions to\, physical spaces. They may be virtual environments\, and/or platforms for interaction\, communication and collaboration. These spaces include digital repositories and archives\, online communities and social media platforms\, digital (re)constructions and virtual worlds\, e-learning and collaborative working environments\, and more. Digital spaces play a crucial role in social interactions\, knowledge exchange\, and cultural expression\, while also raising important questions related to privacy\, security\, ethics\, and governance. \nThe following examples indicate the type of thematic areas that could be considered under the Digital Space theme. \n·         Theoretical frameworks for understanding digital spaces \n·         The impact of digital spaces on social interactions\, community building\, and networks \n·         The design\, architecture\, and user experience of virtual environments \n·         Ethical considerations and privacy challenges in digital spaces \n·         The role of digital spaces in education\, learning\, and public engagement \n·         Artistic expression and the cultural significance of digital environments \n·         The intersection and blending of physical and digital spaces in museums\, heritage\, and the arts \n·         Policy-making\, governance\, and regulation of digital spaces \n·         Case studies involving museums and cultural institutions’ use of digital space \n·         Digital political space \n·         Threats posed to and by digital spaces \n·         Relationships between digital and physical spaces (replication\, preservation\, augmentation\, competition…) \n·         Language for\, and in\, digital spaces \nHow to respond \nWe are inviting all attendees to do a short presentation to introduce themselves and address the following points: \n1.      What ‘Digital Space’ means to you. \n2.      An outline of any research\, publications\, collaborations (etc.) that you have already done in this field. \n3.      Your ideas for future activity in this area\, including collaborations\, expertise and knowledge that you need to find or identify. \nIf you would like to attend the workshop\, please send a brief outline (up to 100 words) to cover the points above to Dr Mara Oliva (m.oliva@reading.ac.uk) by 1st February 2025. \nEvent Details: \nDate: 26 February 2025\, from 11.00 to 14.00 (coffee/ tea and lunch included) \nLocation:  Whiteknights Campus \nFormat: Flash presentations followed by breakout sessions designed to facilitate networking and interdisciplinary collaboration. \nFuture Collaboration Opportunity: This event will be followed by a one-day Action Lab in June 2025\, where participants will have the opportunity to further develop collaborative projects and prepare for upcoming grant proposals. \nWe look forward to hearing from you and sharing ideas at this workshop! \nThe DH CoP and Hub \n[/vc_column_text][/vc_column][/vc_row]
URL:https://research.reading.ac.uk/research-blog/event/digital-space-workshop-digital-humanities-community-of-practice/
LOCATION:Whiteknights campus\, University of Reading\, Whiteknights Campus\, Reading\, RG6 6AH\, United Kingdom
END:VEVENT
END:VCALENDAR