BEGIN:VCALENDAR
VERSION:2.0
PRODID:-//Connecting Research - ECPv6.0.5//NONSGML v1.0//EN
CALSCALE:GREGORIAN
METHOD:PUBLISH
X-ORIGINAL-URL:https://research.reading.ac.uk/research-blog
X-WR-CALDESC:Events for Connecting Research
REFRESH-INTERVAL;VALUE=DURATION:PT1H
X-Robots-Tag:noindex
X-PUBLISHED-TTL:PT1H
BEGIN:VTIMEZONE
TZID:Europe/London
BEGIN:DAYLIGHT
TZOFFSETFROM:+0000
TZOFFSETTO:+0100
TZNAME:BST
DTSTART:20250330T010000
END:DAYLIGHT
BEGIN:STANDARD
TZOFFSETFROM:+0100
TZOFFSETTO:+0000
TZNAME:GMT
DTSTART:20251026T010000
END:STANDARD
END:VTIMEZONE
BEGIN:VEVENT
DTSTART;TZID=Europe/London:20250327T130000
DTEND;TZID=Europe/London:20250327T140000
DTSTAMP:20260424T082128
CREATED:20250321T085742Z
LAST-MODIFIED:20250321T085742Z
UID:31040-1743080400-1743084000@research.reading.ac.uk
SUMMARY:Disturbing the dead: Climate change and the potential relocation of Swedish cemeteries
DESCRIPTION:[vc_row][vc_column][vc_column_text] \nYou are warmly invited to a Human Geography Research Cluster/ Global Development Research Division in person (Sorby Room 115\, 1st Floor of Wager Building) / hybrid seminar (1-2pm on 27/3/25). \nDisturbing the dead: Climate change and the potential relocation of Swedish cemeteries\nRoger Marjavaara\, Umeå University\, Sweden. \nAbstract \nThis presentation focuses on the contradiction of mobility and immobility in relation to interred human remains. While society generally embraces human mobility\, once individuals pass away and are disposed of\, mobility ceases to be the norm. Some counties\, like Sweden\, has a rigid burial legislation that prohibits the re-location of interred human remains. However\, both society- and climate-related events are increasingly affecting the eternal rest of the deceased. Utilizing quantitative data on all cemeteries in Sweden\, this study aims to assess and analyse the potential magnitude of future large-scale moves of human remains due to expected impacts of climate change\, and to put this into a relational context of norms and laws. Results show that climate change poses an apparent risk to cemeteries in Sweden. \nBiography \nRoger Marjavaara is associate professor in human geography at the department of geography at Umeå University\, Sweden. The main focus of his research is the driving forces and consequences of human mobility. Here\, temporary mobility\, or tourism\, is of special interest\, especially second home tourism and its impact on places and people. Dr. Marjavaara also has an interest in production and reproduction of places\, and retail geography and mobile consumers. Further\, post-mortal mobility is another field that has attracted his research attention. \n________________________________________________________________________________ \nMicrosoft Teams Need help?\nJoin the meeting now\nMeeting ID: 357 220 295 754\nPasscode: L53Cmw \n\n\n\nDial in by phone\n+44 20 7660 8335\,\,915358739# United Kingdom\, City of London\nFind a local number\nPhone conference ID: 915 358 739#\nFor organisers: Meeting options| Reset dial-in PIN\nUniversity of Reading \n[/vc_column_text][/vc_column][/vc_row]
URL:https://research.reading.ac.uk/research-blog/event/disturbing-the-dead-climate-change-and-the-potential-relocation-of-swedish-cemeteries/
LOCATION:Sorby Room\, Wager Building
CATEGORIES:Prosperity & Resilience
END:VEVENT
END:VCALENDAR