BEGIN:VCALENDAR
VERSION:2.0
PRODID:-//Connecting Research - ECPv6.0.5//NONSGML v1.0//EN
CALSCALE:GREGORIAN
METHOD:PUBLISH
X-WR-CALNAME:Connecting Research
X-ORIGINAL-URL:https://research.reading.ac.uk/research-blog
X-WR-CALDESC:Events for Connecting Research
REFRESH-INTERVAL;VALUE=DURATION:PT1H
X-Robots-Tag:noindex
X-PUBLISHED-TTL:PT1H
BEGIN:VTIMEZONE
TZID:Europe/London
BEGIN:DAYLIGHT
TZOFFSETFROM:+0000
TZOFFSETTO:+0100
TZNAME:BST
DTSTART:20250330T010000
END:DAYLIGHT
BEGIN:STANDARD
TZOFFSETFROM:+0100
TZOFFSETTO:+0000
TZNAME:GMT
DTSTART:20251026T010000
END:STANDARD
END:VTIMEZONE
BEGIN:VEVENT
DTSTART;VALUE=DATE:20250609
DTEND;VALUE=DATE:20250614
DTSTAMP:20260423T201938
CREATED:20250602T142239Z
LAST-MODIFIED:20250602T142239Z
UID:31328-1749427200-1749859199@research.reading.ac.uk
SUMMARY:Reading Open Research Week
DESCRIPTION:[vc_row][vc_column][vc_single_image image=”31329″ img_size=”large” onclick=”custom_link” link=”https://research.reading.ac.uk/openresearch/”][vc_column_text] \nReading Open Research Week\, June 9-13.\nTo attend online\, please register using this form. As we are still receiving submissions for contributions\, we will email everyone closer to time with Teams links for every event. \nThroughout the week\, we’ll explore Open Research from multiple angles\, reflecting different stages in the research life cycle: \n\nLaying the foundations – pre-registration and transparent planning\nAssessing with integrity – responsible research assessment\nOpening the process – sharing at every stage\, not just the end\nWorking with data – analysing\, coding\, and making methods open\nConnecting beyond academia – public engagement and societal impact\n\n[/vc_column_text][/vc_column][/vc_row][vc_row][vc_column][/vc_column][/vc_row]
URL:https://research.reading.ac.uk/research-blog/event/reading-open-research-week/
END:VEVENT
END:VCALENDAR