BEGIN:VCALENDAR
VERSION:2.0
PRODID:-//Connecting Research - ECPv6.0.5//NONSGML v1.0//EN
CALSCALE:GREGORIAN
METHOD:PUBLISH
X-WR-CALNAME:Connecting Research
X-ORIGINAL-URL:https://research.reading.ac.uk/research-blog
X-WR-CALDESC:Events for Connecting Research
REFRESH-INTERVAL;VALUE=DURATION:PT1H
X-Robots-Tag:noindex
X-PUBLISHED-TTL:PT1H
BEGIN:VTIMEZONE
TZID:Europe/London
BEGIN:DAYLIGHT
TZOFFSETFROM:+0000
TZOFFSETTO:+0100
TZNAME:BST
DTSTART:20250330T010000
END:DAYLIGHT
BEGIN:STANDARD
TZOFFSETFROM:+0100
TZOFFSETTO:+0000
TZNAME:GMT
DTSTART:20251026T010000
END:STANDARD
END:VTIMEZONE
BEGIN:VEVENT
DTSTART;TZID=Europe/London:20250715T110000
DTEND;TZID=Europe/London:20250715T120000
DTSTAMP:20260423T203007
CREATED:20250701T082955Z
LAST-MODIFIED:20250701T121640Z
UID:31479-1752577200-1752580800@research.reading.ac.uk
SUMMARY:Royal Society Entrepreneur in Residence | Innovation Seminar Series | July 2025
DESCRIPTION:[vc_row][vc_column][vc_single_image image=”31480″ img_size=”full”][vc_column_text]Please sign-up to the event and let us know if you are planning to attend in person or online so that we can have an idea of numbers and send you the calendar/hybrid link. Thank you.[/vc_column_text][/vc_column][/vc_row]
URL:https://research.reading.ac.uk/research-blog/event/royal-society-entrepreneur-in-residence-innovation-seminar-series-july-2025/
LOCATION:Chancellor’s Building GO8
END:VEVENT
END:VCALENDAR