BEGIN:VCALENDAR
VERSION:2.0
PRODID:-//Connecting Research - ECPv6.0.5//NONSGML v1.0//EN
CALSCALE:GREGORIAN
METHOD:PUBLISH
X-ORIGINAL-URL:https://research.reading.ac.uk/research-blog
X-WR-CALDESC:Events for Connecting Research
REFRESH-INTERVAL;VALUE=DURATION:PT1H
X-Robots-Tag:noindex
X-PUBLISHED-TTL:PT1H
BEGIN:VTIMEZONE
TZID:Europe/London
BEGIN:DAYLIGHT
TZOFFSETFROM:+0000
TZOFFSETTO:+0100
TZNAME:BST
DTSTART:20250330T010000
END:DAYLIGHT
BEGIN:STANDARD
TZOFFSETFROM:+0100
TZOFFSETTO:+0000
TZNAME:GMT
DTSTART:20251026T010000
END:STANDARD
END:VTIMEZONE
BEGIN:VEVENT
DTSTART;VALUE=DATE:20250908
DTEND;VALUE=DATE:20250911
DTSTAMP:20260423T052621
CREATED:20250822T134326Z
LAST-MODIFIED:20250822T135052Z
UID:31696-1757289600-1757548799@research.reading.ac.uk
SUMMARY:Child Language Symposium 2025
DESCRIPTION:[vc_row][vc_column][vc_column_text]The University of Reading is pleased to host the 2025 edition of the Child Language Symposium on 8 – 10 September 2025. \nThis international conference will welcome leading researchers to discuss the latest in child language research\, coinciding with both the 50th anniversary of Speech and Language Therapy and the 60th anniversary of Linguistics at Reading. \nKeynote Speakers\nProf Chloe Marshall\nProf Jacopo Torregrossa\nProf Cristina McKean\nProf Catherine Davies\nDr Rowena Garcia[/vc_column_text][/vc_column][/vc_row]
URL:https://research.reading.ac.uk/research-blog/event/child-language-symposium-2025/
LOCATION:Palmer Building\, Whiteknights Campus\, University of Reading.
ATTACH;FMTTYPE=image/png:https://research.reading.ac.uk/research-blog/wp-content/uploads/sites/72/2025/08/CSL-2025-logo.png
END:VEVENT
BEGIN:VEVENT
DTSTART;VALUE=DATE:20250908
DTEND;VALUE=DATE:20250911
DTSTAMP:20260423T052621
CREATED:20250822T134332Z
LAST-MODIFIED:20250822T134745Z
UID:31693-1757289600-1757548799@research.reading.ac.uk
SUMMARY:56th Annual Conference of the Money\, Macro and Finance Society
DESCRIPTION:[vc_row][vc_column][vc_column_text]The Money Macro and Finance Society is a registered charity\, committed to the advancement of education in the fields of monetary economics\, macroeconomics\, and financial economics within the United Kingdom. \n56th Annual Conference of the Money\, Macro and Finance Society will be held at Henley Business School\, University of Reading on 8 – 10 September 2025. \nKEYNOTE SPEAKERS: \n\nUfuk Akcigit (Chicago) – Harry Johnson Lecture\nOlivier Coibion (UT Austin)\nTommaso Monacelli (Bocconi) – Charles Goodhart Lecture\nLoriana Pelizzon (Goethe\, SAFE)\n\nRegistration is open until 31 August.[/vc_column_text][/vc_column][/vc_row]
URL:https://research.reading.ac.uk/research-blog/event/56th-annual-conference-of-the-money-macro-and-finance-society/
LOCATION:Henley Business School
ATTACH;FMTTYPE=image/jpeg:https://research.reading.ac.uk/research-blog/wp-content/uploads/sites/72/2025/08/money-scaled-e1755869000724.jpg
END:VEVENT
BEGIN:VEVENT
DTSTART;TZID=Europe/London:20250910T133000
DTEND;TZID=Europe/London:20250910T160000
DTSTAMP:20260423T052621
CREATED:20250822T115115Z
LAST-MODIFIED:20250822T122549Z
UID:31690-1757511000-1757520000@research.reading.ac.uk
SUMMARY:Celebrating 50 years of speech and language therapy at Reading
DESCRIPTION:[vc_row][vc_column][vc_column_text]This year marks 50 years since Speech and Language Therapy was first established at the University of Reading — a milestone that highlights decades of world-class research\, teaching and clinical practice that have transformed lives in the UK and around the world. \nWe are delighted to invite you to our celebration event which will feature talks and reflections from current staff and students\, alumni and service users. Interactive activities will allow time to connect\, share\, reflect and look forward. \nThis event is free and open to all\, but you must register to attend. If you would like to attend\, please complete the registration form.[/vc_column_text][/vc_column][/vc_row]
URL:https://research.reading.ac.uk/research-blog/event/celebrating-50-years-of-speech-and-language-therapy-at-reading/
LOCATION:Palmer Building\, G10
ATTACH;FMTTYPE=image/png:https://research.reading.ac.uk/research-blog/wp-content/uploads/sites/72/2025/08/50-years-Speech-T-black.png
END:VEVENT
BEGIN:VEVENT
DTSTART;TZID=Europe/London:20250910T163000
DTEND;TZID=Europe/London:20250910T180000
DTSTAMP:20260423T052621
CREATED:20250822T113637Z
LAST-MODIFIED:20250822T113637Z
UID:31684-1757521800-1757527200@research.reading.ac.uk
SUMMARY:Professor David Crystal “in conversation”: Celebrating 60 years of linguistics at Reading
DESCRIPTION:[vc_row][vc_column][vc_column_text]We are delighted to celebrate 60 years of Linguistics at the University of Reading. To celebrate\, we are delighted to announce an event with Professor David Crystal. Professor Crystal is a world-renowned expert in linguistics and pioneered the study of linguistics and English Language in the United Kingdom. He worked at the University of Reading between 1965 and 1984\, holding a Chair in Linguistics at the university for 10 years. He has published over 100 books\, including The Cambridge Encyclopedia of the English Language and the more recent Let’s Talk: How English Conversation Works. We are delighted to have Professor Crystal visit Reading to celebrate our 60th anniversary of linguistics. \nPlease join use for Professor David Crystal In Conversation\, an intimate conversation with one of the founding members of linguistics at Reading. Taking place from 4.30pm – 6.00pm on Wednesday September 10th\, 2025 at the University of Reading\, this is a free event open to all. \nIf you would like to attend\, please complete the registration form.[/vc_column_text][/vc_column][/vc_row]
URL:https://research.reading.ac.uk/research-blog/event/david-crystal-in-conversation/
LOCATION:Palmer Building\, G10
CATEGORIES:Agriculture, Food & Health
ATTACH;FMTTYPE=image/png:https://research.reading.ac.uk/research-blog/wp-content/uploads/sites/72/2025/08/60-years-Linguistics-black.png
END:VEVENT
END:VCALENDAR