BEGIN:VCALENDAR
VERSION:2.0
PRODID:-//Connecting Research - ECPv6.0.5//NONSGML v1.0//EN
CALSCALE:GREGORIAN
METHOD:PUBLISH
X-WR-CALNAME:Connecting Research
X-ORIGINAL-URL:https://research.reading.ac.uk/research-blog
X-WR-CALDESC:Events for Connecting Research
REFRESH-INTERVAL;VALUE=DURATION:PT1H
X-Robots-Tag:noindex
X-PUBLISHED-TTL:PT1H
BEGIN:VTIMEZONE
TZID:Europe/London
BEGIN:DAYLIGHT
TZOFFSETFROM:+0000
TZOFFSETTO:+0100
TZNAME:BST
DTSTART:20250330T010000
END:DAYLIGHT
BEGIN:STANDARD
TZOFFSETFROM:+0100
TZOFFSETTO:+0000
TZNAME:GMT
DTSTART:20251026T010000
END:STANDARD
END:VTIMEZONE
BEGIN:VEVENT
DTSTART;VALUE=DATE:20250917
DTEND;VALUE=DATE:20250918
DTSTAMP:20260423T033157
CREATED:20250321T093221Z
LAST-MODIFIED:20250321T093221Z
UID:31042-1758067200-1758153599@research.reading.ac.uk
SUMMARY:International Research Culture Conference 2025
DESCRIPTION:[vc_row][vc_column][vc_column_text] \n\nCall for Abstracts and Proposals: International Research Culture Conference 2025 \n\n\nThe International Research Culture Conference\, hosted by the University of Warwick\, is accepting abstracts and proposals for talks\, posters or interactive workshops until 11 April 2025. Abstracts or proposals should relate to one or more of the following themes:  \n\n\n\nCollaboration\, connectivity and sustainability\n\n\n\n\nMetrics that matter – measuring progress for the future\n\n\n\n\nIntegrity\, trust and transparency in research\n\n\n\n\nBuilding and empowering inclusive research communities\n\n\n\n\nImproving careers with and for future researchers and research enablers\n\n\n\nVisit Warwick’s website for more information and to make a submission.  \n\n\nOur Research Culture Manager\, Miranda Raven (m.raven@reading.ac.uk)\, is available to discuss abstracts and proposals.  \n\n[/vc_column_text][/vc_column][/vc_row]
URL:https://research.reading.ac.uk/research-blog/event/international-research-culture-conference-2025/
LOCATION:University of Warwick
END:VEVENT
BEGIN:VEVENT
DTSTART;TZID=Europe/London:20250917T160000
DTEND;TZID=Europe/London:20250917T190000
DTSTAMP:20260423T033157
CREATED:20250820T095109Z
LAST-MODIFIED:20250820T100148Z
UID:31663-1758124800-1758135600@research.reading.ac.uk
SUMMARY:Community Led Research Pilot (CLRP) Celebration Event
DESCRIPTION:[vc_row][vc_column][vc_btn title=”Get tickets” color=”danger” link=”url:https%3A%2F%2Fwww.eventbrite.co.uk%2Fe%2F1343743425759%3Faff%3Doddtdtcreator|target:_blank”][vc_column_text]Join us as we celebrate the conclusion of the Community Led Research Pilot (CLRP) and honor the learning & achievements it inspired! \nWelcome to the Community Led Research Pilot (CLRP) Celebration Event! \nPlease join us in person to celebrate six community led research projects based in Reading and Slough\, sharing learnings through their project case studies and final report. \nThe Community Led Research Pilot was a pilot based in Reading and Slough\, putting communities at the heart of the research process – inviting local groups to develop and deliver their own research. This initiative was funded by UK Research & Innovation (UKRI) and co-created with the University of Reading and the British Science Association. \nTogether as One \nTogether as One\, a youth-led charity in Slough\, worked to explore the link between engaging in environmental social action to improve young people’s mental health. Through training\, youth work\, and creative projects\, they worked to investigate the potential positive effects of participating in an urban beekeeping project on the mental wellbeing of young people. \nSlough Anti-Litter Society (SALS) \nThe Slough Anti-Litter Society\, founded on a vision for a cleaner and greener Slough\, encourages residents to clean up\, reduce waste\, and embrace sustainable practices. Through community litter picks\, upcycling fashion events\, clothes swaps\, and a repair café they are bringing the community together. This community of volunteers worked to find out about the community’s attitude and behaviour toward littering\, through community organising and digital technology. \nReading Hong Kongers \nReading HongKongers CIC\, founded in 2022\, supports Hongkongers who have settled in the Berkshire area through the government scheme of British National (Overseas) (BNO) visa route and supports them to integrate into the local community. They investigated the impacts of community gardening on belonging\, identity\, cohesion\, biodiversity and mental wellbeing. Additionally\, they aimed to find out the possibility of cultivating native Hong Kong plants and crops in Reading. \nTRIYBE \nTRIYBE are a community group in Reading who “Support communities and individuals to create positive change by challenging systems of oppression\, racism and inequality”. They investigated the chemicals that go into commonly used black hair products and their impact on the health and cultural identity of the local community. This initiative aimed to address concerns about the potential health effects of these products and explore natural alternatives that promote both physical well-being and cultural empowerment. \nThe Engine Room \nThe Engine Room Sound Laboratory (TERSL) investigated how sound and acoustics influence the well-being of the Dee Park urban community. The project explored the sound of emotions through concrete\, the impact of colours on well-being\, and noise effects on concentration. \nIntegrated Research and Development Centre (IRDC) \nThe Integrated Research and Development Centre (IRDC) addresses health and environmental challenges in underrepresented communities\, including Nepalese communities\, in Reading. The project aims to improve gardening practices through Nepalese customs\, composting management\, and food waste recycling. By growing seasonal vegetables and flowers\, the project seeks to educate communities about the importance of nutrition\, promote physical exercise\, recycle garden waste to improve the environment and people’s health and reduce social isolation. The project aims to engage with minority communities\, low income groups\, senior citizens and those with disabilities by promoting healthy living\, environmental sustainability\, mental health and belonging through inclusive gardening. \nThis event is a great opportunity to connect with community and academic researchers\, explore how communities are reshaping what research and innovation can be\, share insights\, and celebrate the power\, achievements and learning from participatory approaches to research together with the University of Reading\, the British Science Association. Look forward to seeing you there![/vc_column_text][vc_btn title=”Get tickets” color=”danger” link=”url:https%3A%2F%2Fwww.eventbrite.co.uk%2Fe%2F1343743425759%3Faff%3Doddtdtcreator|target:_blank”][/vc_column][/vc_row]
URL:https://research.reading.ac.uk/research-blog/event/community-led-research-pilot-clrp-celebration-event/
LOCATION:Meadow Suite\, Park House\, Meadow Suite\, Park House\, RG6 6UR\, United Kingdom
ATTACH;FMTTYPE=image/jpeg:https://research.reading.ac.uk/research-blog/wp-content/uploads/sites/72/2025/08/clrp.jpeg
END:VEVENT
END:VCALENDAR