BEGIN:VCALENDAR
VERSION:2.0
PRODID:-//Connecting Research - ECPv6.0.5//NONSGML v1.0//EN
CALSCALE:GREGORIAN
METHOD:PUBLISH
X-ORIGINAL-URL:https://research.reading.ac.uk/research-blog
X-WR-CALDESC:Events for Connecting Research
REFRESH-INTERVAL;VALUE=DURATION:PT1H
X-Robots-Tag:noindex
X-PUBLISHED-TTL:PT1H
BEGIN:VTIMEZONE
TZID:Europe/London
BEGIN:DAYLIGHT
TZOFFSETFROM:+0000
TZOFFSETTO:+0100
TZNAME:BST
DTSTART:20250330T010000
END:DAYLIGHT
BEGIN:STANDARD
TZOFFSETFROM:+0100
TZOFFSETTO:+0000
TZNAME:GMT
DTSTART:20251026T010000
END:STANDARD
END:VTIMEZONE
BEGIN:VEVENT
DTSTART;VALUE=DATE:20250925
DTEND;VALUE=DATE:20251213
DTSTAMP:20260422T231040
CREATED:20250822T112019Z
LAST-MODIFIED:20250822T113523Z
UID:31678-1758758400-1765583999@research.reading.ac.uk
SUMMARY:UK Reproducibility Network Training
DESCRIPTION:[vc_row][vc_column][vc_column_text]From September-December 2025\, the UK Reproducibility Network (UKRN) is running a series of training workshops that are open to University of Reading research and professional services staff. For more information and details of how to register\, please contact Reading’s UKRN Open Research Coordinator\, Evangeline Gowie. \nPlease note: The registration deadline for all training is Wednesday 17th September 2025. \n  \nProject TIER/UKRN Workshop: Teaching Transparent Methods of Empirical Research\nThis course is a variant on the train-the-trainer model. The training provided in the workshop prepares participants to introduce reproducible methods of quantitative research to students in taught classes and/or supervised research. The course will begin with an exposition of practices that are essential to reproducible research\, and then turn to a discussion of pedagogical strategies for incorporating them in quantitative methods instruction. It is aimed at: \n\nAcademics who teach courses in some aspect of data analysis\, statistics\, or quantitative research methods and/or supervise students conducting research involving analysis of statistical data.\nOther staff who support instructors and/or provide support to students doing statistical analyses.\nStaff with responsibilities for oversight of departmental or program curriculum.\n\n  \n\nOption 1 (virtual): Thursday 25 and Friday 26 September 2025\nOption 2 (in person\, KCL Waterloo Campus): Wednesday 15 and Thursday 16 October 2025\nOption 3 (virtual): Thursday 11 and Friday 12 December 2025\n\n  \nImplementation of the FAIR Principles\nAppropriate management and curation of data is of increasing relevance to the current research landscape and planning for FAIR data from the beginning of a project is crucial\, yet the FAIR principles are often conflated with open data and similar practices. Open Research practices and the FAIR principles are interlinked\, therefore this training will support you to indicate to others how these two areas are complementary. It would be beneficial for anyone who has an interest in data curation and management at all stages throughout the data life cycle and has a role in supporting others to make their outputs FAIR. You will be shown a representative training session which links OR practices to FAIR outputs and gives an overview as to why the FAIR principles are relevant. \n\nTuesday 14 October 2025\, 09.00-15.00\, Online\n\n  \nByte-sized RSE\nThis course is for Research Software Engineers (RSEs)\, researchers and postgraduates involved in computational research who already possess foundational computational skills and who are now: \n\nlooking for quick refreshers\, tips\, or wanting to improve the sustainability or quality of their research code and are keen on continuous learning without heavy time investment.\ninterested in advancing their skills and learning best practices for software in research.\nseeking digestible content to bridge the gap between research and software and benefiting from short-form RSE tips/tools to improve their research workflows.\n\n  \n\nLesson 1: Code Development & Debugging with IDEs\, 11 November\, 10:00 -12:00 (time TBC)\, online\nLesson 2: Code Style\, Quality & Linting\, 12 November\, 10:00 -12:00 (time TBC)\, online\nLesson 3: Intermediate Git\, 13 November\, 10:00 -12:00 (time TBC)\, online\nLesson 4: Code Review\, 18 November\, 10:00 -12:00 (time TBC)\, online\nLesson 5: Unit Testing Code\, 19 November\, 10:00 -12:00 (time TBC)\, online\nLesson 6: Continuous Integration\, 20 November\, 10:00 -12:00 (time TBC)\, online\n\n  \nExperimental Design for Open and Reproducible Research: NC3Rs Experimental Design Assistant (EDA)\nThis course is for researchers\, technicians\, and all others involved in designing animal experiments and/or reviewing experimental design in colleagues’ or students’ work. \n\nThursday 13 November 2025\, 10:00 – 16:00\, online.\n\n  \nResponsible Research Metrics\nThis course is for librarians\, professional services staff and researchers with an interest in research metrics. Attendees should have a knowledge of the metrics systems used by institutions to measure research outputs\, as well as an understanding of the research workflow. Ideally\, attendees will have a background in bibliometrics. Attendees will need to create a GitHub account\, or have access to an institutional account\, therefore it is preferable that attendees are already familiar with the GitHub web GUI. \n\nTuesday 18 November 2025\, online (time TBC)\n\n  \nElectronic Lab Notebooks: best practice for data/metadata retention\nThis course is suitable for researchers\, technicians\, and research managers who want to promote best practice. It requires an in-depth knowledge of the research workflow and required documentation. Experience of supporting others and managing projects would be useful. \n\nWednesday 3 December 2025\, 09.00-15.00\, online\n\n[/vc_column_text][/vc_column][/vc_row]
URL:https://research.reading.ac.uk/research-blog/event/uk-reproducibility-network-training/
END:VEVENT
END:VCALENDAR