BEGIN:VCALENDAR
VERSION:2.0
PRODID:-//Connecting Research - ECPv6.0.5//NONSGML v1.0//EN
CALSCALE:GREGORIAN
METHOD:PUBLISH
X-ORIGINAL-URL:https://research.reading.ac.uk/research-blog
X-WR-CALDESC:Events for Connecting Research
REFRESH-INTERVAL;VALUE=DURATION:PT1H
X-Robots-Tag:noindex
X-PUBLISHED-TTL:PT1H
BEGIN:VTIMEZONE
TZID:Europe/London
BEGIN:DAYLIGHT
TZOFFSETFROM:+0000
TZOFFSETTO:+0100
TZNAME:BST
DTSTART:20190331T010000
END:DAYLIGHT
BEGIN:STANDARD
TZOFFSETFROM:+0100
TZOFFSETTO:+0000
TZNAME:GMT
DTSTART:20191027T010000
END:STANDARD
END:VTIMEZONE
BEGIN:VEVENT
DTSTART;TZID=Europe/London:20190403T080000
DTEND;TZID=Europe/London:20190424T170000
DTSTAMP:20260425T200721
CREATED:20190403T084047Z
LAST-MODIFIED:20230209T175417Z
UID:17386-1554278400-1556125200@research.reading.ac.uk
SUMMARY:Volunteers needed for a trial studying emotions
DESCRIPTION:Researchers from the University of Reading’s School of Psychology and Clinical Language Sciences are looking for volunteers for a study on emotions. To take part you must be between 18-35 years of age. It will take 30 minutes of your time and you will receive £5 for your participation. If you are interested please email us and we can arrange a time for you to take part: c.elizabeth@reading.ac.uk \nPlease share with anyone else you know who may be interested. You can bring friends to test on the same day if you wish. \n 
URL:https://research.reading.ac.uk/research-blog/event/volunteers-needed-for-a-trial-studying-emotions/
LOCATION:Berkshire
CATEGORIES:Agriculture, Food & Health
END:VEVENT
BEGIN:VEVENT
DTSTART;VALUE=DATE:20190402
DTEND;VALUE=DATE:20190403
DTSTAMP:20260425T200721
CREATED:20190116T111942Z
LAST-MODIFIED:20230208T161351Z
UID:5637-1554163200-1554249599@research.reading.ac.uk
SUMMARY:School of Agriculture - Crops Research Seminars: Paul Hadley
DESCRIPTION:School of Agriculture – Crops Research Seminar Series. \nPaul Hadley
URL:https://research.reading.ac.uk/research-blog/event/school-of-agriculture-crops-research-seminars-paul-hadley-2/
LOCATION:Frank Parkinson room\, Agriculture\, Whiteknights\, RG6 7BE
CATEGORIES:Agriculture, Food & Health
END:VEVENT
BEGIN:VEVENT
DTSTART;TZID=Europe/London:20190328T180000
DTEND;TZID=Europe/London:20190328T190000
DTSTAMP:20260425T200721
CREATED:20180702T155703Z
LAST-MODIFIED:20230209T175556Z
UID:3055-1553796000-1553799600@research.reading.ac.uk
SUMMARY:Reading 2050: The Future of the Reading Diamond in the Thames Valley
DESCRIPTION:Please join Professor Kathy Pain from the School of Real Estate and Planning\, for a lecture: ‘The Future of the Reading Diamond in the Thames Valley’ \nThe lecture is part of the ‘Economy and Employment’ theme of the Reading 2050 lecture series\, which provide a platform to discuss how Reading should evolve into a smarter and more sustainable city by 2050 (www.reading2050.co.uk ) \nAdmission to the lecture is free. \nThe SBE\, Barton Wilmore and Reading UK\, established the Reading 2050 group in 2013. The Reading 2050 lecture series is structured around three themes\, which underpin the Reading 2050 vision: \n*Place and Environment\n*People and Lifestyle\n*Economy and Employment \nIn 2017\, the School brought together expert speakers to discuss Reading’s heritage and history\, the future of its transport and energy and the impact of climate change and floods. A discussion on Reading’s Art and Culture was facilitated in 2018\, and there are other Reading 2050 events planned for 2019. \nhttps://livingreading.co.uk/publications-events
URL:https://research.reading.ac.uk/research-blog/event/reading-2050-the-future-of-the-reading-diamond-in-the-thames-valley/
LOCATION:L022 G01\, L022 G01\, London Road Campus\, Reading\, RG1 5AQ
CATEGORIES:Agriculture, Food & Health,Environment,Prosperity & Resilience
ORGANIZER;CN="School%20of%20Architecture":MAILTO:architecture@​reading.ac.uk 
END:VEVENT
BEGIN:VEVENT
DTSTART;TZID=Europe/London:20190328T080000
DTEND;TZID=Europe/London:20190428T170000
DTSTAMP:20260425T200721
CREATED:20190328T102047Z
LAST-MODIFIED:20230209T175424Z
UID:17359-1553760000-1556470800@research.reading.ac.uk
SUMMARY:Volunteers needed for blood pressure trial
DESCRIPTION:Volunteers needed! To determine the effect of beetroot juice on blood pressure and types of oral bacteria. \nWe are looking for men and women aged 18 to 64 years. \nContact: nutritionvolunteers@reading.ac.uk and quote REBOC 2
URL:https://research.reading.ac.uk/research-blog/event/volunteers-needed-for-blood-pressure-trial/
LOCATION:Berkshire
CATEGORIES:Agriculture, Food & Health
END:VEVENT
BEGIN:VEVENT
DTSTART;TZID=Europe/London:20190326T080000
DTEND;TZID=Europe/London:20190326T170000
DTSTAMP:20260425T200721
CREATED:20190116T111929Z
LAST-MODIFIED:20230208T161358Z
UID:5556-1553587200-1553619600@research.reading.ac.uk
SUMMARY:School of Agriculture - Crops Research Seminars - Edward Venison
DESCRIPTION:School of Agriculture – Crops Seminar Series. \nEdward Venison
URL:https://research.reading.ac.uk/research-blog/event/school-of-agriculture-crops-research-seminars-edward-venison/
LOCATION:Frank Parkinson room\, Agriculture\, Whiteknights\, RG6 7BE
CATEGORIES:Agriculture, Food & Health
END:VEVENT
BEGIN:VEVENT
DTSTART;TZID=Europe/London:20190320T130000
DTEND;TZID=Europe/London:20190320T140000
DTSTAMP:20260425T200721
CREATED:20190116T161159Z
LAST-MODIFIED:20230208T161403Z
UID:10516-1553086800-1553090400@research.reading.ac.uk
SUMMARY:The Effects of Dietary Fat Composition on Abdominal Obesity and Related Cardiometabolic Risk & Effects of n-3 polyunsaturated fatty acids on the generation and function of platelet-derived microvesicles
DESCRIPTION:Food and Nutritional Science Research Seminars. \nEzgi Ozen\n“The Effects of Dietary Fat Composition on Abdominal Obesity and Related Cardiometabolic Risk” \nEsra Bozbas\n”Effects of n-3 polyunsaturated fatty acids on the generation and function of platelet-derived microvesicles”
URL:https://research.reading.ac.uk/research-blog/event/the-effects-of-dietary-fat-composition-on-abdominal-obesity-and-related-cardiometabolic-risk-effects-of-n-3-polyunsaturated-fatty-acids-on-the-generation-and-function-of-platelet-derived-microve/
LOCATION:CHEMLT1\, Whiteknights Campus\, University of Reading\, Reading\, Berkshire\, RG6 6UR
CATEGORIES:Agriculture, Food & Health
END:VEVENT
BEGIN:VEVENT
DTSTART;VALUE=DATE:20190319
DTEND;VALUE=DATE:20190320
DTSTAMP:20260425T200721
CREATED:20190116T111913Z
LAST-MODIFIED:20230208T161408Z
UID:5001-1552953600-1553039999@research.reading.ac.uk
SUMMARY:School of Agriculture - Crops Research Seminars - Fiona Lahive
DESCRIPTION:School of Agriculture – Crops Research Seminar Series. \nFiona Lahive
URL:https://research.reading.ac.uk/research-blog/event/school-of-agriculture-crops-research-seminars-fiona-lahive/
LOCATION:Frank Parkinson room\, Agriculture\, Whiteknights\, RG6 7BE
CATEGORIES:Agriculture, Food & Health
END:VEVENT
BEGIN:VEVENT
DTSTART;TZID=Europe/London:20190313T130000
DTEND;TZID=Europe/London:20190313T140000
DTSTAMP:20260425T200721
CREATED:20190116T161158Z
LAST-MODIFIED:20230208T161414Z
UID:10513-1552482000-1552485600@research.reading.ac.uk
SUMMARY:Evaluation of the antiobesogenic effect in Brazilian plant extracts & Listeria monocytogenes acid resistance\, extracellular GABA production and regulation in defined media
DESCRIPTION:Food and Nutritional Science Research Seminars. \nCyntia\n“Evaluation of the antiobesogenic effect in Brazilian plant extracts” \nCarolina Bruschi\n“Listeria monocytogenes acid resistance\, extracellular GABA production and regulation in defined media”
URL:https://research.reading.ac.uk/research-blog/event/evaluation-of-the-antiobesogenic-effect-in-brazilian-plant-extracts-listeria-monocytogenes-acid-resistance-extracellular-gaba-production-and-regulation-in-defined-media/
LOCATION:Harborne Lecture Theatre\, Harborne Building\, Whiteknights Campus\, Reading\, Berkshire\, RG6 6UR
CATEGORIES:Agriculture, Food & Health
END:VEVENT
BEGIN:VEVENT
DTSTART;VALUE=DATE:20190312
DTEND;VALUE=DATE:20190313
DTSTAMP:20260425T200721
CREATED:20190116T112309Z
LAST-MODIFIED:20230208T161421Z
UID:4976-1552348800-1552435199@research.reading.ac.uk
SUMMARY:School of Agriculture - Crops Research Seminars - Deepti Angra
DESCRIPTION:School of Agriculture – Crops Research Seminar Series. \nDeepti Angra
URL:https://research.reading.ac.uk/research-blog/event/school-of-agriculture-crops-research-seminars-deepti-angra/
LOCATION:Frank Parkinson room\, Agriculture\, Whiteknights\, RG6 7BE
CATEGORIES:Agriculture, Food & Health
END:VEVENT
BEGIN:VEVENT
DTSTART;TZID=Europe/London:20190306T130000
DTEND;TZID=Europe/London:20190306T140000
DTSTAMP:20260425T200721
CREATED:20190116T161157Z
LAST-MODIFIED:20230208T161426Z
UID:10510-1551877200-1551880800@research.reading.ac.uk
SUMMARY:Investigating the potential probiotic role of yeast in controlling E. Coli in chicken gut & Assessment of the genoprotective effect (poly)phenolic extracts from green pepper in colon cancer cells
DESCRIPTION:Food and Nutritional Science Research Seminars. \nMaha Aldeieg\n“Investigating the potential probiotic role of yeast in controlling E. Coli in chicken gut” \nEstibaliz Huarte\n“Assessment of the genoprotective effect (poly)phenolic extracts from green pepper in colon cancer cells”
URL:https://research.reading.ac.uk/research-blog/event/investigating-the-potential-probiotic-role-of-yeast-in-controlling-e-coli-in-chicken-gut-assessment-of-the-genoprotective-effect-polyphenolic-extracts-from-green-pepper-in-colon-cancer-cells/
LOCATION:CHEMLT1\, Whiteknights Campus\, University of Reading\, Reading\, Berkshire\, RG6 6UR
CATEGORIES:Agriculture, Food & Health
END:VEVENT
BEGIN:VEVENT
DTSTART;TZID=Europe/London:20190305T130000
DTEND;TZID=Europe/London:20190305T135000
DTSTAMP:20260425T200721
CREATED:20190116T155434Z
LAST-MODIFIED:20230209T175435Z
UID:10160-1551790800-1551793800@research.reading.ac.uk
SUMMARY:The evolution of parental care diversity in mammals and amphibians
DESCRIPTION:School of Biological Sciences – Research Seminar Series. \nDr Isabella Capellini – University of Hull \nHosted by Dr Manuela Gonzalez-Suarez
URL:https://research.reading.ac.uk/research-blog/event/the-evolution-of-parental-care-diversity-in-mammals-and-amphibians/
LOCATION:Harborne Lecture Theatre\, Harborne Building\, Whiteknights Campus\, Reading\, Berkshire\, RG6 6UR
CATEGORIES:Agriculture, Food & Health
END:VEVENT
BEGIN:VEVENT
DTSTART;VALUE=DATE:20190305
DTEND;VALUE=DATE:20190306
DTSTAMP:20260425T200721
CREATED:20190116T111546Z
LAST-MODIFIED:20230208T160748Z
UID:4960-1551744000-1551830399@research.reading.ac.uk
SUMMARY:School of Agriculture - Crops Research Seminars - John Hammond
DESCRIPTION:School of Agriculture – Crops Research Seminar Series. \nJohn Hammond
URL:https://research.reading.ac.uk/research-blog/event/crop-research-talk-john-hammond/
LOCATION:Frank Parkinson room\, Agriculture\, Whiteknights\, RG6 7BE
CATEGORIES:Agriculture, Food & Health
END:VEVENT
BEGIN:VEVENT
DTSTART;TZID=Europe/London:20190228T180000
DTEND;TZID=Europe/London:20190228T190000
DTSTAMP:20260425T200721
CREATED:20180702T115015Z
LAST-MODIFIED:20230209T175442Z
UID:3047-1551376800-1551380400@research.reading.ac.uk
SUMMARY:Reading 2050: Digital Visualisation - Understanding the Past and Revealing the Future
DESCRIPTION:A lecture by Dr. Ian J. Ewart and Dr. Dragana Nikolic\, School of the Built Environment \nIn this lecture we will explore the concept of virtual realities and digital visualization\, examining how perceptions of new digital technologies influence our efforts to harness them. In applying these technologies to the urban environment we will show that it is possible to uncover the past by using evidence from sources such as archives and archaeology to recreate an environment that no longer exists\, with some degree of certainty. We will describe the work done in recreating the sights\, sounds and smells of Roman Silchester\, and how data from surveys and 3D modelling could be used to better understand the Reading Abbey quarter. \nIn keeping with the theme of this lecture series\, we will then discuss the potential for digital technologies to shape the urban future of towns and cities like Reading. Modelling alternative futures allows us to explore consequences and make informed decisions\, so we will discuss and demonstrate some of the tools that are already available to help us do this\, such as our ongoing digital mapping of Reading. Simulations at different scales\, from the national to regions and cities\, and down to individual interactions with small urban areas can offer insights into how our future looks. But we end with a note of caution\, tempering our enthusiasm for digital technologies by recognizing that they need to be relevant and useful\, and applied with a specific objective in mind. \nThe lecture is part of the ‘People and Lifestyle’ theme of the Reading 2050 lecture series\, which provide a platform to discuss how Reading should evolve into a smarter and more sustainable city by 2050 (www.reading2050.co.uk ) \nAdmission to the lecture is free. \nThe SBE\, Barton Wilmore and Reading UK\, established the Reading 2050 group in 2013. The Reading 2050 lecture series is structured around three themes\, which underpin the Reading 2050 vision: \n*Place and Environment\n*People and Lifestyle\n*Economy and Employment \nIn 2017\, the School brought together expert speakers to discuss Reading’s heritage and history\, the future of its transport and energy and the impact of climate change and floods. A discussion on Reading’s Art and Culture was facilitated in 2018\, and there are other Reading 2050 events planned for 2019. \nhttps://livingreading.co.uk/publications-events
URL:https://research.reading.ac.uk/research-blog/event/reading-2050-digital-visualisation/
LOCATION:Berkshire
CATEGORIES:Agriculture, Food & Health,Environment,Prosperity & Resilience
ORGANIZER;CN="School%20of%20Architecture":MAILTO:architecture@​reading.ac.uk 
END:VEVENT
BEGIN:VEVENT
DTSTART;TZID=Europe/London:20190227T130000
DTEND;TZID=Europe/London:20190227T140000
DTSTAMP:20260425T200721
CREATED:20190116T161156Z
LAST-MODIFIED:20230208T160755Z
UID:10507-1551272400-1551276000@research.reading.ac.uk
SUMMARY:High Resolution Magic Angle Spinning (HR-MAS) NMR: From metalolomics to interaction studies & TBC
DESCRIPTION:Food and Nutritional Science Research Seminars. \nDr. Miriam Clegg\nTBC \nDr. Elina Puljula\n“High Resolution Magic Angle Spinning (HR-MAS) NMR: From metalolomics to interaction studies”
URL:https://research.reading.ac.uk/research-blog/event/high-resolution-magic-angle-spinning-hr-mas-nmr-from-metalolomics-to-interaction-studies-tbc/
LOCATION:CHEMLT1\, Whiteknights Campus\, University of Reading\, Reading\, Berkshire\, RG6 6UR
CATEGORIES:Agriculture, Food & Health
END:VEVENT
BEGIN:VEVENT
DTSTART;TZID=Europe/London:20190226T130000
DTEND;TZID=Europe/London:20190226T135000
DTSTAMP:20260425T200721
CREATED:20190116T155446Z
LAST-MODIFIED:20230209T175447Z
UID:10168-1551186000-1551189000@research.reading.ac.uk
SUMMARY:On the malleability of proteins and the emergence of novel coding elements
DESCRIPTION:School of Biological Sciences – Research Seminar Series. \nDr Mary J. O’Connell – University of Leeds \nHosted by Dr Louise Johnson
URL:https://research.reading.ac.uk/research-blog/event/on-the-malleability-of-proteins-and-the-emergence-of-novel-coding-elements/
LOCATION:Harborne Lecture Theatre\, Harborne Building\, Whiteknights Campus\, Reading\, Berkshire\, RG6 6UR
CATEGORIES:Agriculture, Food & Health
END:VEVENT
BEGIN:VEVENT
DTSTART;TZID=Europe/London:20190226T130000
DTEND;TZID=Europe/London:20190226T135000
DTSTAMP:20260425T200721
CREATED:20190116T155425Z
LAST-MODIFIED:20230209T175454Z
UID:10156-1551186000-1551189000@research.reading.ac.uk
SUMMARY:Circulating monocytes after myocardial infarction show distinct activation patterns prior to recruitment and conserved transcriptional responses in mice and humans
DESCRIPTION:School of Biological Sciences – Research Seminar Series. \nDr Neil Ruparelia – Cardiac Consultant\, Royal Berkshire Hospital  \nHosted by Dr Sam Boateng
URL:https://research.reading.ac.uk/research-blog/event/circulating-monocytes-after-myocardial-infarction-show-distinct-activation-patterns-prior-to-recruitment-and-conserved-transcriptional-responses-in-mice-and-humans/
LOCATION:Harborne Lecture Theatre\, Harborne Building\, Whiteknights Campus\, Reading\, Berkshire\, RG6 6UR
CATEGORIES:Agriculture, Food & Health
END:VEVENT
BEGIN:VEVENT
DTSTART;VALUE=DATE:20190226
DTEND;VALUE=DATE:20190227
DTSTAMP:20260425T200721
CREATED:20190116T111854Z
LAST-MODIFIED:20230208T160801Z
UID:4930-1551139200-1551225599@research.reading.ac.uk
SUMMARY:School of Agriculture - Crops Research Seminars - Jake Bishop
DESCRIPTION:School of Agriculture – Crops Research Seminar Series. \nJake Bishop
URL:https://research.reading.ac.uk/research-blog/event/school-of-agriculture-crops-research-seminars-jake-bishop/
LOCATION:Agriculture Building\, Room 1L16\, Earley Gate\, Whiteknights\, Reading\, Berkshire\, RG6 7BE\, United Kingdom
CATEGORIES:Agriculture, Food & Health
END:VEVENT
BEGIN:VEVENT
DTSTART;TZID=Europe/London:20190221T130000
DTEND;TZID=Europe/London:20190221T140000
DTSTAMP:20260425T200721
CREATED:20190116T161155Z
LAST-MODIFIED:20230208T160808Z
UID:10505-1550754000-1550757600@research.reading.ac.uk
SUMMARY:1st Food and Nutritional Sciences Research Symposium
DESCRIPTION:Food and Nutritional Science Research Seminars.
URL:https://research.reading.ac.uk/research-blog/event/1st-food-and-nutritional-sciences-research-symposium/
LOCATION:CHEMLT1\, Whiteknights Campus\, University of Reading\, Reading\, Berkshire\, RG6 6UR
CATEGORIES:Agriculture, Food & Health
END:VEVENT
BEGIN:VEVENT
DTSTART;TZID=Europe/London:20190221T100000
DTEND;TZID=Europe/London:20190221T160000
DTSTAMP:20260425T200721
CREATED:20190220T161113Z
LAST-MODIFIED:20230209T175500Z
UID:17151-1550743200-1550764800@research.reading.ac.uk
SUMMARY:Healthy Ageing Workshop
DESCRIPTION:Slingo Lecture Theatre\, JJT Building (Talks) \nPharmacy Clinical Suites 1&2\, JJT Building (Breakout sessions) \nWhiteknights Campus\, University of Reading \nThe aim of the workshop is to bring together researchers from across the UoR to discuss Healthy Ageing research\, which is a current key UKRI challenge area. This is with a view to: showcase the breadth of relevant UoR research\, build collaborations and develop project ideas within the theme of healthy ageing towards future funding opportunities.  The workshop will include short talks from UoR researchers from across Schools\, a Keynote talk from UKRI/BBRSC/EPSRC and themed breakout sessions around focus areas. \nTo book a place\, please email James Church james.church@reading.ac.uk  by 5pm Thursday 14th February 2019
URL:https://research.reading.ac.uk/research-blog/event/healthy-ageing-workshop/
LOCATION:Slingo Lecture Theatre\, JJ Thompson Building
CATEGORIES:Agriculture, Food & Health
END:VEVENT
BEGIN:VEVENT
DTSTART;TZID=Europe/London:20190221T093000
DTEND;TZID=Europe/London:20190221T130000
DTSTAMP:20260425T200721
CREATED:20190220T155436Z
LAST-MODIFIED:20230208T160815Z
UID:17142-1550741400-1550754000@research.reading.ac.uk
SUMMARY:Research Staff Conference
DESCRIPTION:Aim: greater awareness of UoR support for appearing in the media and on social media\, and practical advice on dealing with the media from professional journalists and science communicators. \nAudience: open to all research staff at UoR\, aimed at postdoctoral research assistants
URL:https://research.reading.ac.uk/research-blog/event/research-staff-conference/
LOCATION:Berkshire
CATEGORIES:Agriculture, Food & Health,Environment,Heritage & Creativity,Prosperity & Resilience
END:VEVENT
BEGIN:VEVENT
DTSTART;TZID=Europe/London:20190220T080000
DTEND;TZID=Europe/London:20190320T170000
DTSTAMP:20260425T200721
CREATED:20190220T161942Z
LAST-MODIFIED:20230209T175507Z
UID:17153-1550649600-1553101200@research.reading.ac.uk
SUMMARY:Bipolar and Anxiety Research Trial: Imagery Based Emotion Regulation (IBER).
DESCRIPTION:The University of Reading is running this trial in collaboration with Berkshire Healthcare NHS Trust and NHS Devon Partnership NHS Trust. To find out more about anxiety and bipolar disorder or register as a participant in the trial\, visit the research group’s facebook page: https://www.facebook.com/notes/iber-bipolar-and-anxiety-research/isrctn-registration/1958638321111113/
URL:https://research.reading.ac.uk/research-blog/event/bipolar-and-anxiety-research-trial-imagery-based-emotion-regulation-iber/
LOCATION:Berkshire
CATEGORIES:Agriculture, Food & Health
END:VEVENT
BEGIN:VEVENT
DTSTART;TZID=Europe/London:20190219T130000
DTEND;TZID=Europe/London:20190219T135000
DTSTAMP:20260425T200721
CREATED:20190116T155442Z
LAST-MODIFIED:20230209T175514Z
UID:10164-1550581200-1550584200@research.reading.ac.uk
SUMMARY:Inherited bleeding and Endoribonucleases
DESCRIPTION:School of Biological Sciences – Research Seminar Series. \nDr Neil Morgan – University of Birmingham \nHosted by Dr Alice Pollitt
URL:https://research.reading.ac.uk/research-blog/event/inherited-bleeding-and-endoribonucleases/
LOCATION:Harborne Lecture Theatre\, Harborne Building\, Whiteknights Campus\, Reading\, Berkshire\, RG6 6UR
CATEGORIES:Agriculture, Food & Health
END:VEVENT
BEGIN:VEVENT
DTSTART;VALUE=DATE:20190219
DTEND;VALUE=DATE:20190220
DTSTAMP:20260425T200721
CREATED:20190116T112322Z
LAST-MODIFIED:20230208T160822Z
UID:4869-1550534400-1550620799@research.reading.ac.uk
SUMMARY:School of Agriculture - Crops Research Seminars - Caroline Harkness & Donald Zulu
DESCRIPTION:School of Agriculture – Crops Research Seminar Series. \nCaroline Harkness & Donald Zulu
URL:https://research.reading.ac.uk/research-blog/event/school-of-agriculture-crops-research-seminars-caroline-harkness-donald-zulu/
LOCATION:Frank Parkinson room\, Agriculture\, Whiteknights\, RG6 7BE
CATEGORIES:Agriculture, Food & Health
END:VEVENT
BEGIN:VEVENT
DTSTART;TZID=Europe/London:20190213T130000
DTEND;TZID=Europe/London:20190213T140000
DTSTAMP:20260425T200721
CREATED:20190116T161153Z
LAST-MODIFIED:20230208T160828Z
UID:10501-1550062800-1550066400@research.reading.ac.uk
SUMMARY:Listeria monocytogenes responses against oxidative stress & Development and characterisation of a processed meat product with health benefits
DESCRIPTION:Food and Nutritional Science Research Seminars. \nMarcia Boura\n“Listeria monocytogenes responses against oxidative stress” \nDr. Simona\n“Development and characterisation of a processed meat product with health benefits”
URL:https://research.reading.ac.uk/research-blog/event/listeria-monocytogenes-responses-against-oxidative-stress-development-and-characterisation-of-a-processed-meat-product-with-health-benefits/
LOCATION:Harborne Lecture Theatre\, Harborne Building\, Whiteknights Campus\, Reading\, Berkshire\, RG6 6UR
CATEGORIES:Agriculture, Food & Health
END:VEVENT
BEGIN:VEVENT
DTSTART;TZID=Europe/London:20190212T130000
DTEND;TZID=Europe/London:20190212T135000
DTSTAMP:20260425T200721
CREATED:20190116T155437Z
LAST-MODIFIED:20230209T175519Z
UID:10162-1549976400-1549979400@research.reading.ac.uk
SUMMARY:Biofortification of wheat as a strategy to improve zinc status in Pakistan:  the BIZIFED study
DESCRIPTION:School of Biological Sciences – Research Seminar Series. \nProf Nicola Lowe – The University of Central Lancashire \nHosted by Prof Simon Andrews
URL:https://research.reading.ac.uk/research-blog/event/biofortification-of-wheat-as-a-strategy-to-improve-zinc-status-in-pakistan-the-bizifed-study/
LOCATION:Harborne Lecture Theatre\, Harborne Building\, Whiteknights Campus\, Reading\, Berkshire\, RG6 6UR
CATEGORIES:Agriculture, Food & Health
END:VEVENT
BEGIN:VEVENT
DTSTART;TZID=Europe/London:20190212T130000
DTEND;TZID=Europe/London:20190212T135000
DTSTAMP:20260425T200721
CREATED:20190116T155421Z
LAST-MODIFIED:20230209T175525Z
UID:10154-1549976400-1549979400@research.reading.ac.uk
SUMMARY:Predicting how climate change will interact with land-use change to drive biodiversity change
DESCRIPTION:School of Biological Sciences – Research Seminar Series. \nDr Tim Newbold – University College London \nHosted by Dr Manuela Gonzalez-Suarez
URL:https://research.reading.ac.uk/research-blog/event/predicting-how-climate-change-will-interact-with-land-use-change-to-drive-biodiversity-change/
LOCATION:Harborne Lecture Theatre\, Harborne Building\, Whiteknights Campus\, Reading\, Berkshire\, RG6 6UR
CATEGORIES:Agriculture, Food & Health
END:VEVENT
BEGIN:VEVENT
DTSTART;VALUE=DATE:20190212
DTEND;VALUE=DATE:20190213
DTSTAMP:20260425T200721
CREATED:20190116T112404Z
LAST-MODIFIED:20230208T160835Z
UID:4743-1549929600-1550015999@research.reading.ac.uk
SUMMARY:Feasibility of image analysis in protein content quantification
DESCRIPTION:School of Agriculture – Crops Research Seminar Series. \nMatt Ordidge
URL:https://research.reading.ac.uk/research-blog/event/feasibility-of-image-analysis-in-protein-content-quantification/
LOCATION:Frank Parkinson room\, Agriculture\, Whiteknights\, RG6 7BE
CATEGORIES:Agriculture, Food & Health
END:VEVENT
BEGIN:VEVENT
DTSTART;TZID=Europe/London:20190211T170000
DTEND;TZID=Europe/London:20190211T183000
DTSTAMP:20260425T200721
CREATED:20190207T123318Z
LAST-MODIFIED:20230209T175530Z
UID:17056-1549904400-1549909800@research.reading.ac.uk
SUMMARY:Effective Anti-Microbial Resistance (AMR) Communication: The Role of Information Design - Professor Sue Walker
DESCRIPTION:nit
URL:https://research.reading.ac.uk/research-blog/event/effective-anti-microbial-resistance-amr-communication-the-role-of-information-design-professor-sue-walker/
LOCATION:Edith Morley\, Room 124\, University of Reading\, Reading\, Berkshire\, RG6 6UR\, United Kingdom
CATEGORIES:Agriculture, Food & Health,Heritage & Creativity
END:VEVENT
BEGIN:VEVENT
DTSTART;TZID=Europe/London:20190206T130000
DTEND;TZID=Europe/London:20190206T140000
DTSTAMP:20260425T200721
CREATED:20190116T161152Z
LAST-MODIFIED:20230208T160842Z
UID:10497-1549458000-1549461600@research.reading.ac.uk
SUMMARY:Minerals in Milk (ionic calcium in milk - is to worth measuring... and other snippets)
DESCRIPTION:Food and Nutritional Science Research Seminars. \nDr Mike Lewis\n“Minerals in Milk (ionic calcium in milk – is to worth measuring… and other snippets)”
URL:https://research.reading.ac.uk/research-blog/event/minerals-in-milk-ionic-calcium-in-milk-is-to-worth-measuring-and-other-snippets/
LOCATION:CHEMLT1\, Whiteknights Campus\, University of Reading\, Reading\, Berkshire\, RG6 6UR
CATEGORIES:Agriculture, Food & Health
END:VEVENT
BEGIN:VEVENT
DTSTART;TZID=Europe/London:20190205T130000
DTEND;TZID=Europe/London:20190205T135000
DTSTAMP:20260425T200721
CREATED:20190116T155415Z
LAST-MODIFIED:20230209T175536Z
UID:10151-1549371600-1549374600@research.reading.ac.uk
SUMMARY:Investigating archaeal cell surface structures by cryoEM
DESCRIPTION:School of Biological Sciences – Research Seminar Series. \nDr Bertram Daum – University of Exeter \nHosted by Prof Kim Watson
URL:https://research.reading.ac.uk/research-blog/event/investigating-archaeal-cell-surface-structures-by-cryoem/
LOCATION:Harborne Lecture Theatre\, Harborne Building\, Whiteknights Campus\, Reading\, Berkshire\, RG6 6UR
CATEGORIES:Agriculture, Food & Health
END:VEVENT
END:VCALENDAR