BEGIN:VCALENDAR
VERSION:2.0
PRODID:-//Connecting Research - ECPv6.0.5//NONSGML v1.0//EN
CALSCALE:GREGORIAN
METHOD:PUBLISH
X-ORIGINAL-URL:https://research.reading.ac.uk/research-blog
X-WR-CALDESC:Events for Connecting Research
REFRESH-INTERVAL;VALUE=DURATION:PT1H
X-Robots-Tag:noindex
X-PUBLISHED-TTL:PT1H
BEGIN:VTIMEZONE
TZID:Europe/London
BEGIN:DAYLIGHT
TZOFFSETFROM:+0000
TZOFFSETTO:+0100
TZNAME:BST
DTSTART:20190331T010000
END:DAYLIGHT
BEGIN:STANDARD
TZOFFSETFROM:+0100
TZOFFSETTO:+0000
TZNAME:GMT
DTSTART:20191027T010000
END:STANDARD
END:VTIMEZONE
BEGIN:VEVENT
DTSTART;TZID=Europe/London:20191125T153000
DTEND;TZID=Europe/London:20191125T163000
DTSTAMP:20260421T193505
CREATED:20190930T040944Z
LAST-MODIFIED:20191002T051001Z
UID:18623-1574695800-1574699400@research.reading.ac.uk
SUMMARY:Chemistry Seminar: TBC (Dr Philip Dyer\, Durham University)
DESCRIPTION:Chemistry Seminar\nTBC \nDr Philip Dyer\, Durham University
URL:https://research.reading.ac.uk/research-blog/event/chemistry-seminar-tbc-dr-philip-dyer-durham-university/
LOCATION:Chemistry LTG\, Whiteknights Campus\, Reading\, RG6 6UR\, United Kingdom
CATEGORIES:Environment
END:VEVENT
BEGIN:VEVENT
DTSTART;TZID=Europe/London:20191125T120000
DTEND;TZID=Europe/London:20191125T125000
DTSTAMP:20260421T193505
CREATED:20190930T070553Z
LAST-MODIFIED:20191002T051402Z
UID:18779-1574683200-1574686200@research.reading.ac.uk
SUMMARY:Meteorology External Seminar: Overturning the deep circulation of the ocean?
DESCRIPTION:Meteorology External Seminar\nOverturning the deep circulation of the ocean?
URL:https://research.reading.ac.uk/research-blog/event/meteorology-external-seminar-overturning-the-deep-circulation-of-the-ocean/
LOCATION:Sutcliffe Lecture Theatre\, Room GU01\, Department of Meteorology\, University of Reading\, Whiteknights\, RG6 6AH
CATEGORIES:Environment
END:VEVENT
BEGIN:VEVENT
DTSTART;TZID=Europe/London:20191123T140000
DTEND;TZID=Europe/London:20191123T150000
DTSTAMP:20260421T193505
CREATED:20190930T033657Z
LAST-MODIFIED:20191002T051404Z
UID:18615-1574517600-1574521200@research.reading.ac.uk
SUMMARY:Morley Distinguished Lecture: The Beauty of Fractals (Gwyneth Stallard\, OBE)
DESCRIPTION:Morley Distinguished Lecture\nThe Beauty of Fractals \nGwyneth Stallard\, OBE\, Professor of Pure Mathematics at the Open University 
URL:https://research.reading.ac.uk/research-blog/event/morley-distinguished-lecture-the-beauty-of-fractals-gwyneth-stallard-obe/
LOCATION:Slingo Lecture Theatre\, JJ Thompson Building
CATEGORIES:Environment
END:VEVENT
BEGIN:VEVENT
DTSTART;TZID=Europe/London:20191120T130000
DTEND;TZID=Europe/London:20191120T140000
DTSTAMP:20260421T193505
CREATED:20190930T062951Z
LAST-MODIFIED:20191002T051829Z
UID:18720-1574254800-1574258400@research.reading.ac.uk
SUMMARY:Soil Biogeochemistry Group Seminar: Investigating the influence of Earthworm gut-associated microorganisms and soil microbes on the food preference of L.terrestris
DESCRIPTION:Soil Biogeochemistry Group Seminar\nInvestigating the influence of Earthworm gut-associated microorganisms and soil microbes on the food preference of L.terrestris \nHenny Omosigho
URL:https://research.reading.ac.uk/research-blog/event/soil-biogeochemistry-group-seminar-investigating-the-influence-of-earthworm-gut-associated-microorganisms-and-soil-microbes-on-the-food-preference-of-l-terrestris/
LOCATION:Room 102A\, Russel Building
CATEGORIES:Environment
END:VEVENT
BEGIN:VEVENT
DTSTART;TZID=Europe/London:20191120T123000
DTEND;TZID=Europe/London:20191120T140000
DTSTAMP:20260421T193505
CREATED:20191115T144459Z
LAST-MODIFIED:20191115T144459Z
UID:19092-1574253000-1574258400@research.reading.ac.uk
SUMMARY:Climate meets Finance
DESCRIPTION:Toby Pforr (Department of Geography and Environment Science) will speak about his recent research on contemporary advancements in climate risk financing – and open up the discussion to consider wider issues including World Bank funding and some of the points emerging from discussions surrounding a Green New Deal. \nWe are hoping that the seminar will provide opportunities for us to think across discipline and spark ideas and conversation for future projects and collaborations between climate and finance specialists. \nICMA Centre Research Seminar\nWednesday 20 November \n12.30 to 1.00 (lunch) \n1.00 to 2.00 presentation and discussion.
URL:https://research.reading.ac.uk/research-blog/event/climate-meets-finance/
LOCATION:ICMA Centre\, Small Lecture Theatre
CATEGORIES:Environment,Prosperity & Resilience
END:VEVENT
BEGIN:VEVENT
DTSTART;TZID=Europe/London:20191120T090000
DTEND;TZID=Europe/London:20191121T170000
DTSTAMP:20260421T193505
CREATED:20190930T034239Z
LAST-MODIFIED:20191002T051224Z
UID:18617-1574240400-1574355600@research.reading.ac.uk
SUMMARY:Maths and Stats Seminar: 8th OPSFOTA Meeting and Operator Theory Workshop
DESCRIPTION:Maths and Stats Seminar\n8th OPSFOTA Meeting and Operator Theory Workshop \nOrganiser: Jani Virtanen
URL:https://research.reading.ac.uk/research-blog/event/maths-and-stats-seminar-8th-opsfota-meeting-and-operator-theory-workshop/
CATEGORIES:Environment
END:VEVENT
BEGIN:VEVENT
DTSTART;TZID=Europe/London:20191119T130000
DTEND;TZID=Europe/London:20191119T135000
DTSTAMP:20260421T193505
CREATED:20190926T133941Z
LAST-MODIFIED:20191115T104541Z
UID:18492-1574168400-1574171400@research.reading.ac.uk
SUMMARY:Making your own way: How cells steer themselves with self-generated chemotactic gradients
DESCRIPTION:School of Biological Sciences Seminar\nMaking your own way – how cells steer themselves with self-generated chemotactic gradients \nProf Robert Install – University of Glasgow
URL:https://research.reading.ac.uk/research-blog/event/school-of-biological-sciences-seminar-making-your-own-way-how-cells-steer-themselves-with-self-generated-chemotactic-gradients-prof-robert-install-university-of-glasgow/
LOCATION:Chemistry LTG\, Whiteknights Campus\, Reading\, RG6 6UR\, United Kingdom
CATEGORIES:Environment
END:VEVENT
BEGIN:VEVENT
DTSTART;TZID=Europe/London:20191118T153000
DTEND;TZID=Europe/London:20191118T163000
DTSTAMP:20260421T193505
CREATED:20190930T040038Z
LAST-MODIFIED:20191002T051001Z
UID:18622-1574091000-1574094600@research.reading.ac.uk
SUMMARY:Chemistry Seminar: TBC (Dr Stellios Arseniyadis\, Queen Mary University London)
DESCRIPTION:Chemistry Seminar\nTBC \nDr Stellios Arseniyadis\, Queen Mary University London
URL:https://research.reading.ac.uk/research-blog/event/chemistry-seminar-tbc-dr-stellios-arseniyadis-queen-mary-university-london/
LOCATION:Chemistry LTG\, Whiteknights Campus\, Reading\, RG6 6UR\, United Kingdom
CATEGORIES:Environment
END:VEVENT
BEGIN:VEVENT
DTSTART;TZID=Europe/London:20191118T120000
DTEND;TZID=Europe/London:20191118T125000
DTSTAMP:20260421T193505
CREATED:20190930T070442Z
LAST-MODIFIED:20191115T104411Z
UID:18777-1574078400-1574081400@research.reading.ac.uk
SUMMARY:Constraining the spatial scale of precipitation changes due to anthropogenic forcing using an atmospheric water and energy budget perspective
DESCRIPTION:Meteorology External Seminar\nConstraining the spatial scale of precipitation changes due to anthropogenic forcing using an atmospheric water and energy budget perspective \nGuy Dagan\nUniversity of Oxford
URL:https://research.reading.ac.uk/research-blog/event/meteorology-external-seminar-constraining-the-spatial-scale-of-precipitation-changes-due-to-anthropogenic-forcing-using-an-atmospheric-water-and-energy-budget-perspective/
LOCATION:Sutcliffe Lecture Theatre\, Room GU01\, Department of Meteorology\, University of Reading\, Whiteknights\, RG6 6AH
CATEGORIES:Environment
END:VEVENT
BEGIN:VEVENT
DTSTART;TZID=Europe/London:20191113T130000
DTEND;TZID=Europe/London:20191113T140000
DTSTAMP:20260421T193505
CREATED:20190930T062814Z
LAST-MODIFIED:20191002T051830Z
UID:18719-1573650000-1573653600@research.reading.ac.uk
SUMMARY:Soil Biogeochemistry Group Seminar: The resilience of soil microbial communities
DESCRIPTION:Soil Biogeochemistry Group Seminar\nThe resilience of soil microbial communities \nLindsay Todman
URL:https://research.reading.ac.uk/research-blog/event/soil-biogeochemistry-group-seminar-the-resilience-of-soil-microbial-communities/
LOCATION:Room 102A\, Russel Building
CATEGORIES:Environment
END:VEVENT
BEGIN:VEVENT
DTSTART;TZID=Europe/London:20191112T130000
DTEND;TZID=Europe/London:20191112T135000
DTSTAMP:20260421T193505
CREATED:20190926T134023Z
LAST-MODIFIED:20191002T051806Z
UID:18491-1573563600-1573566600@research.reading.ac.uk
SUMMARY:School of Biological Sciences Seminar: The role of glucokinase in the hypothalamus in the regulation of energy and glucose homeostasis (Dr James Gardiner – Imperial College London)
DESCRIPTION:School of Biological Sciences Seminar\nThe role of glucokinase in the hypothalamus in the regulation of energy and glucose homeostasis \nDr James Gardiner – Imperial College London \nHosted by Dr Nandini Vasudevan
URL:https://research.reading.ac.uk/research-blog/event/school-of-biological-sciences-seminar-the-role-of-glucokinase-in-the-hypothalamus-in-the-regulation-of-energy-and-glucose-homeostasis-dr-james-gardiner-imperial-college-london/
LOCATION:Chemistry LTG\, Whiteknights Campus\, Reading\, RG6 6UR\, United Kingdom
CATEGORIES:Environment
END:VEVENT
BEGIN:VEVENT
DTSTART;TZID=Europe/London:20191111T153000
DTEND;TZID=Europe/London:20191111T163000
DTSTAMP:20260421T193505
CREATED:20190930T035943Z
LAST-MODIFIED:20191002T051001Z
UID:18621-1573486200-1573489800@research.reading.ac.uk
SUMMARY:Chemistry Seminar: Remarkable Enzymes - from Bacteria to Humans (RSC Prize Winner: Professor Christopher Schofield)
DESCRIPTION:Chemistry Seminar\nRemarkable Enzymes – from Bacteria to Humans \nRSC Prize Winner: Professor Christopher Schofield
URL:https://research.reading.ac.uk/research-blog/event/chemistry-seminar-remarkable-enzymes-from-bacteria-to-humans-rsc-prize-winner-professor-christopher-schofield/
LOCATION:Chemistry LTG\, Whiteknights Campus\, Reading\, RG6 6UR\, United Kingdom
CATEGORIES:Environment
END:VEVENT
BEGIN:VEVENT
DTSTART;TZID=Europe/London:20191111T120000
DTEND;TZID=Europe/London:20191111T125000
DTSTAMP:20260421T193505
CREATED:20190930T070326Z
LAST-MODIFIED:20191002T051402Z
UID:18775-1573473600-1573476600@research.reading.ac.uk
SUMMARY:Meteorology External Seminar: How uncertainties in the representation of orography and its impacts affect the skill of weather forecasts
DESCRIPTION:Meteorology External Seminar\nHow uncertainties in the representation of orography and its impacts affect the skill of weather forecasts \nIrina Sandu\nECMWF
URL:https://research.reading.ac.uk/research-blog/event/meteorology-external-seminar-how-uncertainties-in-the-representation-of-orography-and-its-impacts-affect-the-skill-of-weather-forecasts/
LOCATION:Sutcliffe Lecture Theatre\, Room GU01\, Department of Meteorology\, University of Reading\, Whiteknights\, RG6 6AH
CATEGORIES:Environment
END:VEVENT
BEGIN:VEVENT
DTSTART;TZID=Europe/London:20191106T130000
DTEND;TZID=Europe/London:20191106T140000
DTSTAMP:20260421T193505
CREATED:20190930T062519Z
LAST-MODIFIED:20191002T051829Z
UID:18718-1573045200-1573048800@research.reading.ac.uk
SUMMARY:Soil Biogeochemistry Group Seminar: Sustainable production or pollutant swapping? Gaseous reactive nitrogen emissions and leaching from rice-wheat rotations under denitrifier-inoculated fertilizer addition
DESCRIPTION:Soil Biogeochemistry Group Seminar\nSustainable production or pollutant swapping? Gaseous reactive nitrogen emissions and leaching from rice-wheat rotations under denitrifier-inoculated fertilizer addition \nProfessor Weishou Shen (NUIST)
URL:https://research.reading.ac.uk/research-blog/event/soil-biogeochemistry-group-seminar-sustainable-production-or-pollutant-swapping-gaseous-reactive-nitrogen-emissions-and-leaching-from-rice-wheat-rotations-under-denitrifier-inoculated-fertilizer-add/
LOCATION:Room 102A\, Russel Building
CATEGORIES:Environment
END:VEVENT
BEGIN:VEVENT
DTSTART;TZID=Europe/London:20191104T153000
DTEND;TZID=Europe/London:20191104T163000
DTSTAMP:20260421T193505
CREATED:20190930T035535Z
LAST-MODIFIED:20191002T051001Z
UID:18620-1572881400-1572885000@research.reading.ac.uk
SUMMARY:Chemistry Seminar: TBC (Professor Jane Thomas-Oates\, University of York)
DESCRIPTION:Chemistry Seminar\nTBC \nProfessor Jane Thomas-Oates\, University of York
URL:https://research.reading.ac.uk/research-blog/event/chemistry-seminar-tbc-professor-jane-thomas-oates-university-of-york/
LOCATION:Chemistry LTG\, Whiteknights Campus\, Reading\, RG6 6UR\, United Kingdom
CATEGORIES:Environment
END:VEVENT
BEGIN:VEVENT
DTSTART;TZID=Europe/London:20191104T120000
DTEND;TZID=Europe/London:20191104T125000
DTSTAMP:20260421T193505
CREATED:20190930T070228Z
LAST-MODIFIED:20191002T051402Z
UID:18773-1572868800-1572871800@research.reading.ac.uk
SUMMARY:Meteorology External Seminar: Is convective organization more than candy for the eyes?
DESCRIPTION:Meteorology External Seminar\nIs convective organization more than candy for the eyes? \nCathy Hohenegger\nMPI Hamburg
URL:https://research.reading.ac.uk/research-blog/event/meteorology-external-seminar-is-convective-organization-more-than-candy-for-the-eyes/
LOCATION:Sutcliffe Lecture Theatre\, Room GU01\, Department of Meteorology\, University of Reading\, Whiteknights\, RG6 6AH
CATEGORIES:Environment
END:VEVENT
BEGIN:VEVENT
DTSTART;TZID=Europe/London:20191030T130000
DTEND;TZID=Europe/London:20191030T140000
DTSTAMP:20260421T193505
CREATED:20190930T062333Z
LAST-MODIFIED:20191002T051829Z
UID:18717-1572440400-1572444000@research.reading.ac.uk
SUMMARY:Soil Biogeochemistry Group Seminar: From soils to plants to pollinators: Mechanism and impacts of metal transmission through an ecological system
DESCRIPTION:Soil Biogeochemistry Group Seminar\nFrom soils to plants to pollinators: Mechanism and impacts of metal transmission through an ecological system \nCarlos Garcia Vargas
URL:https://research.reading.ac.uk/research-blog/event/soil-biogeochemistry-group-seminar-from-soils-to-plants-to-pollinators-mechanism-and-impacts-of-metal-transmission-through-an-ecological-system/
LOCATION:Frank Parkinson room\, Agriculture\, Whiteknights\, RG6 7BE
CATEGORIES:Environment
END:VEVENT
BEGIN:VEVENT
DTSTART;TZID=Europe/London:20191029T130000
DTEND;TZID=Europe/London:20191029T135000
DTSTAMP:20260421T193505
CREATED:20190926T134125Z
LAST-MODIFIED:20191002T051806Z
UID:18488-1572354000-1572357000@research.reading.ac.uk
SUMMARY:School of Biological Sciences Seminar: Measuring learning gain against module and programme outcomes (Dr Antony Aleksiev - University of West London)
DESCRIPTION:School of Biological Sciences Seminar\nMeasuring learning gain against module and programme outcomes \nDr Antony Aleksiev – University of West London
URL:https://research.reading.ac.uk/research-blog/event/school-of-biological-sciences-seminar-measuring-learning-gain-against-module-and-programme-outcomes-dr-antony-aleksiev-university-of-west-london/
LOCATION:Chemistry LT2
CATEGORIES:Environment
END:VEVENT
BEGIN:VEVENT
DTSTART;TZID=Europe/London:20191028T120000
DTEND;TZID=Europe/London:20191028T125000
DTSTAMP:20260421T193505
CREATED:20190930T070138Z
LAST-MODIFIED:20191002T051224Z
UID:18771-1572264000-1572267000@research.reading.ac.uk
SUMMARY:Meteorology External Seminar: Future changes in extremes at convection-permitting scales
DESCRIPTION:Meteorology External Seminar\nFuture changes in extremes at convection-permitting scales \nLizzie Kendon\nMet Office
URL:https://research.reading.ac.uk/research-blog/event/meteorology-external-seminar-future-changes-in-extremes-at-convection-permitting-scales/
LOCATION:Sutcliffe Lecture Theatre\, Room GU01\, Department of Meteorology\, University of Reading\, Whiteknights\, RG6 6AH
CATEGORIES:Environment
END:VEVENT
BEGIN:VEVENT
DTSTART;TZID=Europe/London:20191023T130000
DTEND;TZID=Europe/London:20191023T140000
DTSTAMP:20260421T193505
CREATED:20190930T062224Z
LAST-MODIFIED:20191002T051829Z
UID:18716-1571835600-1571839200@research.reading.ac.uk
SUMMARY:Soil Biogeochemistry Group Seminar: An Introduction to Zero Budget Natural Farming
DESCRIPTION:Soil Biogeochemistry Group Seminar\nAn Introduction to Zero Budget Natural Farming \nSarah Duddigan
URL:https://research.reading.ac.uk/research-blog/event/soil-biogeochemistry-group-seminar-an-introduction-to-zero-budget-natural-farming/
LOCATION:Room 102A\, Russel Building
CATEGORIES:Environment
END:VEVENT
BEGIN:VEVENT
DTSTART;TZID=Europe/London:20191022T130000
DTEND;TZID=Europe/London:20191022T135000
DTSTAMP:20260421T193505
CREATED:20190926T134154Z
LAST-MODIFIED:20191002T051806Z
UID:18496-1571749200-1571752200@research.reading.ac.uk
SUMMARY:School of Biological Sciences Seminar: Iron control immunity (Dr Hal Drakesmith - University of Oxford)
DESCRIPTION:School of Biological Sciences Seminar\nIron control immunity \nDr Hal Drakesmith – University of Oxford
URL:https://research.reading.ac.uk/research-blog/event/school-of-biological-sciences-seminar-iron-control-immunity-dr-hal-drakesmith-university-of-oxford/
LOCATION:Chemistry LT2
CATEGORIES:Environment
END:VEVENT
BEGIN:VEVENT
DTSTART;TZID=Europe/London:20191021T153000
DTEND;TZID=Europe/London:20191021T163000
DTSTAMP:20260421T193505
CREATED:20190930T035445Z
LAST-MODIFIED:20191002T051001Z
UID:18619-1571671800-1571675400@research.reading.ac.uk
SUMMARY:Chemistry Seminar: TBC (Dr Libby Gibson\, Newcastle University)
DESCRIPTION:Chemistry Seminar\nTBC \nDr Libby Gibson\, Newcastle University \n 
URL:https://research.reading.ac.uk/research-blog/event/chemistry-seminar-tbc-dr-libby-gibson-newcastle-university/
LOCATION:Chemistry LTG\, Whiteknights Campus\, Reading\, RG6 6UR\, United Kingdom
CATEGORIES:Environment
END:VEVENT
BEGIN:VEVENT
DTSTART;TZID=Europe/London:20191021T120000
DTEND;TZID=Europe/London:20191021T125000
DTSTAMP:20260421T193505
CREATED:20190930T065917Z
LAST-MODIFIED:20191002T051224Z
UID:18769-1571659200-1571662200@research.reading.ac.uk
SUMMARY:Meteorology External Seminar: Air pollution impacts on the carbon cycle
DESCRIPTION:Meteorology External Seminar\nAir pollution impacts on the carbon cycle \nNadine Unger\nUniversity of Exeter
URL:https://research.reading.ac.uk/research-blog/event/meteorology-external-seminar-air-pollution-impacts-on-the-carbon-cycle/
LOCATION:Sutcliffe Lecture Theatre\, Room GU01\, Department of Meteorology\, University of Reading\, Whiteknights\, RG6 6AH
CATEGORIES:Environment
END:VEVENT
BEGIN:VEVENT
DTSTART;TZID=Europe/London:20191016T193000
DTEND;TZID=Europe/London:20191016T203000
DTSTAMP:20260421T193505
CREATED:20190930T055905Z
LAST-MODIFIED:20191003T143946Z
UID:18682-1571254200-1571257800@research.reading.ac.uk
SUMMARY:Public Lecture: Climate Change - Turning up the Heat on our Health
DESCRIPTION:We all know that climate change is damaging our planet – but what about us? Our hearts\, lungs and other vital organs are damaged by air pollution from the burning of fossil fuels\, and climate change worsens this effect. Vulnerable people\, including the elderly\, are at risk from extreme heatwaves like the one we saw in 2017 – and climate science predicts that these events will happen more often in future as the world warms. \nIn this lecture\, Environmental Economist Elizabeth Robinson brings together stories and observations with hard data to show the impact of climate change on human health over time. Building on her involvement in The Lancet Countdown\, which tracks the positive health benefits of the world’s efforts to reduce climate change\, she makes a powerful argument for keeping climate change in check – not just for the planet’s sake\, but for the sake of our health. \nElizabeth Robinson is Professor of Environmental Economics at the School of Agriculture\, Policy\, and Development at the University of Reading. \nAdmission free. Booking advisable.
URL:https://research.reading.ac.uk/research-blog/event/public-lecture-series-climate-change-turning-up-the-heat-on-our-health/
LOCATION:Palmer Building\, Room G10\, Palmer Building\, Whiteknights Campus\, Reading\, RG6 6UR\, United Kingdom
CATEGORIES:Environment
END:VEVENT
BEGIN:VEVENT
DTSTART;TZID=Europe/London:20191016T130000
DTEND;TZID=Europe/London:20191016T140000
DTSTAMP:20260421T193505
CREATED:20190930T062119Z
LAST-MODIFIED:20191002T051829Z
UID:18715-1571230800-1571234400@research.reading.ac.uk
SUMMARY:Soil Biogeochemistry Group Seminar: Constant and diurnally oscillating temperature effects on soil respiration and soil microbial community structure
DESCRIPTION:Soil Biogeochemistry Group Seminar\nConstant and diurnally oscillating temperature effects on soil respiration and soil microbial community structure \nAlex Adekanmbi
URL:https://research.reading.ac.uk/research-blog/event/soil-biogeochemistry-group-seminar-constant-and-diurnally-oscillating-temperature-effects-on-soil-respiration-and-soil-microbial-community-structure/
LOCATION:Frank Parkinson room\, Agriculture\, Whiteknights\, RG6 7BE
CATEGORIES:Environment
END:VEVENT
BEGIN:VEVENT
DTSTART;TZID=Europe/London:20191015T130000
DTEND;TZID=Europe/London:20191015T135000
DTSTAMP:20260421T193505
CREATED:20190926T134229Z
LAST-MODIFIED:20191002T051806Z
UID:18489-1571144400-1571147400@research.reading.ac.uk
SUMMARY:School of Biological Sciences Seminar: TBC
DESCRIPTION:School of Biological Sciences Seminar\nTBC
URL:https://research.reading.ac.uk/research-blog/event/school-of-biological-sciences-seminar-tbc-2/
LOCATION:Chemistry LT2
CATEGORIES:Environment
END:VEVENT
BEGIN:VEVENT
DTSTART;TZID=Europe/London:20191014T120000
DTEND;TZID=Europe/London:20191014T125000
DTSTAMP:20260421T193505
CREATED:20190930T065753Z
LAST-MODIFIED:20191002T051402Z
UID:18767-1571054400-1571057400@research.reading.ac.uk
SUMMARY:Meteorology External Seminar: Through the Looking Glass: Cloud processes at the intersection of Climate Forcing and Feedback
DESCRIPTION:Meteorology External Seminar\nThrough the Looking Glass: Cloud processes at the intersection of Climate Forcing and Feedback \nAndrew Gettelman\nNCAR
URL:https://research.reading.ac.uk/research-blog/event/meteorology-external-seminar-through-the-looking-glass-cloud-processes-at-the-intersection-of-climate-forcing-and-feedback/
LOCATION:Sutcliffe Lecture Theatre\, Room GU01\, Department of Meteorology\, University of Reading\, Whiteknights\, RG6 6AH
CATEGORIES:Environment
END:VEVENT
BEGIN:VEVENT
DTSTART;TZID=Europe/London:20191009T130000
DTEND;TZID=Europe/London:20191009T140000
DTSTAMP:20260421T193505
CREATED:20190930T062009Z
LAST-MODIFIED:20191002T051830Z
UID:18714-1570626000-1570629600@research.reading.ac.uk
SUMMARY:Soil Biogeochemistry Group Seminar: Understanding the plant root uptake of [14C]-1\,2\,4-Triazole
DESCRIPTION:Soil Biogeochemistry Group Seminar\nUnderstanding the plant root uptake of [14C]-1\,2\,4-Triazole \nBen Jones
URL:https://research.reading.ac.uk/research-blog/event/soil-biogeochemistry-group-seminar-understanding-the-plant-root-uptake-of-14c-124-triazole/
LOCATION:Room 201A\, Russel Building
CATEGORIES:Environment
END:VEVENT
BEGIN:VEVENT
DTSTART;TZID=Europe/London:20191008T130000
DTEND;TZID=Europe/London:20191008T135000
DTSTAMP:20260421T193505
CREATED:20190926T134245Z
LAST-MODIFIED:20191002T051806Z
UID:18487-1570539600-1570542600@research.reading.ac.uk
SUMMARY:School of Biological Sciences Seminar: The cultural evolution of medicinal plant use (Prof Julie Hawkins)
DESCRIPTION:School of Biological Sciences Seminar\nThe cultural evolution of medicinal plant use \nProf Julie Hawkins \nHosted by DIW Committee
URL:https://research.reading.ac.uk/research-blog/event/school-of-biological-sciences-seminar-the-cultural-evolution-of-medicinal-plant-use-prof-julie-hawkins/
LOCATION:Chemistry LTG\, Whiteknights Campus\, Reading\, RG6 6UR\, United Kingdom
CATEGORIES:Environment
END:VEVENT
BEGIN:VEVENT
DTSTART;TZID=Europe/London:20191007T120000
DTEND;TZID=Europe/London:20191007T125000
DTSTAMP:20260421T193505
CREATED:20190930T065613Z
LAST-MODIFIED:20191002T051402Z
UID:18765-1570449600-1570452600@research.reading.ac.uk
SUMMARY:Meteorology External Seminar: The Atlantic Multidecadal Variablity: from its origins to its impacts
DESCRIPTION:Meteorology External Seminar\nThe Atlantic Multidecadal Variablity: from its origins to its impacts \nYohan Ruprich-Robert\nBarcelona Supercomputing Center
URL:https://research.reading.ac.uk/research-blog/event/meteorology-external-seminar-the-atlantic-multidecadal-variablity-from-its-origins-to-its-impacts/
LOCATION:Sutcliffe Lecture Theatre\, Room GU01\, Department of Meteorology\, University of Reading\, Whiteknights\, RG6 6AH
CATEGORIES:Environment
END:VEVENT
END:VCALENDAR