BEGIN:VCALENDAR
VERSION:2.0
PRODID:-//Connecting Research - ECPv6.0.5//NONSGML v1.0//EN
CALSCALE:GREGORIAN
METHOD:PUBLISH
X-WR-CALNAME:Connecting Research
X-ORIGINAL-URL:https://research.reading.ac.uk/research-blog
X-WR-CALDESC:Events for Connecting Research
REFRESH-INTERVAL;VALUE=DURATION:PT1H
X-Robots-Tag:noindex
X-PUBLISHED-TTL:PT1H
BEGIN:VTIMEZONE
TZID:Europe/London
BEGIN:DAYLIGHT
TZOFFSETFROM:+0000
TZOFFSETTO:+0100
TZNAME:BST
DTSTART:20200329T010000
END:DAYLIGHT
BEGIN:STANDARD
TZOFFSETFROM:+0100
TZOFFSETTO:+0000
TZNAME:GMT
DTSTART:20201025T010000
END:STANDARD
END:VTIMEZONE
BEGIN:VEVENT
DTSTART;VALUE=DATE:20200511
DTEND;VALUE=DATE:20200516
DTSTAMP:20260420T210258
CREATED:20200123T073346Z
LAST-MODIFIED:20200323T091111Z
UID:19613-1589155200-1589587199@research.reading.ac.uk
SUMMARY:POSTPONED: Methods for Random Matrix Theory and Applications: LMS-CMI Research School
DESCRIPTION:LMS-CMI Research School\nMethods for Random Matrix Theory and Applications \nOrganised by the London Mathematical Society and the Clay Mathematics Institute\, this research school is aimed at postgraduate students and at interested mathematicians\, both in the UK and abroad. \nRandom matrix theory (RMT) is a crossroad of modern mathematics. It brings together and provides a platform for fusing the ideas of such diverse areas as the theory of special functions\, orthogonal polynomials\, complex analysis\, operator theory\, representation of affine algebras and quantum group\, enumerative topology\, combinatorics\, number theory\, exactly solvable quantum models\, quantum chaos and string theory. Simultaneously\, RMT plays an increasingly important role in many applied sciences and technologies. Indeed\, the distributions of random matrix theory govern statistical properties of the large systems which do not obey the usual laws of classical probability. \nThough the random matrices  have been long studied for their applications to multivariable statistics since the work of Wishart and in physics for its application to the level-spacing of highly excited energy levels of nuclei since the work of Wigner\, Dyson and others\, there has in recent years been a renewed significant interest in this subject. Some of the main reasons for this are: (a) The discovery that a large class of random matrix models are related to completely integrable systems of differential equations of both the Painlevé type  and those of the Kadomtsev-Petviashvili (KP); (b) The relation of the theory of random matrices to the theory of Hankel and Toeplitz determinants; (c) The development of the novel technique – the Riemann-Hilbert method\, which yields the solution of a number of the long-standing problems in the field; (d) The discovery of the remarkable fact that the random matrices and the nonlinear Hamiltonian PDEs demonstrate  the same universal features at the relevant critical  and transition regimes. These topics as well as some other important aspects of random matrix theory will be covered in the three lecture courses (five hours each) and in the invited lectures (one hour each). \n  \n11 to 15 May 2020 at the University of Reading\nFunded by the London Mathematical Society\, the Clay Mathematics Institute and the Heilbronn Institute for Mathematical Research\nOrganized by Igor Krasovsky and Jani A. Virtanen\nContact: j.a.virtanen@reading.ac.uk
URL:https://research.reading.ac.uk/research-blog/event/lms-cmi-research-school-methods-for-random-matrix-theory-and-applications/
CATEGORIES:Environment
ORGANIZER;CN="Dr%20Jani%20Virtanen":MAILTO:j.a.virtanen@reading.ac.uk
END:VEVENT
BEGIN:VEVENT
DTSTART;TZID=Europe/London:20200506T113000
DTEND;TZID=Europe/London:20200506T131500
DTSTAMP:20260420T210258
CREATED:20200429T130729Z
LAST-MODIFIED:20200429T131453Z
UID:20244-1588764600-1588770900@research.reading.ac.uk
SUMMARY:Celebrating Women in Mathematics at the University of Reading - 11.30-13.15 on Zoom
DESCRIPTION:6th May 2020\, 11.30-13.15 hours : Online meeting \nREGISTER HERE \nChair: Jennifer Scott\, Professor of Mathematics\, University of Reading \nPROGRAMME \n11.30: Welcome and introduction by Jennifer Scott\nTalks: \n11.35: “Finding my way from University into the\, somewhat niche\, catastrophe\nmodelling industry”\, Katharine Stevens\, Assistant Vice President\, Client and\nConsulting Group\, AIR Worldwide \n11.55: “My Journey in Statistics: Random Walks and Significant Events”\, Sue Todd\,\nProfessor of Mathematics and Statistics\, University of Reading \n12.05: “Stormy Maths”\, Suzanne Gray\, Professor of Meteorology\, University of\nReading \n12.15: “Working towards gender equality at the University of Reading”\, Simon\nChandler-Wilde\, Professor of Applied Mathematics and Former Dean of\nDiversity and Inclusion\, University of Reading \n12.30: “How I stopped being afraid of Maths and learned a new language”\,\nAgnieszka Faulkner\, Department of Meteorology PhD Student\, University of\nReading \n12.35: “Maths: the secret behind Data Science and AI”\, Huizhi Liang\, Lecturer in\nComputer Science\, University of Reading \n12.45: “Maths\, maps and me”\, Tasmin Symons\, Maths of Planet Earth Centre for\nDoctoral Training Graduate\, Postdoctoral Researcher\, University of Oxford Big\nData Institute \n12.55: “Discovering new worlds while at my desk”\, Ieva Dauzickaite\, Maths of\nPlanet Earth Centre for Doctoral Training PhD Student\, University of Reading \n13.00: Closing summary and online networking\, Jennifer Scott \n13.15: Meeting closes
URL:https://research.reading.ac.uk/research-blog/event/celebrating-women-in-mathematics-at-the-university-of-reading-11-30-13-15-on-zoom/
CATEGORIES:Environment
END:VEVENT
BEGIN:VEVENT
DTSTART;VALUE=DATE:20200331
DTEND;VALUE=DATE:20200402
DTSTAMP:20260420T210258
CREATED:20200123T073346Z
LAST-MODIFIED:20200323T091048Z
UID:19539-1585612800-1585785599@research.reading.ac.uk
SUMMARY:POSTPONED: Representation Uncertainty in the Earth Sciences
DESCRIPTION:Joint Workshop on Representation Uncertainty in the Earth Sciences
URL:https://research.reading.ac.uk/research-blog/event/joint-workshop-on-representation-uncertainty-in-the-earth-sciences/
LOCATION:Agriculture Building\, 1L08
CATEGORIES:Environment,Heritage & Creativity
END:VEVENT
BEGIN:VEVENT
DTSTART;TZID=Europe/London:20200324T130000
DTEND;TZID=Europe/London:20200324T135000
DTSTAMP:20260420T210258
CREATED:20200123T073346Z
LAST-MODIFIED:20200323T091212Z
UID:19592-1585054800-1585057800@research.reading.ac.uk
SUMMARY:POSTPONED: The Effect of Dry Air Intrusions and Land Surface on the Progression of the Indian Monsoon
DESCRIPTION:Meteorology Tuesday Seminars\nArathy Menon: The Effect of Dry Air Intrusions and Land Surface on the Progression of the Indian Monsoon
URL:https://research.reading.ac.uk/research-blog/event/the-effect-of-dry-air-intrusions-and-land-surface-on-the-progression-of%e2%80%8b-the-indian-monsoon-meteorology-tuesday-seminars/
LOCATION:Sutcliffe Lecture Theatre\, Room GU01\, Department of Meteorology\, University of Reading\, Whiteknights\, RG6 6AH
CATEGORIES:Environment
END:VEVENT
BEGIN:VEVENT
DTSTART;TZID=Europe/London:20200323T120000
DTEND;TZID=Europe/London:20200323T125000
DTSTAMP:20260420T210258
CREATED:20200123T073345Z
LAST-MODIFIED:20200323T091258Z
UID:19574-1584964800-1584967800@research.reading.ac.uk
SUMMARY:POSTPONED: Attribution of Recent Changes in European Temperature Revisited
DESCRIPTION:Meteorology Monday Seminars\nLaurent Terray\, CERFACS: Attribution of Recent Changes in European Temperature Revisited
URL:https://research.reading.ac.uk/research-blog/event/attribution-of-recent-changes-in-european-temperature-revisited-meteorology-monday-seminars/
LOCATION:Sutcliffe Lecture Theatre\, Room GU01\, Department of Meteorology\, University of Reading\, Whiteknights\, RG6 6AH
CATEGORIES:Environment
END:VEVENT
BEGIN:VEVENT
DTSTART;TZID=Europe/London:20200318T193000
DTEND;TZID=Europe/London:20200318T193000
DTSTAMP:20260420T210258
CREATED:20200123T073345Z
LAST-MODIFIED:20200302T140806Z
UID:19557-1584559800-1584559800@research.reading.ac.uk
SUMMARY:Biscuits to Big Tech: Reading's rise to economic prosperity
DESCRIPTION:University Public Lecture Series \nProfessor Kathy Pain (Real Estate and Planning): Biscuits to Big Tech: Reading’s rise to economic prosperity \nReading was once a sleepy county town famed for its ‘beer\, biscuits and bulbs’ but today it is a hub for high-tech industry with international links. How did it get that way and how can we make sure its economic success continues? \nIn this lecture\, Professor Kathy Pain will explore the town’s rise to prosperity and the future sustainability problems facing densely developed urban regions like Reading. She will draw on her research which shows how investing in so-called ‘good density’ – well-designed and compact cities with affordable public transport; available jobs and talent; and ‘green and blue infrastructure’ such as hedgerows and waterways – could help secure Reading’s future success in a changing economic landscape. \nKathy Pain is Professor of Real Estate Development at the University of Reading\, Henley Business School. Her research focuses on sustainable city and regional development\, governance and planning in today’s interconnected world economy. \nAdmission free. Booking advisable.
URL:https://research.reading.ac.uk/research-blog/event/public-lecture-series-biscuits-to-big-tech-readings-rise-to-economic-prosperity/
CATEGORIES:Environment,Prosperity & Resilience
END:VEVENT
BEGIN:VEVENT
DTSTART;TZID=Europe/London:20200318T121500
DTEND;TZID=Europe/London:20200318T133000
DTSTAMP:20260420T210258
CREATED:20190927T072533Z
LAST-MODIFIED:20200212T131802Z
UID:18564-1584533700-1584538200@research.reading.ac.uk
SUMMARY:Economics External Seminar: Arlan Brucal
DESCRIPTION:Economics External Seminar\nArlan Brucal\, Grantham Research Institute for Climate Change and the Environment – Title TBC
URL:https://research.reading.ac.uk/research-blog/event/economics-external-seminar-arlan-brucal/
LOCATION:Edith Morley\, Room 406
CATEGORIES:Environment,Prosperity & Resilience
END:VEVENT
BEGIN:VEVENT
DTSTART;TZID=Europe/London:20200317T130000
DTEND;TZID=Europe/London:20200317T133000
DTSTAMP:20260420T210258
CREATED:20200123T073344Z
LAST-MODIFIED:20200212T131239Z
UID:19590-1584450000-1584451800@research.reading.ac.uk
SUMMARY:Providing Mission Support to the Sentinel-3 Sea and Land Surface Temperature Radiometer (SLSTR) at RAL Space​
DESCRIPTION:Meteorology Tuesday Seminars\nCaroline Cox
URL:https://research.reading.ac.uk/research-blog/event/providing-mission-support-to-the-sentinel-3-sea-and-land-surface-temperature-radiometer-slstr-at-ral-space%e2%80%8b-meteorology-tuesday-seminars/
LOCATION:Sutcliffe Lecture Theatre\, Room GU01\, Department of Meteorology\, University of Reading\, Whiteknights\, RG6 6AH
CATEGORIES:Environment
END:VEVENT
BEGIN:VEVENT
DTSTART;VALUE=DATE:20200311
DTEND;VALUE=DATE:20200312
DTSTAMP:20260420T210258
CREATED:20200123T073344Z
LAST-MODIFIED:20200212T130241Z
UID:19612-1583884800-1583971199@research.reading.ac.uk
SUMMARY:Mathematics of Planet Earth: Data Day
DESCRIPTION:Mathematics of Planet Earth Wednesday: Data Day\nAlberto Carassi (NERSC)
URL:https://research.reading.ac.uk/research-blog/event/mpe-wednesday-data-day/
CATEGORIES:Environment
END:VEVENT
BEGIN:VEVENT
DTSTART;TZID=Europe/London:20200310T130000
DTEND;TZID=Europe/London:20200310T135000
DTSTAMP:20260420T210258
CREATED:20200123T073326Z
LAST-MODIFIED:20200302T140841Z
UID:19591-1583845200-1583848200@research.reading.ac.uk
SUMMARY:200 Years of Thunderstorms in Oxford
DESCRIPTION:Meteorology Tuesday Seminars\nStephen Burt: 200 Years of Thunderstorms in Oxford
URL:https://research.reading.ac.uk/research-blog/event/200-years-of-thunderstorms-in-oxford%e2%80%8b-meteorology-tuesday-seminars/
LOCATION:Sutcliffe Lecture Theatre\, Room GU01\, Department of Meteorology\, University of Reading\, Whiteknights\, RG6 6AH
CATEGORIES:Environment
END:VEVENT
BEGIN:VEVENT
DTSTART;TZID=Europe/London:20200310T130000
DTEND;TZID=Europe/London:20200310T135000
DTSTAMP:20260420T210258
CREATED:20200123T073326Z
LAST-MODIFIED:20230209T174949Z
UID:19630-1583845200-1583848200@research.reading.ac.uk
SUMMARY:IgE receptor polymorphism predicts divergent\, sex-specific inflammatory modes and fitness costs in a wild rodent
DESCRIPTION:Biological Science Research Seminars\nDr  Klara Wanelik\, Institute of Integrative Biology\, University of Liverpool: IgE receptor polymorphism predicts divergent\, sex-specific inflammatory modes and fitness costs in a wild rodent
URL:https://research.reading.ac.uk/research-blog/event/ige-receptor-polymorphism-predicts-divergent-sex-specific-inflammatory-modes-and-fitness-costs-in-a-wild-rodent-biological-science-research-seminars/
LOCATION:Chemistry LT2
CATEGORIES:Agriculture, Food & Health,Environment
END:VEVENT
BEGIN:VEVENT
DTSTART;TZID=Europe/London:20200310T130000
DTEND;TZID=Europe/London:20200310T135000
DTSTAMP:20260420T210258
CREATED:20200123T073326Z
LAST-MODIFIED:20230209T174956Z
UID:19637-1583845200-1583848200@research.reading.ac.uk
SUMMARY:Introduction to Topological Data Analysis
DESCRIPTION:Biological Science Research Seminars\nDr Pawel Dlotko\, University of Swansea: Introduction to Topological Data Analysis
URL:https://research.reading.ac.uk/research-blog/event/introduction-to-topological-data-analysis-biological-science-research-seminars/
LOCATION:Chemistry LT2
CATEGORIES:Agriculture, Food & Health,Environment
END:VEVENT
BEGIN:VEVENT
DTSTART;TZID=Europe/London:20200303T130000
DTEND;TZID=Europe/London:20200303T135000
DTSTAMP:20260420T210258
CREATED:20200123T073324Z
LAST-MODIFIED:20230209T175025Z
UID:19636-1583240400-1583243400@research.reading.ac.uk
SUMMARY:How Conservation Initiatives Go to Scale
DESCRIPTION:Biological Science Research Seminars\nDr Morena Mills\,  Senior Lecturer in Environmental Social Science\,  Imperial College\, London
URL:https://research.reading.ac.uk/research-blog/event/how-conservation-initiatives-go-to-scale-biological-science-research-seminars/
LOCATION:Chemistry LT2
CATEGORIES:Agriculture, Food & Health,Environment
END:VEVENT
BEGIN:VEVENT
DTSTART;TZID=Europe/London:20200303T130000
DTEND;TZID=Europe/London:20200303T133000
DTSTAMP:20260420T210258
CREATED:20200123T073323Z
LAST-MODIFIED:20200212T121933Z
UID:19588-1583240400-1583242200@research.reading.ac.uk
SUMMARY:Relationships in Errors between Meteorological and Air Quality Forecasts
DESCRIPTION:Meteorology Tuesday Seminars\nKaja Milczewska​: Relationships in Errors between Meteorological and Air Quality Forecasts
URL:https://research.reading.ac.uk/research-blog/event/relationships-in-errors-between-meteorological-and-air-quality-forecasts%e2%80%8b-meteorology-tuesday-seminars/
LOCATION:Sutcliffe Lecture Theatre\, Room GU01\, Department of Meteorology\, University of Reading\, Whiteknights\, RG6 6AH
CATEGORIES:Environment
END:VEVENT
BEGIN:VEVENT
DTSTART;TZID=Europe/London:20200302T120000
DTEND;TZID=Europe/London:20200302T125000
DTSTAMP:20260420T210258
CREATED:20200123T073322Z
LAST-MODIFIED:20200212T121827Z
UID:19572-1583150400-1583153400@research.reading.ac.uk
SUMMARY:Jet Latitude Regimes and the Predictability of the North Atlantic Oscillation
DESCRIPTION:Meteorology Monday Seminars\nKristian Strommen\, University of Oxford: Jet Latitude Regimes and the Predictability of the North Atlantic Oscillation
URL:https://research.reading.ac.uk/research-blog/event/jet-latitude-regimes-and-the-predictability-of-the-north-atlantic-oscillation-meteorology-monday-seminars/
LOCATION:Sutcliffe Lecture Theatre\, Room GU01\, Department of Meteorology\, University of Reading\, Whiteknights\, RG6 6AH
CATEGORIES:Environment
END:VEVENT
BEGIN:VEVENT
DTSTART;TZID=Europe/London:20200226T193000
DTEND;TZID=Europe/London:20200226T193000
DTSTAMP:20260420T210258
CREATED:20200123T073321Z
LAST-MODIFIED:20200212T121540Z
UID:19555-1582745400-1582745400@research.reading.ac.uk
SUMMARY:The Self Delusion: How we are all connected and why that matters
DESCRIPTION:University Public Lecture \nProfessor Tom Oliver (Ecology and Evolutionary Biology): The Self Delusion: How we are all connected and why that matters \nWe often think of ourselves as individuals\, acting alone\, with an inner self that stays the same across our lives. But this is an illusion – in fact\, we are more connected with others\, the planet and the universe than we realise. \nIn his lecture\, ecologist Tom Oliver explains some surprising science that will make you think differently about yourself and your place in the world. While our sense of individual self has helped our species to succeed\, he argues that seeing beyond this mindset to understand the complex connections between us may well be the key to a better future. \n \nTom Oliver is a Professor in Applied Ecology at the University of Reading and author of The Self Delusion\, a popular science book about our human interconnectedness. He is a senior academic fellow with the UK government leading the design of their Systems Research Programme to inform environmental policy\, and also sits on the European Environment Agency Scientific Committee. Tom is a frequent contributor to broadcast media\, a frequent speaker on environmental science and has published more than 65 scientific papers in world-leading journals. \nFor more information on Tom’s research\, please visit https://research.reading.ac.uk/social-and-applied-ecology/ \nAdmission free. Booking advisable.
URL:https://research.reading.ac.uk/research-blog/event/public-lecture-series-the-self-delusion-how-we-are-all-connected-and-why-that-matters/
LOCATION:Palmer Building\, G10
CATEGORIES:Environment
END:VEVENT
BEGIN:VEVENT
DTSTART;TZID=Europe/London:20200225T130000
DTEND;TZID=Europe/London:20200225T135000
DTSTAMP:20260420T210258
CREATED:20200123T073301Z
LAST-MODIFIED:20200212T103955Z
UID:19589-1582635600-1582638600@research.reading.ac.uk
SUMMARY:An explicit cloud electrification and lightning scheme for the Met Office’s Unified Model​
DESCRIPTION:Meteorology Tuesday Seminars\nBen Courtier: An explicit cloud electrification and lightning scheme for the Met Office’s Unified Model​
URL:https://research.reading.ac.uk/research-blog/event/an-explicit-cloud-electrification-and-lightning-scheme-for-the-met-offices-unified-model%e2%80%8b-meteorology-tuesday-seminars/
LOCATION:Sutcliffe Lecture Theatre\, Room GU01\, Department of Meteorology\, University of Reading\, Whiteknights\, RG6 6AH
CATEGORIES:Environment
END:VEVENT
BEGIN:VEVENT
DTSTART;TZID=Europe/London:20200224T120000
DTEND;TZID=Europe/London:20200224T125000
DTSTAMP:20260420T210258
CREATED:20200123T073300Z
LAST-MODIFIED:20200212T103639Z
UID:19569-1582545600-1582548600@research.reading.ac.uk
SUMMARY:Transport and exchange in the mountain boundary layer
DESCRIPTION:Meteorology Monday Seminars\nManuela Lehner\, University of Innsbruck: Transport and exchange in the mountain boundary layer
URL:https://research.reading.ac.uk/research-blog/event/transport-and-exchange-in-the-mountain-boundary-layer-meteorology-monday-seminars/
LOCATION:Sutcliffe Lecture Theatre\, Room GU01\, Department of Meteorology\, University of Reading\, Whiteknights\, RG6 6AH
CATEGORIES:Environment
END:VEVENT
BEGIN:VEVENT
DTSTART;TZID=Europe/London:20200221T100000
DTEND;TZID=Europe/London:20200222T170000
DTSTAMP:20260420T210258
CREATED:20200212T102455Z
LAST-MODIFIED:20200212T102518Z
UID:19785-1582279200-1582390800@research.reading.ac.uk
SUMMARY:Science Swindon: A festival of ideas
DESCRIPTION:A FESTIVAL OF IDEAS – Scientists and engineers from industry\, government and academia reveal the latest innovations\, with exciting opportunities. \nENQUIRING MINDS – Interactive exhibits\, inspiring science shows\, and challenging talks and panels will engage the public with the technologies of today and tomorrow. \nThe University will be represented by researchers from the Soil Security Programme and Natural Flood Management Programme. \n 
URL:https://research.reading.ac.uk/research-blog/event/science-swindon/
LOCATION:STEAM – Museum of the Great Western Railway\, Fire Fly Avenue\, Swindon\, SN2 2EY
CATEGORIES:Environment
END:VEVENT
BEGIN:VEVENT
DTSTART;TZID=Europe/London:20200218T130000
DTEND;TZID=Europe/London:20200218T135000
DTSTAMP:20260420T210258
CREATED:20200123T073300Z
LAST-MODIFIED:20200212T103210Z
UID:19587-1582030800-1582033800@research.reading.ac.uk
SUMMARY:Choose your own adventure in modelling land-atmosphere interactions​
DESCRIPTION:Meteorology Tuesday Seminars\nPatrick McGuire: Choose your own adventure in modelling land-atmosphere interactions​
URL:https://research.reading.ac.uk/research-blog/event/choose-your-own-adventure-in-modelling-land-atmosphere-interactions%e2%80%8b-meteorology-tuesday-seminars/
LOCATION:Sutcliffe Lecture Theatre\, Room GU01\, Department of Meteorology\, University of Reading\, Whiteknights\, RG6 6AH
CATEGORIES:Environment
END:VEVENT
BEGIN:VEVENT
DTSTART;TZID=Europe/London:20200217T120000
DTEND;TZID=Europe/London:20200217T125000
DTSTAMP:20260420T210258
CREATED:20200123T073300Z
LAST-MODIFIED:20200212T103101Z
UID:19570-1581940800-1581943800@research.reading.ac.uk
SUMMARY:Should water managers in African countries prepare for wetter or drier futures?
DESCRIPTION:Meteorology Monday Seminars\nRachel James\, University of Oxford: \nShould water managers in African countries prepare for wetter or drier futures? Analysing modelled processes to improve information for decision makers
URL:https://research.reading.ac.uk/research-blog/event/should-water-managers-in-african-countries-prepare-for-wetter-or-drier-futures-analysing-modelled-processes-to-improve-information-for-decision-makers-meteorology-monday-seminars/
LOCATION:Sutcliffe Lecture Theatre\, Room GU01\, Department of Meteorology\, University of Reading\, Whiteknights\, RG6 6AH
CATEGORIES:Environment
END:VEVENT
BEGIN:VEVENT
DTSTART;TZID=Europe/London:20200211T130000
DTEND;TZID=Europe/London:20200211T135000
DTSTAMP:20260420T210258
CREATED:20200123T073259Z
LAST-MODIFIED:20200123T073259Z
UID:19586-1581426000-1581429000@research.reading.ac.uk
SUMMARY:Fragmentation and melting of the seasonal sea ice cover​ - Meteorology Tuesday Seminars
DESCRIPTION:Meteorology Tuesday Seminars\nAdam Bateson
URL:https://research.reading.ac.uk/research-blog/event/fragmentation-and-melting-of-the-seasonal-sea-ice-cover%e2%80%8b-meteorology-tuesday-seminars/
LOCATION:Sutcliffe Lecture Theatre\, Room GU01\, Department of Meteorology\, University of Reading\, Whiteknights\, RG6 6AH
CATEGORIES:Environment
END:VEVENT
BEGIN:VEVENT
DTSTART;TZID=Europe/London:20200210T120000
DTEND;TZID=Europe/London:20200210T125000
DTSTAMP:20260420T210258
CREATED:20200123T073258Z
LAST-MODIFIED:20200123T073258Z
UID:19568-1581336000-1581339000@research.reading.ac.uk
SUMMARY:Earth System Modelling at ECMWF – Progress and Challenges - Meteorology Monday Seminars
DESCRIPTION:Earth System Modelling at ECMWF – Progress and Challenges – Meteorology Monday Seminars\nNils Wedi\nECMWF
URL:https://research.reading.ac.uk/research-blog/event/earth-system-modelling-at-ecmwf-progress-and-challenges-meteorology-monday-seminars/
LOCATION:Sutcliffe Lecture Theatre\, Room GU01\, Department of Meteorology\, University of Reading\, Whiteknights\, RG6 6AH
CATEGORIES:Environment
END:VEVENT
BEGIN:VEVENT
DTSTART;TZID=Europe/London:20200204T130000
DTEND;TZID=Europe/London:20200204T135000
DTSTAMP:20260420T210258
CREATED:20200123T073230Z
LAST-MODIFIED:20200123T073230Z
UID:19585-1580821200-1580824200@research.reading.ac.uk
SUMMARY:Applying Metrological Techniques to EO Satellite Data or: How I Learnt to Stop Worrying and Love Uncertainties.​ - Meteorology Tuesday Seminars
DESCRIPTION:Meteorology Tuesday Seminars\nJon Mittaz
URL:https://research.reading.ac.uk/research-blog/event/applying-metrological-techniques-to-eo-satellite-data-or-how-i-learnt-to-stop-worrying-and-love-uncertainties-%e2%80%8b-meteorology-tuesday-seminars/
LOCATION:Sutcliffe Lecture Theatre\, Room GU01\, Department of Meteorology\, University of Reading\, Whiteknights\, RG6 6AH
CATEGORIES:Environment
END:VEVENT
BEGIN:VEVENT
DTSTART;TZID=Europe/London:20200203T120000
DTEND;TZID=Europe/London:20200203T125000
DTSTAMP:20260420T210258
CREATED:20200123T073230Z
LAST-MODIFIED:20200123T073230Z
UID:19567-1580731200-1580734200@research.reading.ac.uk
SUMMARY:The impact of ozone depletion on Southern Ocean climate - Meteorology Monday Seminars
DESCRIPTION:The impact of ozone depletion on Southern Ocean climate – Meteorology Monday Seminars\nWilliam Seviour\nUniversity of Bristol
URL:https://research.reading.ac.uk/research-blog/event/the-impact-of-ozone-depletion-on-southern-ocean-climate-meteorology-monday-seminars/
LOCATION:Sutcliffe Lecture Theatre\, Room GU01\, Department of Meteorology\, University of Reading\, Whiteknights\, RG6 6AH
CATEGORIES:Environment
END:VEVENT
BEGIN:VEVENT
DTSTART;TZID=Europe/London:20200128T130000
DTEND;TZID=Europe/London:20200128T135000
DTSTAMP:20260420T210258
CREATED:20200123T073229Z
LAST-MODIFIED:20200123T073229Z
UID:19584-1580216400-1580219400@research.reading.ac.uk
SUMMARY:The representation of blocking in global climate models​ - Meteorology Tuesday Seminars
DESCRIPTION:Meteorology Tuesday Seminars\nReinhard Schiemann​
URL:https://research.reading.ac.uk/research-blog/event/the-representation-of-blocking-in-global-climate-models%e2%80%8b-meteorology-tuesday-seminars/
LOCATION:Sutcliffe Lecture Theatre\, Room GU01\, Department of Meteorology\, University of Reading\, Whiteknights\, RG6 6AH
CATEGORIES:Environment
END:VEVENT
BEGIN:VEVENT
DTSTART;TZID=Europe/London:20200127T120000
DTEND;TZID=Europe/London:20200127T125000
DTSTAMP:20260420T210258
CREATED:20200123T073228Z
LAST-MODIFIED:20200123T073228Z
UID:19566-1580126400-1580129400@research.reading.ac.uk
SUMMARY:Air pollution impacts on the carbon cycle - Meteorology Monday Seminars
DESCRIPTION:Air pollution impacts on the carbon cycle – Meteorology Monday Seminars\nNadine Unger\nUniversity of Exeter
URL:https://research.reading.ac.uk/research-blog/event/air-pollution-impacts-on-the-carbon-cycle-meteorology-monday-seminars/
LOCATION:Sutcliffe Lecture Theatre\, Room GU01\, Department of Meteorology\, University of Reading\, Whiteknights\, RG6 6AH
CATEGORIES:Environment
END:VEVENT
BEGIN:VEVENT
DTSTART;TZID=Europe/London:20200123T193000
DTEND;TZID=Europe/London:20200123T203000
DTSTAMP:20260420T210258
CREATED:20200106T123350Z
LAST-MODIFIED:20200122T122516Z
UID:19270-1579807800-1579811400@research.reading.ac.uk
SUMMARY:The Self Delusion - Meet Author Tom Oliver
DESCRIPTION:Meet local author and University of Reading Professor of Ecology Tom Oliver when he will be talking about his new book ‘The Self Delusion’ and signing copies. Tickets are free of charge and can be obtained at waterstones.com/events. \nFor more information about Professor Oliver’s research and the book read our blog post and visit Professor Oliver’s website.
URL:https://research.reading.ac.uk/research-blog/event/the-self-delusion-meet-author-tom-oliver/
LOCATION:Waterstones\, Reading\, United Kingdom
CATEGORIES:Environment
END:VEVENT
BEGIN:VEVENT
DTSTART;TZID=Europe/London:20200123T130000
DTEND;TZID=Europe/London:20200123T150000
DTSTAMP:20260420T210258
CREATED:20200120T171040Z
LAST-MODIFIED:20200120T171040Z
UID:19412-1579784400-1579791600@research.reading.ac.uk
SUMMARY:What really happened at COP25?
DESCRIPTION:The Walker Institute invites you to their annual COP debrief “What really happened at COP25” which is taking place on Thursday 23 January\, 13:00 – 15:00\, Chancellors G05. \nOur panelists will be reporting on their first hand experiences of COP! How productive was the conference? What happened that was not covered in the media? An opportunity to ask attendees of COP all of your burning questions. \nPanel \nAlex Deakin                       UK Met Office \nDr Hannah Fluck               Historic England \nDr Grady Walker              Walker Institute \nDr Deepa Senapathi         Agriculture\, Policy and Development \nJacob Myers                      Walker Institute \nCarys Cunningham           Scenario DTP \nJames Fallon                      Scenario DTP \n  \nDrinks and veggie nibbles served – bring your own reusable cupsronment\, COP25\,
URL:https://research.reading.ac.uk/research-blog/event/what-really-happened-at-cop25/
LOCATION:Chancellor’s Building G05\, Whiteknights Campus\, Reading\, RG6 6UR\, United Kingdom
CATEGORIES:Environment
END:VEVENT
BEGIN:VEVENT
DTSTART;TZID=Europe/London:20200123T000000
DTEND;TZID=Europe/London:20200123T000000
DTSTAMP:20260420T210258
CREATED:20200123T073224Z
LAST-MODIFIED:20200123T075343Z
UID:18702-1579737600-1579737600@research.reading.ac.uk
SUMMARY:Soil Biogeochemistry Group Seminar: Understanding the plant root uptake of [14C]-1\,2\,4-Triazole
DESCRIPTION:
URL:https://research.reading.ac.uk/research-blog/event/soil-biogeochemistry-group-seminar-understanding-the-plant-root-uptake-of-14c-124-triazole-2/
CATEGORIES:Environment
END:VEVENT
END:VCALENDAR