BEGIN:VCALENDAR
VERSION:2.0
PRODID:-//Connecting Research - ECPv6.0.5//NONSGML v1.0//EN
CALSCALE:GREGORIAN
METHOD:PUBLISH
X-WR-CALNAME:Connecting Research
X-ORIGINAL-URL:https://research.reading.ac.uk/research-blog
X-WR-CALDESC:Events for Connecting Research
REFRESH-INTERVAL;VALUE=DURATION:PT1H
X-Robots-Tag:noindex
X-PUBLISHED-TTL:PT1H
BEGIN:VTIMEZONE
TZID:Europe/London
BEGIN:DAYLIGHT
TZOFFSETFROM:+0000
TZOFFSETTO:+0100
TZNAME:BST
DTSTART:20240331T010000
END:DAYLIGHT
BEGIN:STANDARD
TZOFFSETFROM:+0100
TZOFFSETTO:+0000
TZNAME:GMT
DTSTART:20241027T010000
END:STANDARD
END:VTIMEZONE
BEGIN:VEVENT
DTSTART;TZID=Europe/London:20240701T080000
DTEND;TZID=Europe/London:20240705T170000
DTSTAMP:20260426T033747
CREATED:20240523T204732Z
LAST-MODIFIED:20240523T204732Z
UID:29532-1719820800-1720198800@research.reading.ac.uk
SUMMARY:Global Book Cultures: Materialities\, Collaborations\, Access | SHARP Conference 2024
DESCRIPTION:[vc_row][vc_column][vc_column_text]SHARP 2024 will explore how books and texts are produced\, distributed\, and read in global contexts today and in the past. The conference will address how access to book cultures is uneven on many different levels. Taking inspiration from recent work in critical bibliography (Maruca and Ozment\, 2022) and transnational print activism (Noorda\, Norrick-Rühl\, le Roux\, 2022) we are seeking papers that will interrogate how book cultures across time can and have been used to resist\, question\, or otherwise support or reinstate various systems of power and/or oppression.[/vc_column_text][/vc_column][/vc_row]
URL:https://research.reading.ac.uk/research-blog/event/global-book-cultures-materialities-collaborations-access-sharp-conference-2024/
LOCATION:University of Reading\, RG6 6UR 
CATEGORIES:Heritage & Creativity
ATTACH;FMTTYPE=image/jpeg:https://research.reading.ac.uk/research-blog/wp-content/uploads/sites/72/2024/05/SHARP-Logo-Red-2048x1314-1.jpg
END:VEVENT
BEGIN:VEVENT
DTSTART;TZID=Europe/London:20240708T130000
DTEND;TZID=Europe/London:20240708T140000
DTSTAMP:20260426T033747
CREATED:20240627T130657Z
LAST-MODIFIED:20240627T130657Z
UID:29622-1720443600-1720447200@research.reading.ac.uk
SUMMARY:My Climate Risk seminar
DESCRIPTION:[vc_row][vc_column][vc_column_text]For the last summer session of the “My Climate Risk Interdisciplinary Learning Group” (MCRILG)\, we are delighted to be joined by Dr Masilin Gudoshava\, Climate Modeling Expert at the IGAD Climate Prediction and Applications Centre (ICPAC) in Nairobi\, Kenya. \nMasilin’s work focuses on sub-seasonal to seasonal forecasting\, and her interest is in producing tailored forecasts that cater to the specific needs of various climate-sensitive sectors\, such as agriculture\, health and disaster management. Her role also involves collaborating with stakeholders to ensure that the forecasts are practical\, relevant\, and effectively utilized \nMasilin will discuss with us the importance of understanding the behaviour of rainy seasons\, especially onset\, for informed decision-making. She will introduce us to the behaviour and change of “Kiremt” rainy season in drought-prone Ethiopia\, through the paper “Characterization and variability of Kiremt rainy season over Ethiopia”. Masilin’s extensive experience in producing forecasts and communicating them to countries and communities provides a great opportunity to ask her questions also on her work more generally. \nWe look forward to seeing you on Monday 8th July at 1pm BST (GMT+1) to learn more about this! You can find detailed information and the Zoom link to attend the session on our website. If you want to register to MCRILG and receive calendar invitations the Friday prior to the Monday session\, you can also enrol in our MCRILG list.[/vc_column_text][/vc_column][/vc_row]
URL:https://research.reading.ac.uk/research-blog/event/my-climate-risk-seminar/
CATEGORIES:Environment
END:VEVENT
END:VCALENDAR