BEGIN:VCALENDAR
VERSION:2.0
PRODID:-//Connecting Research - ECPv6.0.5//NONSGML v1.0//EN
CALSCALE:GREGORIAN
METHOD:PUBLISH
X-WR-CALNAME:Connecting Research
X-ORIGINAL-URL:https://research.reading.ac.uk/research-blog
X-WR-CALDESC:Events for Connecting Research
REFRESH-INTERVAL;VALUE=DURATION:PT1H
X-Robots-Tag:noindex
X-PUBLISHED-TTL:PT1H
BEGIN:VTIMEZONE
TZID:Europe/London
BEGIN:DAYLIGHT
TZOFFSETFROM:+0000
TZOFFSETTO:+0100
TZNAME:BST
DTSTART:20250330T010000
END:DAYLIGHT
BEGIN:STANDARD
TZOFFSETFROM:+0100
TZOFFSETTO:+0000
TZNAME:GMT
DTSTART:20251026T010000
END:STANDARD
END:VTIMEZONE
BEGIN:VEVENT
DTSTART;VALUE=DATE:20250108
DTEND;VALUE=DATE:20250109
DTSTAMP:20260424T182628
CREATED:20241217T154643Z
LAST-MODIFIED:20241217T154643Z
UID:30638-1736294400-1736380799@research.reading.ac.uk
SUMMARY:Agrifood - Systems and Futures College of Experts - Seminar
DESCRIPTION:[vc_row][vc_column][vc_column_text]if you are interested to hear about the broad aims for the College of Experts and some case studies of application of systems and futures approaches\, there will be a seminar on Wed 8th Jan. Sign up here for an Outlook invitation. \nAgenda \nWed 8th Jan 2025\, 1-2:30pm\, Room TBC in calendar appointment \nPart 1. What are systems and futures approaches? \n\nSystems approaches to inform environmental policy- case studies from an academic perspective  (Tom Oliver\, aPVC Research – Environment\, UoR)\nFutures approaches in Government 1- perspectives from Defra (Phil Tovey\, Head of Futures\, Defra)\nFutures approaches in Government 2- perspectives from GCHQ (Matthew Pritchard\, Former Head of Strategy and Futures\, GCHQ; Former Director of Sustainability\, Baringa)\n\nPart 2. Agrifood Systems and Futures College of Experts \n\nThe Agrifood Futures Strategy and opportunities for staff across the University\n\n[/vc_column_text][/vc_column][/vc_row]
URL:https://research.reading.ac.uk/research-blog/event/agrifood-systems-and-futures-college-of-experts-seminar/
CATEGORIES:Agriculture, Food & Health
END:VEVENT
BEGIN:VEVENT
DTSTART;TZID=Europe/London:20250109T130000
DTEND;TZID=Europe/London:20250109T140000
DTSTAMP:20260424T182628
CREATED:20241217T145549Z
LAST-MODIFIED:20241217T173005Z
UID:30636-1736427600-1736431200@research.reading.ac.uk
SUMMARY:Metaphors that matter – how figurative language influences perceptions of promotability of women and men.
DESCRIPTION:[vc_row][vc_column][vc_column_text]This event is part of the 2024-2025 webinar series run by researchers from Accommodating Diversity in the Workplace. Sign up for the webinar series to receive the joining link. \n  \nMetaphors that matter – how figurative language influences perceptions of\npromotability of women and men. \nPresenter: Professor Sylvia Jaworska\, University of Reading \nThis study examines the influence of metaphorical language in performance evaluations on perceptions of promotability for women and men in white-collar workplaces. Through a quasi-experimental online survey with 280 participants\, the research investigated six metaphorical personas: athlete\, soldier\, master\, confidant\, diver\, and driver. Findings show that metaphorical language significantly enhances perceptions of promotability compared to non-metaphorical descriptions. The master persona received the highest promotability ratings\, while confidant received the lowest. However\, the study also exposes a strong gender bias. All personas were rated higher for male candidates\, indicating that metaphors amplify existing gender biases and reinforce a male-dominated business view. While metaphors from traditionally masculine domains boost promotability perceptions for men\, their effect is less pronounced for women. The study recommends raising awareness of metaphors’ persuasive power and monitoring their use in performance reviews and other forms of evaluations to mitigate unintended bias in organizational decision-making regarding promotion and pay. \n[/vc_column_text][/vc_column][/vc_row]
URL:https://research.reading.ac.uk/research-blog/event/metaphors-that-matter/
END:VEVENT
BEGIN:VEVENT
DTSTART;VALUE=DATE:20250115
DTEND;VALUE=DATE:20250116
DTSTAMP:20260424T182628
CREATED:20241217T093130Z
LAST-MODIFIED:20241217T093238Z
UID:30627-1736899200-1736985599@research.reading.ac.uk
SUMMARY:Videographic Research Summer School - Closing Date for Applications
DESCRIPTION:[vc_row][vc_column][vc_column_text] \nThe H&C Research Theme and the Screen Work Group are pleased to announce our fourth Videographic Research Summer School at the University of Reading\, July 7th – 11th 2025. After successful workshops in previous years – which have included participants from Pharmacy\, History\, Archaeology\, Theatre\, Museums and Collections\, Modern Languages and English Literature – we welcome expressions of interest from UoR colleagues working in all discipline areas who would like to develop their skills in making video essays.  \nApplications \nIf you are interested in taking part\, please complete this EOI before the 15th January. \nThe form confirms your availability for the dates and duration of the workshop (July 7th – 11th 2025)\, provides us with information about your research context and proposed object of study\, and addresses the potential for working with audiovisual approaches in this area.    \nContext   \nThe digital reworking of sound and image is an exciting and rapidly developing research practice. This summer school is designed to make these methods available to colleagues at Reading across a variety of disciplines and research areas. Our ambition is to develop the videographic skills of researchers beyond film and television studies\, where these approaches are now firmly established. We believe there are significant and underexplored opportunities in applying videographic approaches to research projects in every discipline\, including collections-based research. \n  \nThe Summer School   \nThe workshop will take place in Minghella Studios\, July 7th – 11th 2025. It will involve:   \n\nbasic technical training in non-linear editing and related technologies  \nproducing and sharing feedback on a series of exercises in response to briefs designed to engage with different aspects of video essay form \ndiscussion of existing video essays and debates in the wider field of videographic scholarship  \nreflection on videographic analysis and archival material  \nplanning a longer audiovisual essay\, with opportunities for feedback later in the year \n\nParticipants will nominate and work with an item of audiovisual material or material object relevant to their research\, as a means of ‘testing out’ how to develop critical ideas through editing. No prior experience or equipment is required (computers with appropriate software will be available at the workshop).    \nThe workshop will be led by H&C APVC Research John Gibbs\, an award-winning video essayist with extensive experience of teaching videographic criticism and FTT Lecturer in Filmmaking Andrew Philip\, a documentary maker with 20 years of experience working in postproduction. It will also draw on expertise from colleagues in the wider videographic field\, including Screen Working Group Director Adam O’Brien. \n    \nTestimonials   \n“The workshop exceeded my expectations! It was one of the best weeks of my professional life. I enjoyed every minute of it.”  \n“The workshop has opened up avenues to rethink project design\, and project delivery. The videographic method allows also for a wider dissemination\, and I like that a lot. In this sense\, the workshop has extended my perception of reach and research design.”  \n“This was the most productive skills event I have encountered during my almost 15 years of working at the University. Its tight focus\, collegiality\, mix of academic and practical expertise\, and its lecturer-centered approach were especially welcome.”   \n“The workshop surpassed my expectations and enabled me to develop new skills which will be useful in both teaching/research. The atmosphere was very supportive\, constructive and encouraging. It was also beneficial to be able to engage with colleagues beyond my department and breakdown the silos that can characterize research at a university.”   \n“I had already heard from colleagues that the workshop was awesome. I have to say that the workshop went well above my already high expectations. It has been one of the most transformative and elevating intellectual experiences of the last few years.”  \n“I had been slightly worried that it might be beyond my technical capabilities and that the theoretical frames of such work might be too grounded in film theory and in disciplines beyond my area of expertise\, but I was very pleasantly surprised to discover that the approach has a much broader range of applications and breadth of relevance. I would encourage people from any disciplinary background to try these approaches.” \n  \nExplore videographic methods…   \nIf you are not yet familiar with video essays\, these examples may help to illustrate the exciting potential and variety of the approach:   \nThe Elephant Man’s Sound\, Tracked (Liz Greene): A deep archival dive into sound design\, David Lynch and creative-labour politics.   \nCreative Geography\, Creative Connections: Candyman (John Gibbs): Explores the two films’ (1992\, 2021) engagement with their location and the politics of urban space.  \nRestituting Evidence: Genocide and Reparations in German colonial Namibia (Forensic Architecture): this extraordinary video work by the Goldsmiths team and their partners in the Ovaherero/Ovambanderu Genocide Foundation indicates some of the potential of videographic approaches in different fields.   \nNerdwriter on The Night Watch. We have significant reservations about this one – feeling it’s too pleased with itself and its claims to knowledge – but it does illustrate some of the kinds of analysis one might offer on an object / work / material in another medium. \nxena’s body (a menstrual auto-investigation using an iphone) Watch this on your phone! An embodied investigation of the politics of menstrual tracking apps\, among other things. \n[/vc_column_text][/vc_column][/vc_row]
URL:https://research.reading.ac.uk/research-blog/event/videographic-research-summer-school/
CATEGORIES:Heritage & Creativity
END:VEVENT
END:VCALENDAR