BEGIN:VCALENDAR
VERSION:2.0
PRODID:-//Connecting Research - ECPv6.0.5//NONSGML v1.0//EN
CALSCALE:GREGORIAN
METHOD:PUBLISH
X-ORIGINAL-URL:https://research.reading.ac.uk/research-blog
X-WR-CALDESC:Events for Connecting Research
REFRESH-INTERVAL;VALUE=DURATION:PT1H
X-Robots-Tag:noindex
X-PUBLISHED-TTL:PT1H
BEGIN:VTIMEZONE
TZID:Europe/London
BEGIN:DAYLIGHT
TZOFFSETFROM:+0000
TZOFFSETTO:+0100
TZNAME:BST
DTSTART:20250330T010000
END:DAYLIGHT
BEGIN:STANDARD
TZOFFSETFROM:+0100
TZOFFSETTO:+0000
TZNAME:GMT
DTSTART:20251026T010000
END:STANDARD
END:VTIMEZONE
BEGIN:VEVENT
DTSTART;TZID=Europe/London:20250306T130000
DTEND;TZID=Europe/London:20250306T153000
DTSTAMP:20260424T063742
CREATED:20250204T094422Z
LAST-MODIFIED:20250204T094422Z
UID:30838-1741266000-1741275000@research.reading.ac.uk
SUMMARY:'Since Yesterday - the Untold Story of Scotland's Girl Bands' Screening | Women@Reading
DESCRIPTION:[vc_row][vc_column][vc_column_text] \nFTT colleagues Simon Knox and Trish Reid\, together with the Women@Reading Network are hosting a special screening of a film of ‘Since Yesterday – the Untold Story of Scotland’s Girl Bands‘ a 2024 documentary that tells the story of Scottish pop music from the 1960s onwards\, via interviews with the visionary women who got on stage and made music together.  \n Join us in Minghella Cinema for a screening of the film\, plus a Q&A panel with one of those visionary women\, Prof. Trish Reid\,  Head of School\, for Art and Communication Design\, followed by tea/coffee.  The Q&A will include Matt Worley. Robert is funding the refreshments. Press Team will be doing something to promote wider to the local community. \n  \n Watch this small trailer to find out more about the challenges faced by these women when working in the music industry \nhttps://www.youtube.com/watch?v=VOYYmM7e0sw&t=7s \n You can book your ticket here  – for the showing on Whiteknights Campus \nWomen@Reading: Since Yesterday – The Untold Story of Scotland’s Girl Bands Tickets\, Thu\, Mar 6\, 2025 at 1:00 PM | Eventbrite \n[/vc_column_text][/vc_column][/vc_row]
URL:https://research.reading.ac.uk/research-blog/event/since-yesterday-the-untold-story-of-scotlands-girl-bands-screening-womenreading/
LOCATION:Minghella Building\, Minghella Cinema\, Whiteknights Campus\, RG6 6UR\, United Kingdom
END:VEVENT
BEGIN:VEVENT
DTSTART;TZID=Europe/London:20250312T130000
DTEND;TZID=Europe/London:20250312T143000
DTSTAMP:20260424T063742
CREATED:20240722T150035Z
LAST-MODIFIED:20250211T120749Z
UID:29760-1741784400-1741789800@research.reading.ac.uk
SUMMARY:Open Research and Digital Humanities
DESCRIPTION:[vc_row][vc_column][vc_column_text] \nThis is a hybrid event.\n \nThe Digital Humanities CoP and Hub\, in collaboration with the Open and Robust Research at Reading (ORRR) network\, invite you to a lunchtime event on the theme of Open Research and Digital Humanities. The event will include a guest talk by Dr Christopher Ohge (Senior Lecturer in Digital Approaches to Literature at the School of Advanced Study\, member of the University of London’s Open Research Group and School of Advanced Study’s Digital Humanities Research Hub) and a Q&A session. Tea/coffee will be available for those attending in person. \n[/vc_column_text][/vc_column][/vc_row]
URL:https://research.reading.ac.uk/research-blog/event/open-research-and-digital-humanities/
LOCATION:Palmer 103
CATEGORIES:Heritage & Creativity
END:VEVENT
BEGIN:VEVENT
DTSTART;TZID=Europe/London:20250312T130000
DTEND;TZID=Europe/London:20250312T143000
DTSTAMP:20260424T063742
CREATED:20240722T150346Z
LAST-MODIFIED:20240722T150346Z
UID:29762-1741784400-1741789800@research.reading.ac.uk
SUMMARY:Digital Humanities and Artificial Intelligence | Community of Practices joint event
DESCRIPTION:[vc_row][vc_column][vc_column_text]More details to follow![/vc_column_text][/vc_column][/vc_row]
URL:https://research.reading.ac.uk/research-blog/event/digital-humanities-and-artificial-intelligence-community-of-practices-joint-event/
CATEGORIES:Heritage & Creativity
END:VEVENT
BEGIN:VEVENT
DTSTART;TZID=Europe/London:20250313T130000
DTEND;TZID=Europe/London:20250313T135000
DTSTAMP:20260424T063742
CREATED:20250310T183008Z
LAST-MODIFIED:20250310T183008Z
UID:30985-1741870800-1741873800@research.reading.ac.uk
SUMMARY:Through a decolonising lens? Exploring the connections between 'bereavement and grief' and the climate and ecological emergencies
DESCRIPTION:[vc_row][vc_column][vc_column_text] \nYou are warmly invited to an online Human Geography Research Cluster seminar on Thursday 13th March\, 1pm- 1.50pm (Teams link for joining below). \nThrough a decolonising lens? Exploring the connections between ‘bereavement and grief’ and the climate and ecological emergencies. \nJane McCarthy\, Honorary Associate\, The Open University; Visiting Professor\, Centre for Death and Society\, Bath University; Visiting Fellow\, University of Reading. \nAbstract \nThe impact of the climate and ecological emergency creates a central threat regarding the polycrisis currently unfolding across the globe\, rooted in colonial\, capitalist\, white\, modernity. While many peoples across the world already experience catastrophic ‘losses’ of many kinds\, the polycrisis gives rise to global issues of collective and individualised deaths\, profound losses and endings of many kinds\, raising existential threats to all life on earth. These are ’human’-made crises\, though not made equally by all ‘humans’\, requiring a sustained focus and concern\, of and for the living\, in both the anticipation and the aftermath of these deaths\, losses\, and endings. Yet\, while death and bereavement studies as constructed in affluent Minority worlds has claimed an arrogant universality\,  the narrative and rhetoric of modernity is most profoundly challenged by human mortality. The Open University programme on Existential Dis/Connections aims to bring currently disparate bodies of work into connection\, centring on our three core themes of death and loss\, the CEE\, and decolonisation. We seek to create new spaces for nurturing and embracing both epistemic and ontological justice\, to enable a pluriverse of cosmologies\, and ways of being and living alongside death\, to be valued and heard through a decolonising lens that starts from ‘elsewhere’. Can death studies decentre the current dominant approaches rooted in modernity\, to contribute towards an existential climate justice for the benefit all life and entities on earth? \n________________________________________________________________________________ \nMicrosoft Teams Need help?\nJoin the meeting now\nMeeting ID: 380 745 621 309\nPasscode: HzkWeL \n\n\n\nDial in by phone\n+44 20 7660 8335\,\,138757062# United Kingdom\, City of London\nFind a local number\nPhone conference ID: 138 757 062#\nFor organisers: Meeting options| Reset dial-in PIN\nUniversity of Reading \n[/vc_column_text][/vc_column][/vc_row]
URL:https://research.reading.ac.uk/research-blog/event/through-a-decolonising-lens-exploring-the-connections-between-bereavement-and-grief-and-the-climate-and-ecological-emergencies/
LOCATION:Online event
CATEGORIES:Prosperity & Resilience
END:VEVENT
BEGIN:VEVENT
DTSTART;TZID=Europe/London:20250327T130000
DTEND;TZID=Europe/London:20250327T140000
DTSTAMP:20260424T063742
CREATED:20250321T085742Z
LAST-MODIFIED:20250321T085742Z
UID:31040-1743080400-1743084000@research.reading.ac.uk
SUMMARY:Disturbing the dead: Climate change and the potential relocation of Swedish cemeteries
DESCRIPTION:[vc_row][vc_column][vc_column_text] \nYou are warmly invited to a Human Geography Research Cluster/ Global Development Research Division in person (Sorby Room 115\, 1st Floor of Wager Building) / hybrid seminar (1-2pm on 27/3/25). \nDisturbing the dead: Climate change and the potential relocation of Swedish cemeteries\nRoger Marjavaara\, Umeå University\, Sweden. \nAbstract \nThis presentation focuses on the contradiction of mobility and immobility in relation to interred human remains. While society generally embraces human mobility\, once individuals pass away and are disposed of\, mobility ceases to be the norm. Some counties\, like Sweden\, has a rigid burial legislation that prohibits the re-location of interred human remains. However\, both society- and climate-related events are increasingly affecting the eternal rest of the deceased. Utilizing quantitative data on all cemeteries in Sweden\, this study aims to assess and analyse the potential magnitude of future large-scale moves of human remains due to expected impacts of climate change\, and to put this into a relational context of norms and laws. Results show that climate change poses an apparent risk to cemeteries in Sweden. \nBiography \nRoger Marjavaara is associate professor in human geography at the department of geography at Umeå University\, Sweden. The main focus of his research is the driving forces and consequences of human mobility. Here\, temporary mobility\, or tourism\, is of special interest\, especially second home tourism and its impact on places and people. Dr. Marjavaara also has an interest in production and reproduction of places\, and retail geography and mobile consumers. Further\, post-mortal mobility is another field that has attracted his research attention. \n________________________________________________________________________________ \nMicrosoft Teams Need help?\nJoin the meeting now\nMeeting ID: 357 220 295 754\nPasscode: L53Cmw \n\n\n\nDial in by phone\n+44 20 7660 8335\,\,915358739# United Kingdom\, City of London\nFind a local number\nPhone conference ID: 915 358 739#\nFor organisers: Meeting options| Reset dial-in PIN\nUniversity of Reading \n[/vc_column_text][/vc_column][/vc_row]
URL:https://research.reading.ac.uk/research-blog/event/disturbing-the-dead-climate-change-and-the-potential-relocation-of-swedish-cemeteries/
LOCATION:Sorby Room\, Wager Building
CATEGORIES:Prosperity & Resilience
END:VEVENT
END:VCALENDAR