BEGIN:VCALENDAR
VERSION:2.0
PRODID:-//Connecting Research - ECPv6.0.5//NONSGML v1.0//EN
CALSCALE:GREGORIAN
METHOD:PUBLISH
X-ORIGINAL-URL:https://research.reading.ac.uk/research-blog
X-WR-CALDESC:Events for Connecting Research
REFRESH-INTERVAL;VALUE=DURATION:PT1H
X-Robots-Tag:noindex
X-PUBLISHED-TTL:PT1H
BEGIN:VTIMEZONE
TZID:Europe/London
BEGIN:DAYLIGHT
TZOFFSETFROM:+0000
TZOFFSETTO:+0100
TZNAME:BST
DTSTART:20250330T010000
END:DAYLIGHT
BEGIN:STANDARD
TZOFFSETFROM:+0100
TZOFFSETTO:+0000
TZNAME:GMT
DTSTART:20251026T010000
END:STANDARD
END:VTIMEZONE
BEGIN:VEVENT
DTSTART;TZID=Europe/London:20250701T093000
DTEND;TZID=Europe/London:20250701T163000
DTSTAMP:20260423T083749
CREATED:20250424T113502Z
LAST-MODIFIED:20250424T114542Z
UID:31136-1751362200-1751387400@research.reading.ac.uk
SUMMARY:Mediation of Medical Treatment Disputes – End of Project Conference
DESCRIPTION:[vc_row][vc_column][vc_column_text]This is a one-day conference reporting on the findings of the ‘Mediation of Medical Treatment Disputes: A Therapeutic Justice Model’ research project. \nThe aim of the research was to understand whether and\, if so\, the extent to which\, mediation can and should be viewed as a form of therapeutic justice in medical treatment disputes. \nThis conference will be of interest to mediators\, legal professionals\, academics\, policymakers and others working in health and care disputes resolution. \nFind out more.[/vc_column_text][/vc_column][/vc_row]
URL:https://research.reading.ac.uk/research-blog/event/mediation-of-medical-treatment-disputes-end-of-project-conference/
LOCATION:Meadow Suite\, Park House\, Meadow Suite\, Park House\, RG6 6UR\, United Kingdom
CATEGORIES:Prosperity & Resilience
END:VEVENT
BEGIN:VEVENT
DTSTART;TZID=Europe/London:20250714T130000
DTEND;TZID=Europe/London:20250714T140000
DTSTAMP:20260423T083749
CREATED:20250702T084337Z
LAST-MODIFIED:20250707T110343Z
UID:31496-1752498000-1752501600@research.reading.ac.uk
SUMMARY:My Climate Risk Interdisciplinary Learning Group | July session - Dr Hannah Fluck
DESCRIPTION:[vc_row][vc_column][vc_column_text] \nDear University of Reading community\, \nFor the July session of the “My Climate Risk Interdisciplinary Learning Group” (MCRILG)\, we are delighted to be joined by Dr Hannah Fluck\, Senior National Archaeologist at the National Trust. \nDr Fluck is an archaeologist\, and her research is focusing on the relationship between the historic environment and archaeology\, in particular about peatland restoration\, tree planting and river management. \nDr Fluck will talk about her experiences of trying to get greater integration of cultural heritage not environmental policy and practice. The knowledge and expertise of cultural heritage have been absent from responses to the environmental crises\, often cultural heritage is included as an afterthought\, or viewed as an additional consideration once the core environmental matters have been addressed. In fact\, cultural heritage is integral to not only our understanding of environmental crises\, but to our responses. \nWe look forward to seeing you on Monday 14th July at 1pm GMT to learn more about this! The link to the Zoom session is on the Walker Institute March MCRILG session webpage. A calendar invitation will also be sent to you on Friday 11th July ONLY if you have joined our MCRILG. \nYou can find the highlights from our June MCRILG discussion with Will Shields on our webpage. \nHaving completed a year of MCRILG sessions we would love your feedback. We would appreciate it if you could take a few minutes and complete the feedback form: https://forms.office.com/e/Scc8j5YRcW \n \n[/vc_column_text][/vc_column][/vc_row]
URL:https://research.reading.ac.uk/research-blog/event/my-climate-risk-interdisciplinary-learning-group-july-session-dr-hannah-fluck/
END:VEVENT
BEGIN:VEVENT
DTSTART;TZID=Europe/London:20250715T110000
DTEND;TZID=Europe/London:20250715T120000
DTSTAMP:20260423T083749
CREATED:20250701T082955Z
LAST-MODIFIED:20250701T121640Z
UID:31479-1752577200-1752580800@research.reading.ac.uk
SUMMARY:Royal Society Entrepreneur in Residence | Innovation Seminar Series | July 2025
DESCRIPTION:[vc_row][vc_column][vc_single_image image=”31480″ img_size=”full”][vc_column_text]Please sign-up to the event and let us know if you are planning to attend in person or online so that we can have an idea of numbers and send you the calendar/hybrid link. Thank you.[/vc_column_text][/vc_column][/vc_row]
URL:https://research.reading.ac.uk/research-blog/event/royal-society-entrepreneur-in-residence-innovation-seminar-series-july-2025/
LOCATION:Chancellor’s Building GO8
END:VEVENT
BEGIN:VEVENT
DTSTART;TZID=Europe/London:20250716T130000
DTEND;TZID=Europe/London:20250716T140000
DTSTAMP:20260423T083749
CREATED:20250702T154658Z
LAST-MODIFIED:20250702T154658Z
UID:31500-1752670800-1752674400@research.reading.ac.uk
SUMMARY:Maternal well-being\, infant feeding and return to paid work - Report Launch
DESCRIPTION:[vc_row][vc_column][vc_column_text]We are delighted to invite you to a special online event launching the findings of the Maternal Wellbeing\, Infant Feeding and Return to Paid Work study funded by the Nuffield Foundation. This one-hour webinar will share key insights from the study\, introduce our toolkits for parents and employers\, and offer a space for interactive discussion about how workplaces can better support mothers returning to paid work while breastfeeding. \nRegister for the Event Here \nMeet the team: \nProfessor Sarah Jewell\, Dr Fari Aftab \, Professor Marina Della Giusta\, Professor Grace James\,  Professor Sylvia Jaworska. and Dr Sam Rawlings \nAbout the Research \nThis UK study investigated the wellbeing\, opportunities and experiences of mothers who wish to continue to breastfeed on return to paid work. Previous evidence found not meeting infant feeding goals (feeding in the way the mother wants to\, for as long as they/their child wishes to) can have a detrimental impact on wellbeing for both mother and child. Further\, it explored how employers can be better equipped to support their breastfeeding workers\, and how workplace policy\, and practice can evolve to support them. \nDrawing on the lived experiences of mothers\, HR professionals and line managers in the UK\, the study provides practical\, evidence-based recommendations for policy makers and for workplace policy / practice. \nWe will discuss some of our headline findings and policy implications and invite attendees to join a wider dialogue on promoting maternal wellbeing and inclusive workplaces. \nWe will be releasing the study’s final report prior to the online event. \nIf you have any questions about the event\, please contact:\nProfessor Sarah Jewell – s.l.jewell@reading.ac.uk \nThe Nuffield Foundation is an independent charitable trust with a mission to advance social wellbeing. It funds research that informs social policy\, primarily in Education\, Welfare\, and Justice. The Nuffield Foundation is the founder and co-funder of the Nuffield Council on Bioethics\, the Ada Lovelace Institute and the Nuffield Family Justice Observatory. The Foundation has funded this project\, but the views expressed are those of the authors and not necessarily the Foundation. \nBluesky: @nuffieldfoundation.org \nLinkedIn: Nuffield Foundation \nWebsite: nuffieldfoundation.org[/vc_column_text][/vc_column][/vc_row]
URL:https://research.reading.ac.uk/research-blog/event/maternal-well-being-infant-feeding-and-return-to-paid-work-report-launch/
LOCATION:Online event
CATEGORIES:Prosperity & Resilience
ATTACH;FMTTYPE=image/jpeg:https://research.reading.ac.uk/research-blog/wp-content/uploads/sites/72/2025/07/AdobeStock_277651645-scaled.jpeg
ORGANIZER;CN="Dr%20Sarah%20Jewell":MAILTO:s.l.jewell@reading.ac.uk
END:VEVENT
END:VCALENDAR