BEGIN:VCALENDAR
VERSION:2.0
PRODID:-//Connecting Research - ECPv6.0.5//NONSGML v1.0//EN
CALSCALE:GREGORIAN
METHOD:PUBLISH
X-WR-CALNAME:Connecting Research
X-ORIGINAL-URL:https://research.reading.ac.uk/research-blog
X-WR-CALDESC:Events for Connecting Research
REFRESH-INTERVAL;VALUE=DURATION:PT1H
X-Robots-Tag:noindex
X-PUBLISHED-TTL:PT1H
BEGIN:VTIMEZONE
TZID:Europe/London
BEGIN:DAYLIGHT
TZOFFSETFROM:+0000
TZOFFSETTO:+0100
TZNAME:BST
DTSTART:20230326T010000
END:DAYLIGHT
BEGIN:STANDARD
TZOFFSETFROM:+0100
TZOFFSETTO:+0000
TZNAME:GMT
DTSTART:20231029T010000
END:STANDARD
END:VTIMEZONE
BEGIN:VEVENT
DTSTART;TZID=Europe/London:20231005T160000
DTEND;TZID=Europe/London:20231005T173000
DTSTAMP:20260425T140236
CREATED:20230815T140838Z
LAST-MODIFIED:20230815T141723Z
UID:28051-1696521600-1696527000@research.reading.ac.uk
SUMMARY:All Eyes on 'My Climate Risk': Q-Storming towards Collective Pathways to Adaptation Action\, from Local to Global
DESCRIPTION:From October 2nd to 6th\, 2023\, over 1\,500 members of the climate change adaptation community from more than 80 countries will gather in Montreal to share their cutting-edge knowledge and contribute to the global momentum for adaptation. \nWith 180 sessions\, the 7th edition of the international conference Adaptation Futures will cover several key areas of adaptation research\, planning and action. \nAs one of the appointed World Climate Research Programme (WCRP) ‘My Climate Risk” (MCR) Regional Global Hubs\, The Walker Institute will be joining with 3 other WCRP MCR hubs from Nepal\, West Africa and Jordan to host a session on Thursday 5th October entitled: All Eyes on ‘My Climate Risk’: Q-Storming towards Collective Pathways to Adaptation Action\, from Local to Global. \nFind out more and register for the conference on the Adaptation Futures website.
URL:https://research.reading.ac.uk/research-blog/event/all-eyes-on-my-climate-risk/
LOCATION:Palais des Congrès de Montréal\, 201 Av. Viger O\, Montréal\, QC H2Z 1X7\, Canada
CATEGORIES:Environment
ATTACH;FMTTYPE=image/jpeg:https://research.reading.ac.uk/research-blog/wp-content/uploads/sites/72/2023/08/Walker-390x260-1.jpg
END:VEVENT
BEGIN:VEVENT
DTSTART;TZID=Europe/London:20231009T130000
DTEND;TZID=Europe/London:20231009T140000
DTSTAMP:20260425T140236
CREATED:20230921T104635Z
LAST-MODIFIED:20230921T104635Z
UID:28240-1696856400-1696860000@research.reading.ac.uk
SUMMARY:‘Don’t call me resilient again!’: the New Urban Agenda as immunology
DESCRIPTION:Join the Walker Institute for the inaugural session of the My Climate Risk Interdisciplinary Reading Group as part of the WCRP Lighthouse Activity.  \nColeen Vogel\, University of the Witwatersrand\, will present Maria Kaika’s paper: “Do not call me Resilient again”. \nColeen Vogel is a Distinguished Professor at the University of the Witwatersrand. She is a climatologist by training but has increasingly worked in the social dimensions of climate change\, focusing particularly on climate change adaptation. She obtained her PhD in the field of climate change in 1994. She currently serves on various local and international boards. She has\, for example\, chaired and been the vice chair of international global environmental change scientific committees (e.g. IHDP and LUCC and involved in the Earth System Science Programme)\, groups that preceded the current Future Earth developments. She was also one of the lead contributors to the preparation of the Disaster Management Act in South Africa. She has been Chapter Lead Author and co-author of chapters in the IPCC (4th and 5th assessment reports). She is now also involved as a lead author in the IPBES transformative assessment. She has also received the Burtoni Award for international excellence in adaptation research and received the University of the Witwatersrand Vice Chancellor’s  award for excellence in teaching. \nFind out more on the Walker Institute website\, and register to attend by filling out this form.
URL:https://research.reading.ac.uk/research-blog/event/dont-call-me-resilient-again-the-new-urban-agenda-as-immunology/
LOCATION:Online
CATEGORIES:Environment
END:VEVENT
END:VCALENDAR