BEGIN:VCALENDAR
VERSION:2.0
PRODID:-//Connecting Research - ECPv6.0.5//NONSGML v1.0//EN
CALSCALE:GREGORIAN
METHOD:PUBLISH
X-WR-CALNAME:Connecting Research
X-ORIGINAL-URL:https://research.reading.ac.uk/research-blog
X-WR-CALDESC:Events for Connecting Research
REFRESH-INTERVAL;VALUE=DURATION:PT1H
X-Robots-Tag:noindex
X-PUBLISHED-TTL:PT1H
BEGIN:VTIMEZONE
TZID:Europe/London
BEGIN:DAYLIGHT
TZOFFSETFROM:+0000
TZOFFSETTO:+0100
TZNAME:BST
DTSTART:20220327T010000
END:DAYLIGHT
BEGIN:STANDARD
TZOFFSETFROM:+0100
TZOFFSETTO:+0000
TZNAME:GMT
DTSTART:20221030T010000
END:STANDARD
END:VTIMEZONE
BEGIN:VEVENT
DTSTART;TZID=Europe/London:20220210T090000
DTEND;TZID=Europe/London:20220210T130000
DTSTAMP:20260422T084159
CREATED:20220106T163613Z
LAST-MODIFIED:20230208T094241Z
UID:23291-1644483600-1644498000@research.reading.ac.uk
SUMMARY:HortQFLNet Conference (Part 1)
DESCRIPTION:To align with their 2022 Funding Call\, HortQFLNet are holding a conference event to explain more about the funding call\, provide an opportunity for networking with other members from academia and industry and to find out about progress and results of the funded projects from our 2020 awardees. \nThe conference will be held on 10 Feb (09:00-13:00) and 14 Feb 2022 (14:00-17:00). Your registration on Eventbrite will register you for both days. You will be sent separate Zoom invitations for the two sessions following registration. \nRegistration is free for all Network members – click here to register. \nFor more information or to become a member\, please visit https://foodlossnetwork.com/
URL:https://research.reading.ac.uk/research-blog/event/hortqflnet-conference/
CATEGORIES:Agriculture, Food & Health
END:VEVENT
BEGIN:VEVENT
DTSTART;TZID=Europe/London:20220214T140000
DTEND;TZID=Europe/London:20220214T170000
DTSTAMP:20260422T084159
CREATED:20220106T164410Z
LAST-MODIFIED:20230208T094235Z
UID:23299-1644847200-1644858000@research.reading.ac.uk
SUMMARY:HortQFLNet Conference (Part 2)
DESCRIPTION:To align with their 2022 Funding Call\, HortQFLNet are holding a conference event to explain more about the funding call\, provide an opportunity for networking with other members from academia and industry and to find out about progress and results of the funded projects from our 2020 awardees. \nThe conference will be held on 10 Feb (09:00-13:00) and 14 Feb 2022 (14:00-17:00). Your registration on Eventbrite will register you for both days. You will be sent separate Zoom invitations for the two sessions following registration. \nRegistration is free for all Network members – click here to register. \nFor more information or to become a member\, please visit https://foodlossnetwork.com/
URL:https://research.reading.ac.uk/research-blog/event/hortqflnet-conference-part-2/
CATEGORIES:Agriculture, Food & Health
END:VEVENT
END:VCALENDAR