BEGIN:VCALENDAR
VERSION:2.0
PRODID:-//Connecting Research - ECPv6.0.5//NONSGML v1.0//EN
CALSCALE:GREGORIAN
METHOD:PUBLISH
X-WR-CALNAME:Connecting Research
X-ORIGINAL-URL:https://research.reading.ac.uk/research-blog
X-WR-CALDESC:Events for Connecting Research
REFRESH-INTERVAL;VALUE=DURATION:PT1H
X-Robots-Tag:noindex
X-PUBLISHED-TTL:PT1H
BEGIN:VTIMEZONE
TZID:Europe/London
BEGIN:DAYLIGHT
TZOFFSETFROM:+0000
TZOFFSETTO:+0100
TZNAME:BST
DTSTART:20220327T010000
END:DAYLIGHT
BEGIN:STANDARD
TZOFFSETFROM:+0100
TZOFFSETTO:+0000
TZNAME:GMT
DTSTART:20221030T010000
END:STANDARD
END:VTIMEZONE
BEGIN:VEVENT
DTSTART;VALUE=DATE:20220331
DTEND;VALUE=DATE:20220402
DTSTAMP:20260421T090250
CREATED:20220321T114255Z
LAST-MODIFIED:20230208T093859Z
UID:23770-1648684800-1648857599@research.reading.ac.uk
SUMMARY:Bridging Worlds: Sustainable Agriculture Conference
DESCRIPTION:The Bridging Worlds: Sustainable Agriculture Conference will facilitate interdisciplinary discussion designed to address a variety of key issues surrounding: agriculture\, agri-science\, agri-innovation\, climate change\, climate justice\, sustainability\, trade and development\, sustainable irrigation\, and water resource management\, with a focus on representing voices from the Global South. \n\n\n\n\n\n\n\nThe objective is to enlighten\, educate\, and reform our understanding of sustainability in relation to the United Nations Sustainable Development Goals (SDG) and Climate Change. \nKeynote speakers will include The honorable Dr Tahani Sileet\, Head of External Partnerships\, (Deputy) MP at the Egyptian Ministry of Water Resources and Irrigation\, and Ms Laura Kelly\, Director of Shaping Sustainable Markets\, from the International Institute for Environment and Development (IIED). \nDr Sileet will describe irrigation and water resource management of the 11 Nil-Basin countries\, and shed light on their joint efforts to meet the SDGs. While Ms Kelly will talk about the support and development work that she has undertaken on inclusive and green economies\, that leave no one behind – touching on: sustainable habits\, workstreams on improving access to energy\, resilient marine ecosystems\, valuing natural capital\, improving food security\, and artisanal and small-scale mining. \n\nFor more information or to register your place\, please visit the Bridging Worlds: Sustainable Agriculture Conference booking page.
URL:https://research.reading.ac.uk/research-blog/event/bridging-worlds-sustainable-agriculture-conference/
LOCATION:Agriculture Building
CATEGORIES:Agriculture, Food & Health
ORGANIZER;CN="Reham%20El-Morally":MAILTO:r.elmorally2@reading.ac.uk
END:VEVENT
END:VCALENDAR