BEGIN:VCALENDAR
VERSION:2.0
PRODID:-//Connecting Research - ECPv6.0.5//NONSGML v1.0//EN
CALSCALE:GREGORIAN
METHOD:PUBLISH
X-WR-CALNAME:Connecting Research
X-ORIGINAL-URL:https://research.reading.ac.uk/research-blog
X-WR-CALDESC:Events for Connecting Research
REFRESH-INTERVAL;VALUE=DURATION:PT1H
X-Robots-Tag:noindex
X-PUBLISHED-TTL:PT1H
BEGIN:VTIMEZONE
TZID:Europe/London
BEGIN:DAYLIGHT
TZOFFSETFROM:+0000
TZOFFSETTO:+0100
TZNAME:BST
DTSTART:20220327T010000
END:DAYLIGHT
BEGIN:STANDARD
TZOFFSETFROM:+0100
TZOFFSETTO:+0000
TZNAME:GMT
DTSTART:20221030T010000
END:STANDARD
END:VTIMEZONE
BEGIN:VEVENT
DTSTART;TZID=Europe/London:20221206T150000
DTEND;TZID=Europe/London:20221206T170000
DTSTAMP:20260425T115256
CREATED:20221124T133640Z
LAST-MODIFIED:20221128T161350Z
UID:25565-1670338800-1670346000@research.reading.ac.uk
SUMMARY:Visiting Filmmaker: Peter Treherne
DESCRIPTION:TUE DEC 6th (Wk11) / 3pm / Bob Kayley Theatre \nCFAC is building a partnership with the filmmaker Peter Treherne\, who has recently secured Arts Council funding for a wonderfully ambitious feature film\, Matter of Britain. The project also builds on a collaboration with The Museum of English Rural Life\, part of the University of Reading’s Museums and Special Collections Services. \nTreherne will come and talk with us about his project – his inspirations and creative ambitions\, and his plans for engaging a village community in the trials and tribulations of film production. \nAll welcome. No booking required. \nMatter of Britain is a co-creative film that performs the Quest for the Holy Grail with the community of Mayfield\, East Sussex. In the Arthurian myths\, knights seek the Grail in the hope of restoring their land which has been laid waste by human greed and violence. This waste land serves as a metaphor for the climate crisis and so the film/quest becomes a means through which the people of Mayfield can express their ecological concerns and connect with the agricultural landscape of the High Weald. \nThe script\, based on Sir Thomas Mallory’s 1470 Le Morte Darthur\, was developed by Peter Treherne with the support of an Arts Council of England Project Grant. Production will take place on farmland around Mayfield between January 2023 and January 2024. The completed project will be exhibited at the Museum of English Rural Life in Reading and Ditchling Museum of Art & Craft in Sussex. \nThe production is supported by an Arts Council of England Project Grant\, the Lund Fund\, East Sussex Arts Partnership\, the Wateryard Theatre Group\, the Museum of English Rural Life\, the University of Reading and Ditchling Museum of Art & Craft.
URL:https://research.reading.ac.uk/research-blog/event/visiting-filmmaker-peter-treherne/
LOCATION:Bob Kayley Theatre\, University of Reading\, Shinfield Road\, Reading\, RG6 6AH\, United Kingdom
CATEGORIES:Heritage & Creativity
ATTACH;FMTTYPE=image/jpeg:https://research.reading.ac.uk/research-blog/wp-content/uploads/sites/72/2022/11/peter-treherne.jpg
END:VEVENT
END:VCALENDAR