BEGIN:VCALENDAR
VERSION:2.0
PRODID:-//Connecting Research - ECPv6.0.5//NONSGML v1.0//EN
CALSCALE:GREGORIAN
METHOD:PUBLISH
X-WR-CALNAME:Connecting Research
X-ORIGINAL-URL:https://research.reading.ac.uk/research-blog
X-WR-CALDESC:Events for Connecting Research
REFRESH-INTERVAL;VALUE=DURATION:PT1H
X-Robots-Tag:noindex
X-PUBLISHED-TTL:PT1H
BEGIN:VTIMEZONE
TZID:Europe/London
BEGIN:DAYLIGHT
TZOFFSETFROM:+0000
TZOFFSETTO:+0100
TZNAME:BST
DTSTART:20230326T010000
END:DAYLIGHT
BEGIN:STANDARD
TZOFFSETFROM:+0100
TZOFFSETTO:+0000
TZNAME:GMT
DTSTART:20231029T010000
END:STANDARD
END:VTIMEZONE
BEGIN:VEVENT
DTSTART;TZID=Europe/London:20231013T100000
DTEND;TZID=Europe/London:20231013T130000
DTSTAMP:20260423T172847
CREATED:20231004T114410Z
LAST-MODIFIED:20231004T115832Z
UID:28314-1697191200-1697202000@research.reading.ac.uk
SUMMARY:Emotional Labour: provenance\, politics and practice
DESCRIPTION:Join Professor Jenna Ward (Dean of Coventry Business School) for a workshop seminar on emotional labour as part of Dr Simon Willems (Reading School of Art\, Henley Business School) interdepartmental fellowship research project. \nWith a focus on marginalised voices\, Jenna employs innovative arts-based research methods to explore emotionality within organizations and management. Her research spans various sectors and has led to her working with organisations such as the Department of Health\, the National Trust\, the City of London\, NHS\, Samaritans and\, most recently\, England Netball. \nTea & coffee and light refreshments will be available at 9:30 (lunch is included). \nView the seminar flyer for more information. \nPlease contact Simon Willems to RSVP.
URL:https://research.reading.ac.uk/research-blog/event/emotional-labour-provenance-politics-and-practice/
LOCATION:Henley Business School\, Room G03\, Henley Business School\, University of Reading\, Reading\, RG6 6UD\, United Kingdom
CATEGORIES:Heritage & Creativity,Prosperity & Resilience
ATTACH;FMTTYPE=image/jpeg:https://research.reading.ac.uk/research-blog/wp-content/uploads/sites/72/2023/10/Emotional-Labour-seminar-workshop-flyer.jpg
END:VEVENT
END:VCALENDAR