BEGIN:VCALENDAR
VERSION:2.0
PRODID:-//Connecting Research - ECPv6.0.5//NONSGML v1.0//EN
CALSCALE:GREGORIAN
METHOD:PUBLISH
X-WR-CALNAME:Connecting Research
X-ORIGINAL-URL:https://research.reading.ac.uk/research-blog
X-WR-CALDESC:Events for Connecting Research
REFRESH-INTERVAL;VALUE=DURATION:PT1H
X-Robots-Tag:noindex
X-PUBLISHED-TTL:PT1H
BEGIN:VTIMEZONE
TZID:Europe/London
BEGIN:DAYLIGHT
TZOFFSETFROM:+0000
TZOFFSETTO:+0100
TZNAME:BST
DTSTART:20230326T010000
END:DAYLIGHT
BEGIN:STANDARD
TZOFFSETFROM:+0100
TZOFFSETTO:+0000
TZNAME:GMT
DTSTART:20231029T010000
END:STANDARD
END:VTIMEZONE
BEGIN:VEVENT
DTSTART;TZID=Europe/London:20231101T170000
DTEND;TZID=Europe/London:20231101T190000
DTSTAMP:20260421T194958
CREATED:20231019T124614Z
LAST-MODIFIED:20231019T124815Z
UID:28426-1698858000-1698865200@research.reading.ac.uk
SUMMARY:AI and the Arts – can we automate creativity?
DESCRIPTION:The exhibition ‘AI: More than Human’ at the Barbican Centre in London – co-curated by Suzanne Livingston – was the first over-arching look at the past\, present and future of AI in a museum environment. It includes contributions from DeepMind\, IBM\, Google\, TeamLab\, Massive Attack\, Es Devlin\, Neri Oxman\, Joy Buolamwini\, Amnesty International\, Jigsaw and Affectiva. Since its London run in 2019\, it has toured regionally in the UK and globally\, with periods of time in the Netherlands and China. As of October 2023\, it is showing in Spain at CCCB Barcelona. \nIn this talk\, Suzanne will expand on the themes of the exhibition\, as well as her ongoing research and consultancy on the relationships between advanced technologies and people\, society and commerce. She will reflect on how the current explosion in AI tools\, and corresponding public interest and concerns\, sits within this – and shares her thoughts on where this will eventually settle within the arts. \nThis is a hybrid event taking place in-person at Bulmershe Theatre\, Minghella Studios and online on Teams. In-person attendance is encouraged as the talk will be followed by a wine reception and discussion over drinks. \nPlease RSVP to shweta.ghosh@reading.ac.uk by Tuesday 24th October\, indicating if you would like to attend in-person or online. A joining link for online attendees will be circulated nearer the time. \nAbout the speaker\nDr Suzanne Livingston is a strategy consultant\, curator and coach working with advanced technologies across sectors – but often with creative arts and culture organisations. Until 2019 she was Head of Strategy and then Global Principal at Wolff Olins and has a PhD in Philosophy\, focussing on cybernetic systems. This led her to co-curate the blockbuster exhibition ‘AI: More than Human’ which opened at the Barbican in 2019 and is currently in the midst of an ongoing world tour. \nHer research area is advanced technologies and their effects on people\, society and commerce – and the need for genuinely new models and concepts to see ourselves and the world we exist in. She continues to write about technologies and changing ideas of human\, self\, agency and control\, and often draws on non-western ideas to do so.
URL:https://research.reading.ac.uk/research-blog/event/ai-and-the-arts-can-we-automate-creativity/
LOCATION:Bulmershe Theatre\, Minghella Studios\, Bulmershe Theatre\, Minghella Studios\, University of Reading\, Shinfield Road\, Reading\, RG6 6BT\, United Kingdom
CATEGORIES:Heritage & Creativity
ATTACH;FMTTYPE=image/jpeg:https://research.reading.ac.uk/research-blog/wp-content/uploads/sites/72/2023/10/8841-1.jpg
END:VEVENT
END:VCALENDAR