BEGIN:VCALENDAR
VERSION:2.0
PRODID:-//Connecting Research - ECPv6.0.5//NONSGML v1.0//EN
CALSCALE:GREGORIAN
METHOD:PUBLISH
X-ORIGINAL-URL:https://research.reading.ac.uk/research-blog
X-WR-CALDESC:Events for Connecting Research
REFRESH-INTERVAL;VALUE=DURATION:PT1H
X-Robots-Tag:noindex
X-PUBLISHED-TTL:PT1H
BEGIN:VTIMEZONE
TZID:Europe/London
BEGIN:DAYLIGHT
TZOFFSETFROM:+0000
TZOFFSETTO:+0100
TZNAME:BST
DTSTART:20220327T010000
END:DAYLIGHT
BEGIN:STANDARD
TZOFFSETFROM:+0100
TZOFFSETTO:+0000
TZNAME:GMT
DTSTART:20221030T010000
END:STANDARD
END:VTIMEZONE
BEGIN:VEVENT
DTSTART;TZID=Europe/London:20221102T100000
DTEND;TZID=Europe/London:20221102T160000
DTSTAMP:20260423T203422
CREATED:20220823T091214Z
LAST-MODIFIED:20230208T093804Z
UID:24481-1667383200-1667404800@research.reading.ac.uk
SUMMARY:Natural History Museum Research Open Day
DESCRIPTION:Wednesday 2 November\, 10:00-16:00\, Palmer building\, Whiteknights campus \nResearch colleagues are invited to attend an open day to learn how the University and Natural History Museum are aiming to develop research and training together. \nThe University and Natural History Museum will jointly launch the first phase of a long-term research collaboration. They will present initial ideas on how we might develop research and training together\, as well as using the day as a forum for seeking others’ ideas. \nThe collaboration provides significant opportunities for researchers in all disciplines\, whether it be new arts research\, ensuring food security\, tracking genetic responses to climate change or the emergence and spread of infectious diseases. While a link to natural history and/or the NHM collections will be a requirement\, work could involve any discipline. \nAs well as anticipating partnerships across Reading’s scientific research themes\, the Museum’s researchers are enthusiastic about Reading’s expertise in creative approaches to collections and their histories and engagement with intangible cultural heritage. \nSenior figures at the University will be joined at the event by members of the Museum’s senior leadership\, researchers\, laboratory heads and members of their digital\, data and informatics team. \nPlans to move 28 million specimens and research capability to the University’s Thames Valley Science Park were announced in May 2022. Its potential scope is across all NHM collections and research. \nReserve your place \nOpen to University of Reading colleagues only. \nPlease note that spaces are limited so please book your place by 12pm Wednesday 19th October using this online form. Much of the event will be recorded and made available online. Lunch will be provided. \nFor further information\, visit the NHM’s page about their new science and digitisation centre. \nResearch Open Day schedule\n10.00 – 10.30     Refreshments on arrival \n10.30 – 10.45     Welcome and opening remarks (Robert Van de Noort\, Vice-Chancellor) \n10.45 – 11.30     Vision for NHM research and collections\, and the TVSP\, followed by Q&A (Tim Littlewood\, Director of Research\, NHM) \n11.30 – 12.15     Building collaborative research followed by Q&A (Ken Norris\, Deputy Director of Science\, NHM & Phil Newton\, Research Dean) \n12.15 – 12.30     Partnership with University of Reading (Doug Gurr\, Director\, NHM) \n12.30 – 13.30     Networking lunch \n13.30 – 14.30     Parallel Session 1: Science Facilities (NHM Laboratory Heads) \n13.30 – 14.30     Parallel Session 2: Heritage & Creativity: Collections & Culture (John Gibbs / Roberta Gilchrist\, Research Deans & Sandra Knapp\, Collections & Culture Research Lead\, NHM) \n14.30 – 15.15     Opportunities in Digital and Data Science (NHM / University of Reading) \n15.15 – 16.00     Networking opportunity with refreshments \n16.00                  Close
URL:https://research.reading.ac.uk/research-blog/event/natural-history-museum-research-open-day/
LOCATION:Palmer Building\, Whiteknights Campus\, University of Reading.
CATEGORIES:Agriculture, Food & Health,Environment,Heritage & Creativity,Prosperity & Resilience
END:VEVENT
END:VCALENDAR