BEGIN:VCALENDAR
VERSION:2.0
PRODID:-//Connecting Research - ECPv6.0.5//NONSGML v1.0//EN
CALSCALE:GREGORIAN
METHOD:PUBLISH
X-WR-CALNAME:Connecting Research
X-ORIGINAL-URL:https://research.reading.ac.uk/research-blog
X-WR-CALDESC:Events for Connecting Research
REFRESH-INTERVAL;VALUE=DURATION:PT1H
X-Robots-Tag:noindex
X-PUBLISHED-TTL:PT1H
BEGIN:VTIMEZONE
TZID:Europe/London
BEGIN:DAYLIGHT
TZOFFSETFROM:+0000
TZOFFSETTO:+0100
TZNAME:BST
DTSTART:20230326T010000
END:DAYLIGHT
BEGIN:STANDARD
TZOFFSETFROM:+0100
TZOFFSETTO:+0000
TZNAME:GMT
DTSTART:20231029T010000
END:STANDARD
END:VTIMEZONE
BEGIN:VEVENT
DTSTART;TZID=Europe/London:20230623T143000
DTEND;TZID=Europe/London:20230623T190000
DTSTAMP:20260422T012330
CREATED:20230531T090553Z
LAST-MODIFIED:20230601T151429Z
UID:27573-1687530600-1687546800@research.reading.ac.uk
SUMMARY:Screening: Samuel Beckett and Artists’ Cinema
DESCRIPTION:Beckett’s work has inspired many contemporary visual artists\, but in recent years it has been the area of artists’ film that has seen the clearest impact. \nOn Friday 23rd of June 2023\, The Samuel Beckett Research Centre at the University of Reading will present rarely screened work by several artists. The screenings will be followed by a roundtable discussion and the launch of Samuel Beckett’s Afterlives: Adaptation\, Remediation\, Appropriation\, the recent collection of essays edited by Jonathan Bignell\, Anna McMullan and Pim Verhulst. \nThe programme for the event includes: \nStan Douglas\, Vidéo (2007): Introduced by Conor Carville  \nStan Douglas’ video installation Vidéo is a reimagining of both Orson Welles’s film “The Trial” (based on Kafka’s novel of the same name) and Beckett’s film “Film”.   \nJohn Gerrard\, Bone Work (Gulf of Mexico) (2022): Introduced by John Gerrard (Via Zoom).   \nJohn Gerrard’s Bone Work (Gulf of Mexico) is a simulation centred on sixteen fragments of dead coral found by the artist on the shores of the Yucatán Peninsula on the Gulf Of Mexico.  \nDuncan Campbell\, o Joan\, no…(2006): Introduced by Duncan Campbell.   \nDuncan Campbell’s o Joan\, no…(2006) is a short film drawing on the lighting directions and effects in Beckett’s Play.   \nRoundtable Discussion on Beckett\, Artists’ Film/Installation and Adaptation.  \nJonathan Bignell (Reading); Duncan Campbell; David Houston Jones (Exeter); Anthony Paraskeva (Roehampton); Derval Tubridy (Goldsmiths); Jivitesh Vashisht (UCD).   \nThe screenings will begin at 2:30pm in Minghella Studios’s cinema at the University of Reading\, with the roundtable discussion beginning at 4:30pm. The event will be followed by a reception at 6:00pm. \nThe event is free\, and all are welcome\, but places are limited\, so please register here. More details of timings and participants to follow. \nImage: Stan Douglas. Vidéo\, 2007. High definition video installation\, colour\, sound (six musical variations. Courtesy the artist\, David Zwirner New York/London\, and Victoria Miro\, London.
URL:https://research.reading.ac.uk/research-blog/event/screening-samuel-beckett-and-artists-cinema/
LOCATION:Minghella Studios\, Minghella Building\, Whiteknights Campus\, RG6 6UR\, United Kingdom
CATEGORIES:Heritage & Creativity
ATTACH;FMTTYPE=image/png:https://research.reading.ac.uk/research-blog/wp-content/uploads/sites/72/2023/05/Beckett-poster-with-picture.png
END:VEVENT
END:VCALENDAR