BEGIN:VCALENDAR
VERSION:2.0
PRODID:-//Connecting Research - ECPv6.0.5//NONSGML v1.0//EN
CALSCALE:GREGORIAN
METHOD:PUBLISH
X-ORIGINAL-URL:https://research.reading.ac.uk/research-blog
X-WR-CALDESC:Events for Connecting Research
REFRESH-INTERVAL;VALUE=DURATION:PT1H
X-Robots-Tag:noindex
X-PUBLISHED-TTL:PT1H
BEGIN:VTIMEZONE
TZID:Europe/London
BEGIN:DAYLIGHT
TZOFFSETFROM:+0000
TZOFFSETTO:+0100
TZNAME:BST
DTSTART:20230326T010000
END:DAYLIGHT
BEGIN:STANDARD
TZOFFSETFROM:+0100
TZOFFSETTO:+0000
TZNAME:GMT
DTSTART:20231029T010000
END:STANDARD
END:VTIMEZONE
BEGIN:VEVENT
DTSTART;VALUE=DATE:20230505
DTEND;VALUE=DATE:20230506
DTSTAMP:20260424T135059
CREATED:20230418T104935Z
LAST-MODIFIED:20230418T105612Z
UID:27334-1683244800-1683331199@research.reading.ac.uk
SUMMARY:2nd CBCP Postgraduate Symposium - call for papers
DESCRIPTION:The 2nd CBCP Postgraduate Symposium will be held at the University of Reading. It will mainly be an in-person event with an option for remote presentation and attendance. \nPhD students and Postdoctoral researchers are invited to submit abstracts for 15-minute talks on relevant topics\, such as: \n\nbook production\, distribution\, and readership in global contexts.\nprinting and publishing trade.\nbook history\, typography\, and book design.\nmateriality of text and image (both analogue and digital).\nenvironmental histories of print cultures and book printing and sustainability.\nwider book cultures and publishing with a distinctive global\, multilingual\, and\nmultidisciplinary focus.\nprotagonists and professionals of the book market (such as publishers\, editors\,\ndesigners\, illustrators\, translators\, cultural mediators\, literary agents\, readers).\n\nThe deadline for the submission of the abstracts is Monday 5th May 2023. Abstracts should also include single-line bio or affiliation descriptions and should not exceed 350 words in length (references and bio excluded). \nThe symposium will be an occasion for PhD students and Postdoctoral researchers to showcase their research while engaging with the wider community of researchers within the CBCP. No costs to attend: lunch and refreshments will be provided. \nAbstracts and enquiries should be sent to: Andrea Romanzi and Pritha Mukherjee. \nDelegates may also like to register to attend the Marina Warner talk on ‘Archives\, history and memory in memoir writing’ which is taking place on the same evening\, as an in person/hybrid event. For more information please click here.
URL:https://research.reading.ac.uk/research-blog/event/2nd-cbcp-postgraduate-symposium-call-for-papers/
CATEGORIES:Heritage & Creativity
ATTACH;FMTTYPE=image/png:https://research.reading.ac.uk/research-blog/wp-content/uploads/sites/72/2023/04/CBCP-CMYK-42mm-LBPad.png
END:VEVENT
END:VCALENDAR