BEGIN:VCALENDAR
VERSION:2.0
PRODID:-//Connecting Research - ECPv6.0.5//NONSGML v1.0//EN
CALSCALE:GREGORIAN
METHOD:PUBLISH
X-ORIGINAL-URL:https://research.reading.ac.uk/research-blog
X-WR-CALDESC:Events for Connecting Research
REFRESH-INTERVAL;VALUE=DURATION:PT1H
X-Robots-Tag:noindex
X-PUBLISHED-TTL:PT1H
BEGIN:VTIMEZONE
TZID:Europe/London
BEGIN:DAYLIGHT
TZOFFSETFROM:+0000
TZOFFSETTO:+0100
TZNAME:BST
DTSTART:20230326T010000
END:DAYLIGHT
BEGIN:STANDARD
TZOFFSETFROM:+0100
TZOFFSETTO:+0000
TZNAME:GMT
DTSTART:20231029T010000
END:STANDARD
END:VTIMEZONE
BEGIN:VEVENT
DTSTART;TZID=Europe/London:20230525T173000
DTEND;TZID=Europe/London:20230525T190000
DTSTAMP:20260424T135058
CREATED:20221216T145253Z
LAST-MODIFIED:20230313T160751Z
UID:25889-1685035800-1685041200@research.reading.ac.uk
SUMMARY:Archives\, history and memory in memoir writing – a talk by Marina Warner
DESCRIPTION:Writer and academic Dame Professor Marina Warner will discuss drawing on archives and the interweaving of history and memoir-writing. In her memoir ‘Inventory of a Life Mislaid’\, Warner uses memory and imagination as well as writing and objects to recreate the extraordinary world of her childhood. [Cover design by Sophie Herxheimer.] \nShe has recently presented some of her family papers to the University book and publishing collections\, relating to her father’s work in establishing a branch of WH Smith’s in Cairo after the second World War. A selection of artefacts from the WH Smith archives held by the University of Reading will be on display. \nThis event is run in partnership with the Museum of English Rural Life (MERL). \nDame Professor Marina Warner CH\, DBE\, FRSL\, FBA is a writer and academic. Her works include novels\, short stories and studies of art\, myths\, symbols and fairy tales. She is a Professor of English and Creative Writing at Birkbeck\, University of London. \nThis will be an in person/online hybrid event with live streaming via Zoom to remote individuals who have pre-registered to attend. The video files of the talk will be published online after the event. \nA selection of artefacts from the WH Smith archives held by the University of Reading will be on display and attendees will have the chance to view this from 5.30pm with refreshments available. The talk will start at 6.00pm. \nTo book tickets to attend the event in person at the Museum of English Rural Life please click here \nTo book tickets for the online event (which covers the talk only) please click here \nThe event will finish at 7.00pm.
URL:https://research.reading.ac.uk/research-blog/event/archives-history-and-memory-in-memoir-writing-a-talk-by-marina-warner/
LOCATION:Museum of English Rural Life (The MERL)\, Redlands Road\, Reading\, RG1 5EX\, United Kingdom
CATEGORIES:Heritage & Creativity
ATTACH;FMTTYPE=image/jpeg:https://research.reading.ac.uk/research-blog/wp-content/uploads/sites/72/2022/12/MWarner01.jpg
END:VEVENT
END:VCALENDAR