BEGIN:VCALENDAR
VERSION:2.0
PRODID:-//Connecting Research - ECPv6.0.5//NONSGML v1.0//EN
CALSCALE:GREGORIAN
METHOD:PUBLISH
X-ORIGINAL-URL:https://research.reading.ac.uk/research-blog
X-WR-CALDESC:Events for Connecting Research
REFRESH-INTERVAL;VALUE=DURATION:PT1H
X-Robots-Tag:noindex
X-PUBLISHED-TTL:PT1H
BEGIN:VTIMEZONE
TZID:Europe/London
BEGIN:DAYLIGHT
TZOFFSETFROM:+0000
TZOFFSETTO:+0100
TZNAME:BST
DTSTART:20230326T010000
END:DAYLIGHT
BEGIN:STANDARD
TZOFFSETFROM:+0100
TZOFFSETTO:+0000
TZNAME:GMT
DTSTART:20231029T010000
END:STANDARD
END:VTIMEZONE
BEGIN:VEVENT
DTSTART;TZID=Europe/London:20231010T180000
DTEND;TZID=Europe/London:20231010T193000
DTSTAMP:20260422T000413
CREATED:20230620T084737Z
LAST-MODIFIED:20230620T084825Z
UID:27709-1696960800-1696966200@research.reading.ac.uk
SUMMARY:Making Mutants: How and Why We Break Genes on Purpose
DESCRIPTION:Join Dr Louise Johnson from the Department of Ecology and Evolutionary Biology at the University of Reading to explore how mutation in genetic research is helping to identify and understand the building blocks of life.
URL:https://research.reading.ac.uk/research-blog/event/making-mutants-how-and-why-we-break-genes-on-purpose/
LOCATION:Reading Museum\, Blagrave Street\, Reading\, Berkshire\, RG1 1HQ\, United Kingdom
CATEGORIES:Environment,Heritage & Creativity
ATTACH;FMTTYPE=image/jpeg:https://research.reading.ac.uk/research-blog/wp-content/uploads/sites/72/2023/06/Johnson.jpg
END:VEVENT
END:VCALENDAR