BEGIN:VCALENDAR
VERSION:2.0
PRODID:-//Connecting Research - ECPv6.0.5//NONSGML v1.0//EN
CALSCALE:GREGORIAN
METHOD:PUBLISH
X-ORIGINAL-URL:https://research.reading.ac.uk/research-blog
X-WR-CALDESC:Events for Connecting Research
REFRESH-INTERVAL;VALUE=DURATION:PT1H
X-Robots-Tag:noindex
X-PUBLISHED-TTL:PT1H
BEGIN:VTIMEZONE
TZID:Europe/London
BEGIN:DAYLIGHT
TZOFFSETFROM:+0000
TZOFFSETTO:+0100
TZNAME:BST
DTSTART:20210328T010000
END:DAYLIGHT
BEGIN:STANDARD
TZOFFSETFROM:+0100
TZOFFSETTO:+0000
TZNAME:GMT
DTSTART:20211031T010000
END:STANDARD
END:VTIMEZONE
BEGIN:VEVENT
DTSTART;TZID=Europe/London:20210201T153000
DTEND;TZID=Europe/London:20210201T170000
DTSTAMP:20260426T004531
CREATED:20210125T164258Z
LAST-MODIFIED:20230209T174213Z
UID:21508-1612193400-1612198800@research.reading.ac.uk
SUMMARY:Chemistry Research Colloquium Research Seminars
DESCRIPTION:Please find a list of the Chemistry Research Colloquium Research Seminars run during the Spring Term. All events will be held on Microsoft Teams and are scheduled to commence at 3:45pm unless otherwise stated. \nSessions: \n1 February – Event TBC \n8 February – Dr Florian Maier\, Friedrich Alexander University\, Germany: “A close look at ionic liquid interfaces by angle-resolved XPS” \n22 February – Dr Piers Gaffney\, Imperial College London: Event TBC \n1 March – Dr Karen E. Johnston\, Durham University “Probing Ion Mobility Mechanisms in Solid Electrolytes using Solid-State NMR” \n8 March – Dr Gosia Swadzba-Kwasny\, Queen’s University\, Belfast: Event TBC \n15 March – Dr Mary Pryce\, DCU\, Dublin: Event TBC \n22 March – Dr Emmanuel Guilmeau\, CRISMAT\, Caen\, France “Ternary and quaternary TE sulfides: mechanical-alloying\, ordered/disorded phenomena\, conductive network\, transport properties\, theoretical calculations..”
URL:https://research.reading.ac.uk/research-blog/event/chemistry-research-colloquium-research-seminars/
CATEGORIES:Agriculture, Food & Health
ORGANIZER;CN="Barbara%20Parr%2C%20Chemistry%2C%20Food%20and%20Pharmacy":MAILTO:b.l.parr@reading.ac.uk
END:VEVENT
END:VCALENDAR