BEGIN:VCALENDAR
VERSION:2.0
PRODID:-//Connecting Research - ECPv6.0.5//NONSGML v1.0//EN
CALSCALE:GREGORIAN
METHOD:PUBLISH
X-ORIGINAL-URL:https://research.reading.ac.uk/research-blog
X-WR-CALDESC:Events for Connecting Research
REFRESH-INTERVAL;VALUE=DURATION:PT1H
X-Robots-Tag:noindex
X-PUBLISHED-TTL:PT1H
BEGIN:VTIMEZONE
TZID:Europe/London
BEGIN:DAYLIGHT
TZOFFSETFROM:+0000
TZOFFSETTO:+0100
TZNAME:BST
DTSTART:20200329T010000
END:DAYLIGHT
BEGIN:STANDARD
TZOFFSETFROM:+0100
TZOFFSETTO:+0000
TZNAME:GMT
DTSTART:20201025T010000
END:STANDARD
END:VTIMEZONE
BEGIN:VEVENT
DTSTART;TZID=Europe/London:20201204T160000
DTEND;TZID=Europe/London:20201204T170000
DTSTAMP:20260425T043339
CREATED:20201007T174256Z
LAST-MODIFIED:20201007T174256Z
UID:21125-1607097600-1607101200@research.reading.ac.uk
SUMMARY:Annual Percy Ure Lecture: Pompeii of the Syrian Desert: Rethinking Dura-Europos for the 'decolonial' era
DESCRIPTION:Annual Percy Ure Lecture: Pompeii of the Syrian Desert: Rethinking Dura-Europos for the ‘decolonial’ era\, Professor Simon James\, University of Leicester \nAll are welcome to join University of Reading’s Classics Department online for the 10th Annual Percy Ure Lecture\, to be delivered by Simon James\, Professor of Archaeology at University of Leicester and President of the Ermine Street Guard. In this lecture\, which honours the legacy of our founding Professor\, Percy N. Ure\, Professor James will consider the civil aspects of the Roman garrison at Dura-Europos\, its nature and origins. \nAdmission free. Booking essential. \nTo book your place visit \nhttps://tinyurl.com/UreLecture2020 \nFor more information\, please contact Professor Amy C. Smith at a.c.smith@reading.ac.uk
URL:https://research.reading.ac.uk/research-blog/event/annual-percy-ure-lecture-pompeii-of-the-syrian-desert-rethinking-dura-europos-for-the-decolonial-era/
LOCATION:Berkshire
CATEGORIES:Heritage & Creativity
ORGANIZER;CN="Professor%20Amy%20C.%20Smith%2C%20Classics":MAILTO:a.c.smith@reading.ac.uk
END:VEVENT
END:VCALENDAR