BEGIN:VCALENDAR
VERSION:2.0
PRODID:-//Connecting Research - ECPv6.0.5//NONSGML v1.0//EN
CALSCALE:GREGORIAN
METHOD:PUBLISH
X-WR-CALNAME:Connecting Research
X-ORIGINAL-URL:https://research.reading.ac.uk/research-blog
X-WR-CALDESC:Events for Connecting Research
REFRESH-INTERVAL;VALUE=DURATION:PT1H
X-Robots-Tag:noindex
X-PUBLISHED-TTL:PT1H
BEGIN:VTIMEZONE
TZID:Europe/London
BEGIN:DAYLIGHT
TZOFFSETFROM:+0000
TZOFFSETTO:+0100
TZNAME:BST
DTSTART:20210328T010000
END:DAYLIGHT
BEGIN:STANDARD
TZOFFSETFROM:+0100
TZOFFSETTO:+0000
TZNAME:GMT
DTSTART:20211031T010000
END:STANDARD
END:VTIMEZONE
BEGIN:VEVENT
DTSTART;TZID=Europe/London:20210127T160000
DTEND;TZID=Europe/London:20210127T170000
DTSTAMP:20260425T024322
CREATED:20210126T154416Z
LAST-MODIFIED:20210126T154528Z
UID:21510-1611763200-1611766800@research.reading.ac.uk
SUMMARY:Classics Research Seminar Series – Spring 2020
DESCRIPTION:The Department of Classics at Reading is delighted to present an online seminar series to accompany the exhibition Troy: Beauty and Heroism\, at the Ure Museum in Spring 2020. This series of presentations from Reading Classics’ own scholars\, as well as some special guests\, explore the interconnectedness of ideas about beauty and heroism in relation to the epic tradition and its reception\, throughout antiquity. Interested individuals are welcome to join us online via Teams Wednesdays at 4pm\, from 27 January to 25 March. \n27 January – Ian Rutherford (Reading) Beauty\, Proportion and the Canon: What did the Greeks borrow from Egypt? \n3 February – Amy Smith (University of Reading) Beauty and Heroism in the Amazonomachy \n10 February – Claudina Romero Mayorga (University of Reading) Who’s the fairest of them all? The Judgement of Paris in Etruscan mirrors \n17 February – Barbara Goff (University of Reading) Helens: Speeches and silences \n24 February – Signe Barfoed (University of Oslo/Reading) The white teeth of a boar of gleaming tusks: Boar-hunt and warrior ethos in Homer’s world \n3 March – Oliver Baldwin (University of Reading) Penelope: Inward and outward beauty \n10 March – James Lloyd (University of Reading) Alexander the Great and the music of Paris and Achilles \n17 March – Sonya Nevin (Panoply/University of Roehampton) Beauty and Heroism in Panoply’s Our Mythical Childhood animations \n25 March – Sophia Papaioannou (University of Athens) The Charming Artistry of Competitive Performance in Nonnus’ *Dionysiaca* 19
URL:https://research.reading.ac.uk/research-blog/event/21510/
LOCATION:Berkshire
CATEGORIES:Heritage & Creativity
END:VEVENT
END:VCALENDAR