BEGIN:VCALENDAR
VERSION:2.0
PRODID:-//Connecting Research - ECPv6.0.5//NONSGML v1.0//EN
CALSCALE:GREGORIAN
METHOD:PUBLISH
X-ORIGINAL-URL:https://research.reading.ac.uk/research-blog
X-WR-CALDESC:Events for Connecting Research
REFRESH-INTERVAL;VALUE=DURATION:PT1H
X-Robots-Tag:noindex
X-PUBLISHED-TTL:PT1H
BEGIN:VTIMEZONE
TZID:Europe/London
BEGIN:DAYLIGHT
TZOFFSETFROM:+0000
TZOFFSETTO:+0100
TZNAME:BST
DTSTART:20210328T010000
END:DAYLIGHT
BEGIN:STANDARD
TZOFFSETFROM:+0100
TZOFFSETTO:+0000
TZNAME:GMT
DTSTART:20211031T010000
END:STANDARD
END:VTIMEZONE
BEGIN:VEVENT
DTSTART;TZID=Europe/London:20211125T170000
DTEND;TZID=Europe/London:20211125T180000
DTSTAMP:20260423T102220
CREATED:20211104T095054Z
LAST-MODIFIED:20211104T095054Z
UID:22775-1637859600-1637863200@research.reading.ac.uk
SUMMARY:Persecuting Society? Defining the 'Orthodox Republic' in the Age of Justinian
DESCRIPTION:Department of Classics 11th Annual Percy Ure Lecture \nProfessor Peter Sarris (University of Cambridge): Persecuting Society? Defining the ‘Orthodox Republic’ in the Age of Justinian \nAll are welcome to join University of Reading’s Classics Department for the 11th Annual Percy Ure Lecture\, to be delivered by Peter Sarris\, Professor of Late Antique\, Medieval and Byzantine Studies at Cambridge University. This lecture honours Professor Percy N. Ure\, who founded the department. \nAdmission free. Booking essential \nWe are hoping to hold this event in person\, but will revert to an online lecture if necessary. \n 
URL:https://research.reading.ac.uk/research-blog/event/persecuting-society-defining-the-orthodox-republic-in-the-age-of-justinian/
LOCATION:TBC
CATEGORIES:Heritage & Creativity
END:VEVENT
END:VCALENDAR