BEGIN:VCALENDAR
VERSION:2.0
PRODID:-//Connecting Research - ECPv6.0.5//NONSGML v1.0//EN
CALSCALE:GREGORIAN
METHOD:PUBLISH
X-ORIGINAL-URL:https://research.reading.ac.uk/research-blog
X-WR-CALDESC:Events for Connecting Research
REFRESH-INTERVAL;VALUE=DURATION:PT1H
X-Robots-Tag:noindex
X-PUBLISHED-TTL:PT1H
BEGIN:VTIMEZONE
TZID:Europe/London
BEGIN:DAYLIGHT
TZOFFSETFROM:+0000
TZOFFSETTO:+0100
TZNAME:BST
DTSTART:20220327T010000
END:DAYLIGHT
BEGIN:STANDARD
TZOFFSETFROM:+0100
TZOFFSETTO:+0000
TZNAME:GMT
DTSTART:20221030T010000
END:STANDARD
END:VTIMEZONE
BEGIN:VEVENT
DTSTART;TZID=Europe/London:20221201T130000
DTEND;TZID=Europe/London:20221201T160000
DTSTAMP:20260423T114356
CREATED:20221110T091547Z
LAST-MODIFIED:20221110T091547Z
UID:25445-1669899600-1669910400@research.reading.ac.uk
SUMMARY:Creative Entrepreneur in Residence talks programme: Authentic Enough? Opening up the past with selective authenticity
DESCRIPTION:1st December\, 1pm Edith Morley 127 \nAll UoR researchers who might be interested are warmly invited to join the talks in this programme. Do join us for the presentations and a chance for cross disciplinary conversation. \nSome of the world’s biggest entertainment IPs are rooted in historical stories or eras – from TV series like The Last Kingdom\, Hilary Mantel’s Wolf Hall trilogy\, to video games such as Assassin’s Creed. \nWhilst the past offers clear creative opportunities – a ready-made storyworld and audience familiarity with characters and plot – there is often a tension between historical accuracy and the needs of narrative\, audiences and formats. \nIn this talk we will hear from creatives whose work has addressed these questions in theatre\, games and immersive experiences. We will discuss ‘selective authenticity’\, where situations when historical fact is at odds with popular conceptions of the past are avoided\, to ensure that suspension of disbelief isn’t broken. And will explore the concept of ‘authenticity of experience’ as a means of opening up the past for audiences. \nSpeakers include: \nLuke Holmes is a game designer for Creative Assembly\, producers of the multi-million selling Total War series. Prior to this he has been an interpretation manager at leading heritage attractions\, including the Tower of London and the SS Great Britain\, and is the author of several academic articles on historical gameplay and ludic theory. \nHannah Price is a director and creative director working across theatre\, VR\, digital\, games and events. She is an award winning freelance theatre director\, founder and previous Co-Artistic Director of Theatre Uncut and has directed theatre and immersive events across the world. She is Creative Director of the Gunpowder Plot\, the new 5 star reviewed immersive theatre and VR experience at the Tower of London – and as a BAFTA-winning video game performance director\, she has worked on some of the world’s biggest titles. \nAnd Tim Powell\, the University of Reading’s Creative Entrepreneur in Residence.
URL:https://research.reading.ac.uk/research-blog/event/creative-entrepreneur-in-residence-talks-programme-authentic-enough-opening-up-the-past-with-selective-authenticity/
LOCATION:Edith Morley\, 127\, University of Reading\, Shinfield Road\, Reading\, RG6 6EL
CATEGORIES:Heritage & Creativity
END:VEVENT
END:VCALENDAR