BEGIN:VCALENDAR
VERSION:2.0
PRODID:-//Connecting Research - ECPv6.0.5//NONSGML v1.0//EN
CALSCALE:GREGORIAN
METHOD:PUBLISH
X-WR-CALNAME:Connecting Research
X-ORIGINAL-URL:https://research.reading.ac.uk/research-blog
X-WR-CALDESC:Events for Connecting Research
REFRESH-INTERVAL;VALUE=DURATION:PT1H
X-Robots-Tag:noindex
X-PUBLISHED-TTL:PT1H
BEGIN:VTIMEZONE
TZID:Europe/London
BEGIN:DAYLIGHT
TZOFFSETFROM:+0000
TZOFFSETTO:+0100
TZNAME:BST
DTSTART:20210328T010000
END:DAYLIGHT
BEGIN:STANDARD
TZOFFSETFROM:+0100
TZOFFSETTO:+0000
TZNAME:GMT
DTSTART:20211031T010000
END:STANDARD
END:VTIMEZONE
BEGIN:VEVENT
DTSTART;VALUE=DATE:20210625
DTEND;VALUE=DATE:20210627
DTSTAMP:20260424T072120
CREATED:20210614T161743Z
LAST-MODIFIED:20210614T161743Z
UID:22111-1624579200-1624751999@research.reading.ac.uk
SUMMARY:Reading Woolf in Europe
DESCRIPTION:Reading Woolf in Europe aims to foster a critical discussion on the cultural mediation of Woolf in European countries and languages with specific focus on how literary institutions (publishing houses and book series\, literary periodicals)\, literary agents (translators\, literary agents\, editors)\, and the composite sociocultural factors driving the selection\, production\, and publication of Woolf’s works “socially framed” the reading of her works and shaped her readers through processes of popularization and canonization in the literary systems in Europe. \nKeynote speakers: Claire Davison (Professor of Modernist Studies at Université Sorbonne Nouvelle)\, Nadia Fusini (Professor of Comparative Literature at Scuola Normale Superiore\, Pisa)\, Daniel Göske (Professor for American Literature at Universität Kassel)\, and Laura Lojo-Rodríguez (Senior lecturer at the University of Santiago de Compostela). \nOrganizers: Elisa Bolchi\, Daniela La Penna\, Nicola Wilson \nView the programme here. \nFor further details\, please visit: https://research.reading.ac.uk/italian-woolf/conference/ \nTo register\, please visit: https://www.eventbrite.it/e/reading-woolf-in-europe-registration-154530710515
URL:https://research.reading.ac.uk/research-blog/event/reading-woolf-in-europe/
CATEGORIES:Heritage & Creativity
END:VEVENT
END:VCALENDAR