BEGIN:VCALENDAR
VERSION:2.0
PRODID:-//Connecting Research - ECPv6.0.5//NONSGML v1.0//EN
CALSCALE:GREGORIAN
METHOD:PUBLISH
X-ORIGINAL-URL:https://research.reading.ac.uk/research-blog
X-WR-CALDESC:Events for Connecting Research
REFRESH-INTERVAL;VALUE=DURATION:PT1H
X-Robots-Tag:noindex
X-PUBLISHED-TTL:PT1H
BEGIN:VTIMEZONE
TZID:Europe/London
BEGIN:DAYLIGHT
TZOFFSETFROM:+0000
TZOFFSETTO:+0100
TZNAME:BST
DTSTART:20230326T010000
END:DAYLIGHT
BEGIN:STANDARD
TZOFFSETFROM:+0100
TZOFFSETTO:+0000
TZNAME:GMT
DTSTART:20231029T010000
END:STANDARD
END:VTIMEZONE
BEGIN:VEVENT
DTSTART;TZID=Europe/London:20231005T090000
DTEND;TZID=Europe/London:20231005T130000
DTSTAMP:20260422T092113
CREATED:20230718T084951Z
LAST-MODIFIED:20230830T134605Z
UID:27844-1696496400-1696510800@research.reading.ac.uk
SUMMARY:Climate and Finance Conference
DESCRIPTION:[vc_row][vc_column][vc_column_text]We are pleased to announce a half-day conference on climate and finance to be held at the ICMA Centre – Henley Business School on Thursday 5th October 2023 from 9:00am to 1pm. The aim of this event is to bring together UoR researchers in the area of climate change and finance to foster the development of joint research activities. \nThe conference will include two plenary sessions and a panel discussion. Speakers will present in person. \nParticipants can attend in person by registering for free by 25 September 2023 or online via this Teams link. \nView the full programme here.[/vc_column_text][/vc_column][/vc_row]
URL:https://research.reading.ac.uk/research-blog/event/climate-and-finance-conference/
LOCATION:ICMA Centre\, Henley Business School
CATEGORIES:Environment,Prosperity & Resilience
ATTACH;FMTTYPE=image/jpeg:https://research.reading.ac.uk/research-blog/wp-content/uploads/sites/72/2023/07/16457-1.jpg
END:VEVENT
END:VCALENDAR