BEGIN:VCALENDAR
VERSION:2.0
PRODID:-//Connecting Research - ECPv6.0.5//NONSGML v1.0//EN
CALSCALE:GREGORIAN
METHOD:PUBLISH
X-ORIGINAL-URL:https://research.reading.ac.uk/research-blog
X-WR-CALDESC:Events for Connecting Research
REFRESH-INTERVAL;VALUE=DURATION:PT1H
X-Robots-Tag:noindex
X-PUBLISHED-TTL:PT1H
BEGIN:VTIMEZONE
TZID:Europe/London
BEGIN:DAYLIGHT
TZOFFSETFROM:+0000
TZOFFSETTO:+0100
TZNAME:BST
DTSTART:20230326T010000
END:DAYLIGHT
BEGIN:STANDARD
TZOFFSETFROM:+0100
TZOFFSETTO:+0000
TZNAME:GMT
DTSTART:20231029T010000
END:STANDARD
END:VTIMEZONE
BEGIN:VEVENT
DTSTART;TZID=Europe/London:20230118T160000
DTEND;TZID=Europe/London:20230118T180000
DTSTAMP:20260423T075908
CREATED:20221107T144943Z
LAST-MODIFIED:20230208T093628Z
UID:25397-1674057600-1674064800@research.reading.ac.uk
SUMMARY:Reading Latin American and Caribbean (R-LAC) Networking Event
DESCRIPTION:Wednesday 18th January\, 4-6pm\, in-person (Blandford’s\, Park House\, Whiteknights Campus) with the option to join online via zoom. \nThe aim of this event is to bring together members of Reading’s Latin American and the Caribbean research network (R-LAC)\, as well as other interested colleagues from across the University. \nThe event will showcase the findings from R-LAC’s recent grant success (Natural Environment Research Council\, NERC)\, which enabled the network to run a series of disciplinary-hopping workshops focusing on climate change and adaptation in Latin America and the Caribbean. \nThe event will also outline R-LAC’s future plans\, launch the newly created website\, and provide a space for networking between UoR staff and PhD/PostDoc students working on Latin America and the Caribbean\, with the aim of facilitating future interdisciplinary collaboration across the university. \nRefreshments will be provided\, so please register for catering purposes on our Eventbrite page. \nFor online attendance please email Dr Elston (c.elston@reading.ac.uk) to receive a Zoom link.
URL:https://research.reading.ac.uk/research-blog/event/reading-latin-american-caribbean-networking/
LOCATION:Blandford’s\, Park House\, University of Reading\, Reading\, RG6 6EF\, United Kingdom
CATEGORIES:Agriculture, Food & Health,Environment,Heritage & Creativity,Prosperity & Resilience
END:VEVENT
END:VCALENDAR