BEGIN:VCALENDAR
VERSION:2.0
PRODID:-//Connecting Research - ECPv6.0.5//NONSGML v1.0//EN
CALSCALE:GREGORIAN
METHOD:PUBLISH
X-WR-CALNAME:Connecting Research
X-ORIGINAL-URL:https://research.reading.ac.uk/research-blog
X-WR-CALDESC:Events for Connecting Research
REFRESH-INTERVAL;VALUE=DURATION:PT1H
X-Robots-Tag:noindex
X-PUBLISHED-TTL:PT1H
BEGIN:VTIMEZONE
TZID:Europe/London
BEGIN:DAYLIGHT
TZOFFSETFROM:+0000
TZOFFSETTO:+0100
TZNAME:BST
DTSTART:20200329T010000
END:DAYLIGHT
BEGIN:STANDARD
TZOFFSETFROM:+0100
TZOFFSETTO:+0000
TZNAME:GMT
DTSTART:20201025T010000
END:STANDARD
BEGIN:DAYLIGHT
TZOFFSETFROM:+0000
TZOFFSETTO:+0100
TZNAME:BST
DTSTART:20210328T010000
END:DAYLIGHT
BEGIN:STANDARD
TZOFFSETFROM:+0100
TZOFFSETTO:+0000
TZNAME:GMT
DTSTART:20211031T010000
END:STANDARD
END:VTIMEZONE
BEGIN:VEVENT
DTSTART;TZID=Europe/London:20201218T080000
DTEND;TZID=Europe/London:20210131T233000
DTSTAMP:20260424T135614
CREATED:20201218T100059Z
LAST-MODIFIED:20210104T121847Z
UID:21381-1608278400-1612135800@research.reading.ac.uk
SUMMARY:Home-based reading study - call for families to participate
DESCRIPTION:Do you want to find out more about how your child reads? \nCan home-led reading and writing help close the COVID-19 learning gap that educators report especially for children with literacy difficulties or coming from diverse backgrounds? \nAt the University of Reading we are looking into it with an online study for parents/carers with children of primary-school age. We are looking for families of English-speaking and multilingual children of any reading level. The study will be open between December 2020 and January 2021. \nTake part by the 31 January 2021 to: \n\nReceive individual feedback on your child’s reading profile and expert advice with simple steps that you can do at home to help them improve\nEnter the £50 voucher prize-draw at the end of data collection.\n\nLearn more and participate at: \nhttps://reading.onlinesurveys.ac.uk/reading-activities-and-strategy-use-at-home-for-familiesc \nFor queries\, please contact the lead researcher Anna Tsakalaki: a.tsakalaki@reading.ac.uk
URL:https://research.reading.ac.uk/research-blog/event/home-based-reading-study-call-for-families-to-participate/
CATEGORIES:Prosperity & Resilience
ORGANIZER;CN="Dr%20Anna%20Tsakalaki%2C%20School%20of%20Education":MAILTO:a.tsakalaki@reading.ac.uk
END:VEVENT
END:VCALENDAR