BEGIN:VCALENDAR
VERSION:2.0
PRODID:-//Connecting Research - ECPv6.0.5//NONSGML v1.0//EN
CALSCALE:GREGORIAN
METHOD:PUBLISH
X-WR-CALNAME:Connecting Research
X-ORIGINAL-URL:https://research.reading.ac.uk/research-blog
X-WR-CALDESC:Events for Connecting Research
REFRESH-INTERVAL;VALUE=DURATION:PT1H
X-Robots-Tag:noindex
X-PUBLISHED-TTL:PT1H
BEGIN:VTIMEZONE
TZID:Europe/London
BEGIN:DAYLIGHT
TZOFFSETFROM:+0000
TZOFFSETTO:+0100
TZNAME:BST
DTSTART:20220327T010000
END:DAYLIGHT
BEGIN:STANDARD
TZOFFSETFROM:+0100
TZOFFSETTO:+0000
TZNAME:GMT
DTSTART:20221030T010000
END:STANDARD
END:VTIMEZONE
BEGIN:VEVENT
DTSTART;TZID=Europe/London:20221027T100000
DTEND;TZID=Europe/London:20221027T120000
DTSTAMP:20260421T183927
CREATED:20221014T160110Z
LAST-MODIFIED:20221014T160110Z
UID:25028-1666864800-1666872000@research.reading.ac.uk
SUMMARY:Open Research Forum
DESCRIPTION:Everything you want to know about Open Access but were too afraid to ask\n  \nBook your place at this Open Research Forum using this link \nTalks will be delivered by the Research Engagement Team from the Library.   \nStay for the full programme or just drop in for the sessions that you are interested in.   \n  \nProgramme   \n10.00-10.05 Introduction to the event and outline of the sessions   \n10.05-10.20 What is Open Access?\nWhat is Open Access?\, What’s the difference between Green and Gold Open Access?\, why is it important?\, who benefits?\, what’s in it for me?  \n10.20-10.35 CentAUR and the Green Open Access Route\nHow the University’s institutional repository can help you make your outputs Open Access via the Green route  \n10.35-10.50 Going for Gold – what does publishing Gold Open Access involve?\nWhat are Pure Gold and Hybrid Gold journals\, Creative Commons Licences\, finding Gold Open Access journals.   \n10.50-11.00 Short break for questions/catch-up  \n11.00-11.15 Paying for Gold Open Access at University of Reading\nWhat is funded\, who can apply for funding\, how to apply for funding\, finding journals in our publisher deals via the new SciFree tool.   \n11.15-11.30 Funder requirements for Open Access\nUKRI funder requirements and how to comply with them\, finding suitable journals\, navigating the Green Open Access route for funder compliance   \n11.30-11.40 Avoiding the Sharks – how to choose a reputable Open Access journal\nBasic checks to make sure that the journal you are submitting your manuscript to is a reputable one.   \n11.40-11.50 Open Access for PhD theses\nHow you can make sure your (or your students’) research is open once the PhD is completed.   \n11.50-12.00 Time for questions and closing remarks  
URL:https://research.reading.ac.uk/research-blog/event/open-research-forum-4/
LOCATION:Online
END:VEVENT
END:VCALENDAR