BEGIN:VCALENDAR
VERSION:2.0
PRODID:-//Connecting Research - ECPv6.0.5//NONSGML v1.0//EN
CALSCALE:GREGORIAN
METHOD:PUBLISH
X-WR-CALNAME:Connecting Research
X-ORIGINAL-URL:https://research.reading.ac.uk/research-blog
X-WR-CALDESC:Events for Connecting Research
REFRESH-INTERVAL;VALUE=DURATION:PT1H
X-Robots-Tag:noindex
X-PUBLISHED-TTL:PT1H
BEGIN:VTIMEZONE
TZID:Europe/London
BEGIN:DAYLIGHT
TZOFFSETFROM:+0000
TZOFFSETTO:+0100
TZNAME:BST
DTSTART:20220327T010000
END:DAYLIGHT
BEGIN:STANDARD
TZOFFSETFROM:+0100
TZOFFSETTO:+0000
TZNAME:GMT
DTSTART:20221030T010000
END:STANDARD
END:VTIMEZONE
BEGIN:VEVENT
DTSTART;TZID=Europe/London:20220309T130000
DTEND;TZID=Europe/London:20220309T143000
DTSTAMP:20260423T055658
CREATED:20220302T151141Z
LAST-MODIFIED:20230208T094157Z
UID:23644-1646830800-1646836200@research.reading.ac.uk
SUMMARY:Open Research Forum
DESCRIPTION:The next Open Research Forum will take place on Wednesday 9th March at 13.00-14.30. \nIf you want to get a flavour of the Open Research Champions community and listen to some great talks on Open Research topics\, come along to the next meeting of the Open Research Forum. We have a great line-up of talks: \n\nErsilia\, a hub of Open Source AI/ML models for infectious and neglected diseases (Gemma Turon\, Software Sustainability Institute Fellow/co-founder and CEO\, Ersilia Open Source Initiative)\nOne Image: Exploring Open Source Digital Imaging for Research (Eva Kevei\, Associate Professor\, Biomedical Sciences)\nAnnotating for Transparent Inquiry in qualitative research: making archival documents accessible (Joseph O’Mahoney\, Lecturer\, Politics\, Economics and International Relations)\n\nYou are welcome to dip in and out if a particular talk is of interest. \nVisit the event page for full details or book your place now at the Open Research Forum.
URL:https://research.reading.ac.uk/research-blog/event/open-research-forum-3/
LOCATION:Online event
CATEGORIES:Agriculture, Food & Health,Environment,Heritage & Creativity,Prosperity & Resilience
END:VEVENT
END:VCALENDAR