BEGIN:VCALENDAR
VERSION:2.0
PRODID:-//Connecting Research - ECPv6.0.5//NONSGML v1.0//EN
CALSCALE:GREGORIAN
METHOD:PUBLISH
X-WR-CALNAME:Connecting Research
X-ORIGINAL-URL:https://research.reading.ac.uk/research-blog
X-WR-CALDESC:Events for Connecting Research
REFRESH-INTERVAL;VALUE=DURATION:PT1H
X-Robots-Tag:noindex
X-PUBLISHED-TTL:PT1H
BEGIN:VTIMEZONE
TZID:Europe/London
BEGIN:DAYLIGHT
TZOFFSETFROM:+0000
TZOFFSETTO:+0100
TZNAME:BST
DTSTART:20230326T010000
END:DAYLIGHT
BEGIN:STANDARD
TZOFFSETFROM:+0100
TZOFFSETTO:+0000
TZNAME:GMT
DTSTART:20231029T010000
END:STANDARD
END:VTIMEZONE
BEGIN:VEVENT
DTSTART;VALUE=DATE:20230615
DTEND;VALUE=DATE:20230617
DTSTAMP:20260421T042156
CREATED:20230323T101254Z
LAST-MODIFIED:20230328T161019Z
UID:27209-1686787200-1686959999@research.reading.ac.uk
SUMMARY:Reading Emotions
DESCRIPTION:[vc_row][vc_column][vc_single_image image=”27244″ img_size=”full”][vc_column_text] \nFluctuation and Change\nImplications for Neurocognitive Development and Psychopathology\nThis year’s edition of Reading Emotions explores how we measure and understand the fluctuations in neural and psychological components of thought and behaviour\, across development and through the course of disorder. \n\nKeynote lectures will examine central themes and latest developments in theory\, methods\, and application\nEarly career researchers will present ongoing work in short talks\nPoster presentations will facilitate the informal exchange of ideas\, with opportunities for feedback and collaboration\nTraining workshops will address empirical and theoretical aspects of the challenge of fluctuation and change\n\nSpeakers:\n\n\n\n\n\nAnastasia Christakou (Chair)\nUniversity of Reading\n\n\nEiko Fried\nLeiden University\n\n\nRogier Kievit\nDonders Institute\, Nijmegen\n\n\nDavid Lydon-Staley\nUniversity of Pennsylvania\n\n\nArgyris Stringaris\nUniversity College London\n\n\nPatrik Vuilleumier\nUniversity of Geneva\n\n\n\n\nSchedule (TBC)\n\nSubmit an abstract for Reading Emotions\n\nRegister for Reading Emotions\n\n\n\n\n\n[/vc_column_text][vc_column_text]Plus ECR short talks\, research posters\, workshops and debates. \nSubmit your work and/or register to let us know you are coming (free for UoR staff and students). For details: https://sites.google.com/site/readingemotions/ \nWhat: We established Reading Emotions as a small\, specialist symposium in affective neuroscience with an interdisciplinary outlook in 2012. We tackle a different theme every year\, typically inspired by our current research and/or compelling emerging ideas in the field. We host in the region of 100-150 participants\, although hundreds more have been joining online in recent years. The intimate set-up encourages deep dives in theory and current experimental work\, practical and clinical applications where relevant\, and usually includes an explicit ECR/student training component. Past contributors have included BJ Casey\, Irene Tracey\, Hugo Critchley\, Elaine Fox\, Karl Friston\, Mara Mather\, Randy McIntosh\, Russ Poldrack\, Essi Viding\, Tor Wager\, as well as clinical practitioners\, philosophers\, and on occasion artists and architects. You can read about Reading Emotions\, including the themes and speakers of previous years\, here. \nWhen: The symposium typically takes place over two days in mid- to late June\, with the first day devoted to keynotes and ECR presentations\, and the second day devoted to training workshops and methods presentations. This year’s symposium is on Thursday 15th and Friday 16th June. \nWhere: This year we meet in person at Whiteknights\, our beautiful campus in Reading\, and encourage deeper interactions with our students\, colleagues\, and visitors.[/vc_column_text][/vc_column][/vc_row][vc_row][vc_column width=”1/2″][vc_single_image image=”27214″ img_size=”medium”][/vc_column][vc_column width=”1/2″][vc_single_image image=”27215″ img_size=”medium”][/vc_column][/vc_row]
URL:https://research.reading.ac.uk/research-blog/event/reading-emotions-2/
LOCATION:University of Reading\, RG6 6UR 
CATEGORIES:Agriculture, Food & Health
END:VEVENT
END:VCALENDAR