BEGIN:VCALENDAR
VERSION:2.0
PRODID:-//Connecting Research - ECPv6.0.5//NONSGML v1.0//EN
CALSCALE:GREGORIAN
METHOD:PUBLISH
X-WR-CALNAME:Connecting Research
X-ORIGINAL-URL:https://research.reading.ac.uk/research-blog
X-WR-CALDESC:Events for Connecting Research
REFRESH-INTERVAL;VALUE=DURATION:PT1H
X-Robots-Tag:noindex
X-PUBLISHED-TTL:PT1H
BEGIN:VTIMEZONE
TZID:Europe/London
BEGIN:DAYLIGHT
TZOFFSETFROM:+0000
TZOFFSETTO:+0100
TZNAME:BST
DTSTART:20210328T010000
END:DAYLIGHT
BEGIN:STANDARD
TZOFFSETFROM:+0100
TZOFFSETTO:+0000
TZNAME:GMT
DTSTART:20211031T010000
END:STANDARD
END:VTIMEZONE
BEGIN:VEVENT
DTSTART;TZID=Europe/London:20210706T111500
DTEND;TZID=Europe/London:20210706T130000
DTSTAMP:20260425T232702
CREATED:20210623T101514Z
LAST-MODIFIED:20230208T152320Z
UID:22142-1625570100-1625576400@research.reading.ac.uk
SUMMARY:Research into action: Learning from REF 2021
DESCRIPTION:Come and join us on Tuesday 6 July from 11.15 to 13.00 for our annual celebration of research engagement and impact across the University. \nOur usual Research Engagement and Impact Awards have been postponed this year because lockdown disrupted so much activity. Instead we are taking the timely opportunity to reflect on our submission to REF2021\, our impact case studies\, and the work of some of our Early Career Researchers. \nThis online celebration will feature an overview of our REF submission and its strengths and highlights from Professor Dominik Zaum\, followed by presentations and discussion of best practice case studies from REF across all our research themes. There will also be a discussion of how we can support engagement and impact in future as part of the new research strategy. We will finish off with the award of the 2021 Early Career Research Output Prizes. \nBook your place now at the Research Engagement and Impact online celebration. A link to log in to the event will be sent nearer the time. \nOutline programme \n\n\n\n1115\nWelcome and Overview of REF Submission \nProfessor Dominik Zaum\, Pro-Vice-Chancellor (Research & Innovation)\n\n\n1130\nImpact case studies: Engagement as best practice\n\n\n1210\nPanel discussion: Pathways to impact – learning from REF 2021\n\n\n1240\nEngaged Research and Excellence: Following on from the REF \nProfessor Parveen Yaqoob\, Pro-Vice-Chancellor (Research & Innovation) \nECR Output Prize Awards presentation\n\n\n1255\nEnds\n\n\n\n  \nPrizes for Early Career Research Outputs 2021 \n\nAgriculture\, Food & Health: Az Alddien Natfji for his article\, ‘Conjugation of haloperidol to PEG allows peripheral localisation of haloperidol and eliminates CNS extrapyramidal effects’\, (Journal of Controlled Release 322 227-235)\nEnvironment: Gyorgy Geher for his article\, ‘Coexistency on Hilbert Space Effect Algebras and a Characterisation of Its Symmetry Transformations’ in Communications in Maths and Physics 379\, 1077–1112 (2020).\nHeritage & Creativity: Lisa Woynarski for her monograph\, Ecodramaturgies: Theatre\, Performance and Climate Change (Palgrave Macmillan\, 2020).\nProsperity & Resilience: Lisa Schopohl for her article\, ‘Female CFOs\, leverage and the moderating role of board diversity and CEO power’ in the Journal of Corporate Finance 101858 (2020) (with Andrew Urquhart and Hanxiong Zhang).\n\n  \n 
URL:https://research.reading.ac.uk/research-blog/event/research-into-action-learning-from-ref-2021/
CATEGORIES:Agriculture, Food & Health,Environment,Heritage & Creativity,Prosperity & Resilience
END:VEVENT
END:VCALENDAR